BEGIN:VCALENDAR
VERSION:2.0
PRODID:-//YGAMETIME.com//YGT iCal Creator//EN
METHOD:PUBLISH
X-PUBLISHED-TTL:PT6H
REFRESH-INTERVAL;VALUE=DURATION:PT6H
CALSCALE:GREGORIAN
X-WR-CALNAME:YGAMETIME CALENDAR
BEGIN:VTIMEZONE
TZID:America/Chicago
X-LIC-LOCATION:America/Chicago
BEGIN:DAYLIGHT
TZOFFSETFROM:-0600
TZOFFSETTO:-0500
TZNAME:CDT
DTSTART:19700308T020000
RRULE:FREQ=YEARLY;BYMONTH=3;BYDAY=2SU
END:DAYLIGHT
BEGIN:STANDARD
TZOFFSETFROM:-0500
TZOFFSETTO:-0600
TZNAME:CST
DTSTART:19701101T020000
RRULE:FREQ=YEARLY;BYMONTH=11;BYDAY=1SU
END:STANDARD
END:VTIMEZONE
BEGIN:VEVENT
UID:moody-272607@ygametime.com
DTSTAMP:20220108T190000Z
DTSTART;TZID=America/Chicago:20220108T130000
DURATION:PT0H60M0S
SUMMARY:Armstrong Meghrabi vs Bradfield Petet
DESCRIPTION:3rd Grade Girls Red Division | Basketball\nMoody Family YMCA\n
URL;VALUE=URI:https://ygametime.com/branch/moody/sports/2021-winter-basketball/11741/?utm_medium=calendar&utm_source=team_cal&utm_content=league_url#game-272607
LOCATION:Boone Elementary
BEGIN:VALARM
TRIGGER:-P2H
ACTION:DISPLAY
DESCRIPTION:Armstrong Meghrabi vs Bradfield Petet
END:VALARM
END:VEVENT
BEGIN:VEVENT
UID:moody-272611@ygametime.com
DTSTAMP:20220115T190000Z
DTSTART;TZID=America/Chicago:20220115T130000
DURATION:PT0H60M0S
SUMMARY:Hyer-Schulte vs Armstrong Meghrabi
DESCRIPTION:3rd Grade Girls Red Division | Basketball\nMoody Family YMCA\n
URL;VALUE=URI:https://ygametime.com/branch/moody/sports/2021-winter-basketball/11741/?utm_medium=calendar&utm_source=team_cal&utm_content=league_url#game-272611
LOCATION:Boone Elementary
BEGIN:VALARM
TRIGGER:-P2H
ACTION:DISPLAY
DESCRIPTION:Hyer-Schulte vs Armstrong Meghrabi
END:VALARM
END:VEVENT
BEGIN:VEVENT
UID:moody-272614@ygametime.com
DTSTAMP:20220122T170000Z
DTSTART;TZID=America/Chicago:20220122T110000
DURATION:PT0H60M0S
SUMMARY:Armstrong Meghrabi vs Boone Blue Johnson
DESCRIPTION:3rd Grade Girls Red Division | Basketball\nMoody Family YMCA\n
URL;VALUE=URI:https://ygametime.com/branch/moody/sports/2021-winter-basketball/11741/?utm_medium=calendar&utm_source=team_cal&utm_content=league_url#game-272614
LOCATION:Boone Elementary
BEGIN:VALARM
TRIGGER:-P2H
ACTION:DISPLAY
DESCRIPTION:Armstrong Meghrabi vs Boone Blue Johnson
END:VALARM
END:VEVENT
BEGIN:VEVENT
UID:moody-272620@ygametime.com
DTSTAMP:20220129T200000Z
DTSTART;TZID=America/Chicago:20220129T140000
DURATION:PT0H60M0S
SUMMARY:Providence Adams vs Armstrong Meghrabi
DESCRIPTION:3rd Grade Girls Red Division | Basketball\nMoody Family YMCA\n
URL;VALUE=URI:https://ygametime.com/branch/moody/sports/2021-winter-basketball/11741/?utm_medium=calendar&utm_source=team_cal&utm_content=league_url#game-272620
LOCATION:Boone Elementary
BEGIN:VALARM
TRIGGER:-P2H
ACTION:DISPLAY
DESCRIPTION:Providence Adams vs Armstrong Meghrabi
END:VALARM
END:VEVENT
BEGIN:VEVENT
UID:moody-272622@ygametime.com
DTSTAMP:20220212T180000Z
DTSTART;TZID=America/Chicago:20220212T120000
DURATION:PT0H60M0S
SUMMARY:Armstrong Meghrabi vs Hyer Lackowski
DESCRIPTION:3rd Grade Girls Red Division | Basketball\nMoody Family YMCA\n
URL;VALUE=URI:https://ygametime.com/branch/moody/sports/2021-winter-basketball/11741/?utm_medium=calendar&utm_source=team_cal&utm_content=league_url#game-272622
LOCATION:Boone Elementary
BEGIN:VALARM
TRIGGER:-P2H
ACTION:DISPLAY
DESCRIPTION:Armstrong Meghrabi vs Hyer Lackowski
END:VALARM
END:VEVENT
END:VCALENDAR

