BEGIN:VCALENDAR
VERSION:2.0
PRODID:-//YGAMETIME.com//YGT iCal Creator//EN
METHOD:PUBLISH
X-PUBLISHED-TTL:PT6H
REFRESH-INTERVAL;VALUE=DURATION:PT6H
CALSCALE:GREGORIAN
X-WR-CALNAME:YGAMETIME CALENDAR
BEGIN:VTIMEZONE
TZID:America/Chicago
X-LIC-LOCATION:America/Chicago
BEGIN:DAYLIGHT
TZOFFSETFROM:-0600
TZOFFSETTO:-0500
TZNAME:CDT
DTSTART:19700308T020000
RRULE:FREQ=YEARLY;BYMONTH=3;BYDAY=2SU
END:DAYLIGHT
BEGIN:STANDARD
TZOFFSETFROM:-0500
TZOFFSETTO:-0600
TZNAME:CST
DTSTART:19701101T020000
RRULE:FREQ=YEARLY;BYMONTH=11;BYDAY=1SU
END:STANDARD
END:VTIMEZONE
BEGIN:VEVENT
UID:moody-272628@ygametime.com
DTSTAMP:20220114T000000Z
DTSTART;TZID=America/Chicago:20220113T180000
DURATION:PT0H60M0S
SUMMARY:UP Smith/Brack vs Providence Wilson
DESCRIPTION:4th Grade Girls Red Division | Basketball\nMoody Family YMCA\n
URL;VALUE=URI:https://ygametime.com/branch/moody/sports/2021-winter-basketball/11745/?utm_medium=calendar&utm_source=team_cal&utm_content=league_url#game-272628
LOCATION:Moody North Gym
BEGIN:VALARM
TRIGGER:-P2H
ACTION:DISPLAY
DESCRIPTION:UP Smith/Brack vs Providence Wilson
END:VALARM
END:VEVENT
BEGIN:VEVENT
UID:moody-272633@ygametime.com
DTSTAMP:20220115T160000Z
DTSTART;TZID=America/Chicago:20220115T100000
DURATION:PT0H60M0S
SUMMARY:ESD Mathes vs UP Smith/Brack
DESCRIPTION:4th Grade Girls Red Division | Basketball\nMoody Family YMCA\n
URL;VALUE=URI:https://ygametime.com/branch/moody/sports/2021-winter-basketball/11745/?utm_medium=calendar&utm_source=team_cal&utm_content=league_url#game-272633
LOCATION:McCulloch West Gym
BEGIN:VALARM
TRIGGER:-P2H
ACTION:DISPLAY
DESCRIPTION:ESD Mathes vs UP Smith/Brack
END:VALARM
END:VEVENT
BEGIN:VEVENT
UID:moody-272638@ygametime.com
DTSTAMP:20220122T160000Z
DTSTART;TZID=America/Chicago:20220122T100000
DURATION:PT0H60M0S
SUMMARY:UP Smith/Brack vs Bradfield Fidler
DESCRIPTION:4th Grade Girls Red Division | Basketball\nMoody Family YMCA\n
URL;VALUE=URI:https://ygametime.com/branch/moody/sports/2021-winter-basketball/11745/?utm_medium=calendar&utm_source=team_cal&utm_content=league_url#game-272638
LOCATION:McCulloch West Gym
BEGIN:VALARM
TRIGGER:-P2H
ACTION:DISPLAY
DESCRIPTION:UP Smith/Brack vs Bradfield Fidler
END:VALARM
END:VEVENT
BEGIN:VEVENT
UID:moody-272642@ygametime.com
DTSTAMP:20220129T150000Z
DTSTART;TZID=America/Chicago:20220129T090000
DURATION:PT0H60M0S
SUMMARY:Bradfield Bowen vs UP Smith/Brack
DESCRIPTION:4th Grade Girls Red Division | Basketball\nMoody Family YMCA\n
URL;VALUE=URI:https://ygametime.com/branch/moody/sports/2021-winter-basketball/11745/?utm_medium=calendar&utm_source=team_cal&utm_content=league_url#game-272642
LOCATION:McCulloch West Gym
BEGIN:VALARM
TRIGGER:-P2H
ACTION:DISPLAY
DESCRIPTION:Bradfield Bowen vs UP Smith/Brack
END:VALARM
END:VEVENT
END:VCALENDAR

