BEGIN:VCALENDAR
VERSION:2.0
PRODID:-//YGAMETIME.com//YGT iCal Creator//EN
METHOD:PUBLISH
X-PUBLISHED-TTL:PT6H
REFRESH-INTERVAL;VALUE=DURATION:PT6H
CALSCALE:GREGORIAN
X-WR-CALNAME:YGAMETIME CALENDAR
BEGIN:VTIMEZONE
TZID:America/Chicago
X-LIC-LOCATION:America/Chicago
BEGIN:DAYLIGHT
TZOFFSETFROM:-0600
TZOFFSETTO:-0500
TZNAME:CDT
DTSTART:19700308T020000
RRULE:FREQ=YEARLY;BYMONTH=3;BYDAY=2SU
END:DAYLIGHT
BEGIN:STANDARD
TZOFFSETFROM:-0500
TZOFFSETTO:-0600
TZNAME:CST
DTSTART:19701101T020000
RRULE:FREQ=YEARLY;BYMONTH=11;BYDAY=1SU
END:STANDARD
END:VTIMEZONE
BEGIN:VEVENT
UID:moody-272630@ygametime.com
DTSTAMP:20220114T011500Z
DTSTART;TZID=America/Chicago:20220113T191500
DURATION:PT0H60M0S
SUMMARY:Armstrong Nerenberg vs ESD Mathes
DESCRIPTION:4th Grade Girls Red Division | Basketball\nMoody Family YMCA\n
URL;VALUE=URI:https://ygametime.com/branch/moody/sports/2021-winter-basketball/11745/?utm_medium=calendar&utm_source=team_cal&utm_content=league_url#game-272630
LOCATION:Bradfield Elementary
BEGIN:VALARM
TRIGGER:-P2H
ACTION:DISPLAY
DESCRIPTION:Armstrong Nerenberg vs ESD Mathes
END:VALARM
END:VEVENT
BEGIN:VEVENT
UID:moody-272637@ygametime.com
DTSTAMP:20220122T150000Z
DTSTART;TZID=America/Chicago:20220122T090000
DURATION:PT0H60M0S
SUMMARY:Armstrong Nerenberg vs Bradfield Bowen
DESCRIPTION:4th Grade Girls Red Division | Basketball\nMoody Family YMCA\n
URL;VALUE=URI:https://ygametime.com/branch/moody/sports/2021-winter-basketball/11745/?utm_medium=calendar&utm_source=team_cal&utm_content=league_url#game-272637
LOCATION:McCulloch West Gym
BEGIN:VALARM
TRIGGER:-P2H
ACTION:DISPLAY
DESCRIPTION:Armstrong Nerenberg vs Bradfield Bowen
END:VALARM
END:VEVENT
BEGIN:VEVENT
UID:moody-272634@ygametime.com
DTSTAMP:20220125T230000Z
DTSTART;TZID=America/Chicago:20220125T170000
DURATION:PT0H60M0S
SUMMARY:Bradfield Fidler vs Armstrong Nerenberg
DESCRIPTION:4th Grade Girls Red Division | Basketball\nMoody Family YMCA\n
URL;VALUE=URI:https://ygametime.com/branch/moody/sports/2021-winter-basketball/11745/?utm_medium=calendar&utm_source=team_cal&utm_content=league_url#game-272634
LOCATION:Moody North Gym
BEGIN:VALARM
TRIGGER:-P2H
ACTION:DISPLAY
DESCRIPTION:Bradfield Fidler vs Armstrong Nerenberg
END:VALARM
END:VEVENT
BEGIN:VEVENT
UID:moody-272645@ygametime.com
DTSTAMP:20220129T180000Z
DTSTART;TZID=America/Chicago:20220129T120000
DURATION:PT0H60M0S
SUMMARY:ESD-Schumacher vs Armstrong Nerenberg
DESCRIPTION:4th Grade Girls Red Division | Basketball\nMoody Family YMCA\n
URL;VALUE=URI:https://ygametime.com/branch/moody/sports/2021-winter-basketball/11745/?utm_medium=calendar&utm_source=team_cal&utm_content=league_url#game-272645
LOCATION:McCulloch West Gym
BEGIN:VALARM
TRIGGER:-P2H
ACTION:DISPLAY
DESCRIPTION:ESD-Schumacher vs Armstrong Nerenberg
END:VALARM
END:VEVENT
END:VCALENDAR

