BEGIN:VCALENDAR
VERSION:2.0
PRODID:-//YGAMETIME.com//YGT iCal Creator//EN
METHOD:PUBLISH
X-PUBLISHED-TTL:PT6H
REFRESH-INTERVAL;VALUE=DURATION:PT6H
CALSCALE:GREGORIAN
X-WR-CALNAME:YGAMETIME CALENDAR
BEGIN:VTIMEZONE
TZID:America/Chicago
X-LIC-LOCATION:America/Chicago
BEGIN:DAYLIGHT
TZOFFSETFROM:-0600
TZOFFSETTO:-0500
TZNAME:CDT
DTSTART:19700308T020000
RRULE:FREQ=YEARLY;BYMONTH=3;BYDAY=2SU
END:DAYLIGHT
BEGIN:STANDARD
TZOFFSETFROM:-0500
TZOFFSETTO:-0600
TZNAME:CST
DTSTART:19701101T020000
RRULE:FREQ=YEARLY;BYMONTH=11;BYDAY=1SU
END:STANDARD
END:VTIMEZONE
BEGIN:VEVENT
UID:moody-272653@ygametime.com
DTSTAMP:20220115T200000Z
DTSTART;TZID=America/Chicago:20220115T140000
DURATION:PT0H60M0S
SUMMARY:UP Mundinger vs Preston Hollow 
DESCRIPTION:4th Grade Girls Blue Division | Basketball\nMoody Family YMCA\n
URL;VALUE=URI:https://ygametime.com/branch/moody/sports/2021-winter-basketball/11744/?utm_medium=calendar&utm_source=team_cal&utm_content=league_url#game-272653
LOCATION:McCulloch East Gym
BEGIN:VALARM
TRIGGER:-P2H
ACTION:DISPLAY
DESCRIPTION:UP Mundinger vs Preston Hollow 
END:VALARM
END:VEVENT
BEGIN:VEVENT
UID:moody-272648@ygametime.com
DTSTAMP:20220122T000000Z
DTSTART;TZID=America/Chicago:20220121T180000
DURATION:PT0H60M0S
SUMMARY:Preston Hollow  vs Hyer Scovell
DESCRIPTION:4th Grade Girls Blue Division | Basketball\nMoody Family YMCA\n
URL;VALUE=URI:https://ygametime.com/branch/moody/sports/2021-winter-basketball/11744/?utm_medium=calendar&utm_source=team_cal&utm_content=league_url#game-272648
LOCATION:Moody North Gym
BEGIN:VALARM
TRIGGER:-P2H
ACTION:DISPLAY
DESCRIPTION:Preston Hollow  vs Hyer Scovell
END:VALARM
END:VEVENT
BEGIN:VEVENT
UID:moody-272657@ygametime.com
DTSTAMP:20220122T200000Z
DTSTART;TZID=America/Chicago:20220122T140000
DURATION:PT0H60M0S
SUMMARY:Preston Hollow  vs Brad-Neale
DESCRIPTION:4th Grade Girls Blue Division | Basketball\nMoody Family YMCA\n
URL;VALUE=URI:https://ygametime.com/branch/moody/sports/2021-winter-basketball/11744/?utm_medium=calendar&utm_source=team_cal&utm_content=league_url#game-272657
LOCATION:McCulloch West Gym
BEGIN:VALARM
TRIGGER:-P2H
ACTION:DISPLAY
DESCRIPTION:Preston Hollow  vs Brad-Neale
END:VALARM
END:VEVENT
BEGIN:VEVENT
UID:moody-272666@ygametime.com
DTSTAMP:20220125T000000Z
DTSTART;TZID=America/Chicago:20220124T180000
DURATION:PT0H60M0S
SUMMARY:Preston Hollow  vs Providence Hill
DESCRIPTION:4th Grade Girls Blue Division | Basketball\nMoody Family YMCA\n
URL;VALUE=URI:https://ygametime.com/branch/moody/sports/2021-winter-basketball/11744/?utm_medium=calendar&utm_source=team_cal&utm_content=league_url#game-272666
LOCATION:Moody North Gym
BEGIN:VALARM
TRIGGER:-P2H
ACTION:DISPLAY
DESCRIPTION:Preston Hollow  vs Providence Hill
END:VALARM
END:VEVENT
BEGIN:VEVENT
UID:moody-272662@ygametime.com
DTSTAMP:20220129T200000Z
DTSTART;TZID=America/Chicago:20220129T140000
DURATION:PT0H60M0S
SUMMARY:Armstrong Duhon vs Preston Hollow 
DESCRIPTION:4th Grade Girls Blue Division | Basketball\nMoody Family YMCA\n
URL;VALUE=URI:https://ygametime.com/branch/moody/sports/2021-winter-basketball/11744/?utm_medium=calendar&utm_source=team_cal&utm_content=league_url#game-272662
LOCATION:McCulloch West Gym
BEGIN:VALARM
TRIGGER:-P2H
ACTION:DISPLAY
DESCRIPTION:Armstrong Duhon vs Preston Hollow 
END:VALARM
END:VEVENT
END:VCALENDAR

