BEGIN:VCALENDAR
VERSION:2.0
PRODID:-//YGAMETIME.com//YGT iCal Creator//EN
METHOD:PUBLISH
X-PUBLISHED-TTL:PT6H
REFRESH-INTERVAL;VALUE=DURATION:PT6H
CALSCALE:GREGORIAN
X-WR-CALNAME:YGAMETIME CALENDAR
BEGIN:VTIMEZONE
TZID:America/Chicago
X-LIC-LOCATION:America/Chicago
BEGIN:DAYLIGHT
TZOFFSETFROM:-0600
TZOFFSETTO:-0500
TZNAME:CDT
DTSTART:19700308T020000
RRULE:FREQ=YEARLY;BYMONTH=3;BYDAY=2SU
END:DAYLIGHT
BEGIN:STANDARD
TZOFFSETFROM:-0500
TZOFFSETTO:-0600
TZNAME:CST
DTSTART:19701101T020000
RRULE:FREQ=YEARLY;BYMONTH=11;BYDAY=1SU
END:STANDARD
END:VTIMEZONE
BEGIN:VEVENT
UID:moody-272673@ygametime.com
DTSTAMP:20220115T140000Z
DTSTART;TZID=America/Chicago:20220115T080000
DURATION:PT0H60M0S
SUMMARY:4B ESD-Cook vs 4B Brad-Cutshall
DESCRIPTION:4th Grade Boys Red Division | Basketball\nMoody Family YMCA\n
URL;VALUE=URI:https://ygametime.com/branch/moody/sports/2021-winter-basketball/11743/?utm_medium=calendar&utm_source=team_cal&utm_content=league_url#game-272673
LOCATION:McCulloch East Gym
BEGIN:VALARM
TRIGGER:-P2H
ACTION:DISPLAY
DESCRIPTION:4B ESD-Cook vs 4B Brad-Cutshall
END:VALARM
END:VEVENT
BEGIN:VEVENT
UID:moody-272670@ygametime.com
DTSTAMP:20220120T230000Z
DTSTART;TZID=America/Chicago:20220120T170000
DURATION:PT0H60M0S
SUMMARY:4B Brad-Cutshall vs 4B Arm-Little/Wislon Gold
DESCRIPTION:4th Grade Boys Red Division | Basketball\nMoody Family YMCA\n
URL;VALUE=URI:https://ygametime.com/branch/moody/sports/2021-winter-basketball/11743/?utm_medium=calendar&utm_source=team_cal&utm_content=league_url#game-272670
LOCATION:Moody North Gym
BEGIN:VALARM
TRIGGER:-P2H
ACTION:DISPLAY
DESCRIPTION:4B Brad-Cutshall vs 4B Arm-Little/Wislon Gold
END:VALARM
END:VEVENT
BEGIN:VEVENT
UID:moody-272678@ygametime.com
DTSTAMP:20220122T160000Z
DTSTART;TZID=America/Chicago:20220122T100000
DURATION:PT0H60M0S
SUMMARY:4B Brad-Cutshall vs 4B Boone-Cason
DESCRIPTION:4th Grade Boys Red Division | Basketball\nMoody Family YMCA\n
URL;VALUE=URI:https://ygametime.com/branch/moody/sports/2021-winter-basketball/11743/?utm_medium=calendar&utm_source=team_cal&utm_content=league_url#game-272678
LOCATION:McCulloch East Gym
BEGIN:VALARM
TRIGGER:-P2H
ACTION:DISPLAY
DESCRIPTION:4B Brad-Cutshall vs 4B Boone-Cason
END:VALARM
END:VEVENT
BEGIN:VEVENT
UID:moody-272683@ygametime.com
DTSTAMP:20220125T010000Z
DTSTART;TZID=America/Chicago:20220124T190000
DURATION:PT0H60M0S
SUMMARY:4B Brad-Cutshall vs 4B Brad-Olmstead
DESCRIPTION:4th Grade Boys Red Division | Basketball\nMoody Family YMCA\n
URL;VALUE=URI:https://ygametime.com/branch/moody/sports/2021-winter-basketball/11743/?utm_medium=calendar&utm_source=team_cal&utm_content=league_url#game-272683
LOCATION:Moody North Gym
BEGIN:VALARM
TRIGGER:-P2H
ACTION:DISPLAY
DESCRIPTION:4B Brad-Cutshall vs 4B Brad-Olmstead
END:VALARM
END:VEVENT
BEGIN:VEVENT
UID:moody-272681@ygametime.com
DTSTAMP:20220129T160000Z
DTSTART;TZID=America/Chicago:20220129T100000
DURATION:PT0H60M0S
SUMMARY:4B Arm-Little/Wilson Green vs 4B Brad-Cutshall
DESCRIPTION:4th Grade Boys Red Division | Basketball\nMoody Family YMCA\n
URL;VALUE=URI:https://ygametime.com/branch/moody/sports/2021-winter-basketball/11743/?utm_medium=calendar&utm_source=team_cal&utm_content=league_url#game-272681
LOCATION:McCulloch East Gym
BEGIN:VALARM
TRIGGER:-P2H
ACTION:DISPLAY
DESCRIPTION:4B Arm-Little/Wilson Green vs 4B Brad-Cutshall
END:VALARM
END:VEVENT
END:VCALENDAR

