BEGIN:VCALENDAR
VERSION:2.0
PRODID:-//YGAMETIME.com//YGT iCal Creator//EN
METHOD:PUBLISH
X-PUBLISHED-TTL:PT6H
REFRESH-INTERVAL;VALUE=DURATION:PT6H
CALSCALE:GREGORIAN
X-WR-CALNAME:YGAMETIME CALENDAR
BEGIN:VTIMEZONE
TZID:America/Chicago
X-LIC-LOCATION:America/Chicago
BEGIN:DAYLIGHT
TZOFFSETFROM:-0600
TZOFFSETTO:-0500
TZNAME:CDT
DTSTART:19700308T020000
RRULE:FREQ=YEARLY;BYMONTH=3;BYDAY=2SU
END:DAYLIGHT
BEGIN:STANDARD
TZOFFSETFROM:-0500
TZOFFSETTO:-0600
TZNAME:CST
DTSTART:19701101T020000
RRULE:FREQ=YEARLY;BYMONTH=11;BYDAY=1SU
END:STANDARD
END:VTIMEZONE
BEGIN:VEVENT
UID:moody-272675@ygametime.com
DTSTAMP:20220115T160000Z
DTSTART;TZID=America/Chicago:20220115T100000
DURATION:PT0H60M0S
SUMMARY:4B Arm-Little/Wislon Gold vs 4B Brad-Olmstead
DESCRIPTION:4th Grade Boys Red Division | Basketball\nMoody Family YMCA\n
URL;VALUE=URI:https://ygametime.com/branch/moody/sports/2021-winter-basketball/11743/?utm_medium=calendar&utm_source=team_cal&utm_content=league_url#game-272675
LOCATION:McCulloch East Gym
BEGIN:VALARM
TRIGGER:-P2H
ACTION:DISPLAY
DESCRIPTION:4B Arm-Little/Wislon Gold vs 4B Brad-Olmstead
END:VALARM
END:VEVENT
BEGIN:VEVENT
UID:moody-272671@ygametime.com
DTSTAMP:20220121T000000Z
DTSTART;TZID=America/Chicago:20220120T180000
DURATION:PT0H60M0S
SUMMARY:4B Brad-Olmstead vs 4B Arm-Little/Wilson Green
DESCRIPTION:4th Grade Boys Red Division | Basketball\nMoody Family YMCA\n
URL;VALUE=URI:https://ygametime.com/branch/moody/sports/2021-winter-basketball/11743/?utm_medium=calendar&utm_source=team_cal&utm_content=league_url#game-272671
LOCATION:Moody North Gym
BEGIN:VALARM
TRIGGER:-P2H
ACTION:DISPLAY
DESCRIPTION:4B Brad-Olmstead vs 4B Arm-Little/Wilson Green
END:VALARM
END:VEVENT
BEGIN:VEVENT
UID:moody-272683@ygametime.com
DTSTAMP:20220125T010000Z
DTSTART;TZID=America/Chicago:20220124T190000
DURATION:PT0H60M0S
SUMMARY:4B Brad-Cutshall vs 4B Brad-Olmstead
DESCRIPTION:4th Grade Boys Red Division | Basketball\nMoody Family YMCA\n
URL;VALUE=URI:https://ygametime.com/branch/moody/sports/2021-winter-basketball/11743/?utm_medium=calendar&utm_source=team_cal&utm_content=league_url#game-272683
LOCATION:Moody North Gym
BEGIN:VALARM
TRIGGER:-P2H
ACTION:DISPLAY
DESCRIPTION:4B Brad-Cutshall vs 4B Brad-Olmstead
END:VALARM
END:VEVENT
BEGIN:VEVENT
UID:moody-272680@ygametime.com
DTSTAMP:20220129T150000Z
DTSTART;TZID=America/Chicago:20220129T090000
DURATION:PT0H60M0S
SUMMARY:4B Brad-Olmstead vs 4B Boone-Evans
DESCRIPTION:4th Grade Boys Red Division | Basketball\nMoody Family YMCA\n
URL;VALUE=URI:https://ygametime.com/branch/moody/sports/2021-winter-basketball/11743/?utm_medium=calendar&utm_source=team_cal&utm_content=league_url#game-272680
LOCATION:McCulloch East Gym
BEGIN:VALARM
TRIGGER:-P2H
ACTION:DISPLAY
DESCRIPTION:4B Brad-Olmstead vs 4B Boone-Evans
END:VALARM
END:VEVENT
END:VCALENDAR

