BEGIN:VCALENDAR
VERSION:2.0
PRODID:-//YGAMETIME.com//YGT iCal Creator//EN
METHOD:PUBLISH
X-PUBLISHED-TTL:PT6H
REFRESH-INTERVAL;VALUE=DURATION:PT6H
CALSCALE:GREGORIAN
X-WR-CALNAME:YGAMETIME CALENDAR
BEGIN:VTIMEZONE
TZID:America/Chicago
X-LIC-LOCATION:America/Chicago
BEGIN:DAYLIGHT
TZOFFSETFROM:-0600
TZOFFSETTO:-0500
TZNAME:CDT
DTSTART:19700308T020000
RRULE:FREQ=YEARLY;BYMONTH=3;BYDAY=2SU
END:DAYLIGHT
BEGIN:STANDARD
TZOFFSETFROM:-0500
TZOFFSETTO:-0600
TZNAME:CST
DTSTART:19701101T020000
RRULE:FREQ=YEARLY;BYMONTH=11;BYDAY=1SU
END:STANDARD
END:VTIMEZONE
BEGIN:VEVENT
UID:moody-272673@ygametime.com
DTSTAMP:20220115T140000Z
DTSTART;TZID=America/Chicago:20220115T080000
DURATION:PT0H60M0S
SUMMARY:4B ESD-Cook vs 4B Brad-Cutshall
DESCRIPTION:4th Grade Boys Red Division | Basketball\nMoody Family YMCA\n
URL;VALUE=URI:https://ygametime.com/branch/moody/sports/2021-winter-basketball/11743/?utm_medium=calendar&utm_source=team_cal&utm_content=league_url#game-272673
LOCATION:McCulloch East Gym
BEGIN:VALARM
TRIGGER:-P2H
ACTION:DISPLAY
DESCRIPTION:4B ESD-Cook vs 4B Brad-Cutshall
END:VALARM
END:VEVENT
BEGIN:VEVENT
UID:moody-272672@ygametime.com
DTSTAMP:20220121T010000Z
DTSTART;TZID=America/Chicago:20220120T190000
DURATION:PT0H60M0S
SUMMARY:4B Boone-Evans vs 4B ESD-Cook
DESCRIPTION:4th Grade Boys Red Division | Basketball\nMoody Family YMCA\n
URL;VALUE=URI:https://ygametime.com/branch/moody/sports/2021-winter-basketball/11743/?utm_medium=calendar&utm_source=team_cal&utm_content=league_url#game-272672
LOCATION:Moody North Gym
BEGIN:VALARM
TRIGGER:-P2H
ACTION:DISPLAY
DESCRIPTION:4B Boone-Evans vs 4B ESD-Cook
END:VALARM
END:VEVENT
BEGIN:VEVENT
UID:moody-272677@ygametime.com
DTSTAMP:20220122T150000Z
DTSTART;TZID=America/Chicago:20220122T090000
DURATION:PT0H60M0S
SUMMARY:4B ESD-Cook vs 4B Arm-Little/Wislon Gold
DESCRIPTION:4th Grade Boys Red Division | Basketball\nMoody Family YMCA\n
URL;VALUE=URI:https://ygametime.com/branch/moody/sports/2021-winter-basketball/11743/?utm_medium=calendar&utm_source=team_cal&utm_content=league_url#game-272677
LOCATION:McCulloch East Gym
BEGIN:VALARM
TRIGGER:-P2H
ACTION:DISPLAY
DESCRIPTION:4B ESD-Cook vs 4B Arm-Little/Wislon Gold
END:VALARM
END:VEVENT
BEGIN:VEVENT
UID:moody-272682@ygametime.com
DTSTAMP:20220124T230000Z
DTSTART;TZID=America/Chicago:20220124T170000
DURATION:PT0H60M0S
SUMMARY:4B ESD-Cook vs 4B Arm-Little/Wilson Green
DESCRIPTION:4th Grade Boys Red Division | Basketball\nMoody Family YMCA\n
URL;VALUE=URI:https://ygametime.com/branch/moody/sports/2021-winter-basketball/11743/?utm_medium=calendar&utm_source=team_cal&utm_content=league_url#game-272682
LOCATION:Moody North Gym
BEGIN:VALARM
TRIGGER:-P2H
ACTION:DISPLAY
DESCRIPTION:4B ESD-Cook vs 4B Arm-Little/Wilson Green
END:VALARM
END:VEVENT
BEGIN:VEVENT
UID:moody-272679@ygametime.com
DTSTAMP:20220129T140000Z
DTSTART;TZID=America/Chicago:20220129T080000
DURATION:PT0H60M0S
SUMMARY:4B Boone-Cason vs 4B ESD-Cook
DESCRIPTION:4th Grade Boys Red Division | Basketball\nMoody Family YMCA\n
URL;VALUE=URI:https://ygametime.com/branch/moody/sports/2021-winter-basketball/11743/?utm_medium=calendar&utm_source=team_cal&utm_content=league_url#game-272679
LOCATION:McCulloch East Gym
BEGIN:VALARM
TRIGGER:-P2H
ACTION:DISPLAY
DESCRIPTION:4B Boone-Cason vs 4B ESD-Cook
END:VALARM
END:VEVENT
END:VCALENDAR

