BEGIN:VCALENDAR
VERSION:2.0
PRODID:-//YGAMETIME.com//YGT iCal Creator//EN
METHOD:PUBLISH
X-PUBLISHED-TTL:PT6H
REFRESH-INTERVAL;VALUE=DURATION:PT6H
CALSCALE:GREGORIAN
X-WR-CALNAME:YGAMETIME CALENDAR
BEGIN:VTIMEZONE
TZID:America/Chicago
X-LIC-LOCATION:America/Chicago
BEGIN:DAYLIGHT
TZOFFSETFROM:-0600
TZOFFSETTO:-0500
TZNAME:CDT
DTSTART:19700308T020000
RRULE:FREQ=YEARLY;BYMONTH=3;BYDAY=2SU
END:DAYLIGHT
BEGIN:STANDARD
TZOFFSETFROM:-0500
TZOFFSETTO:-0600
TZNAME:CST
DTSTART:19701101T020000
RRULE:FREQ=YEARLY;BYMONTH=11;BYDAY=1SU
END:STANDARD
END:VTIMEZONE
BEGIN:VEVENT
UID:moody-272689@ygametime.com
DTSTAMP:20220115T180000Z
DTSTART;TZID=America/Chicago:20220115T120000
DURATION:PT0H60M0S
SUMMARY:4B Boone-Eppler vs 4B CKS-Dieckhaus
DESCRIPTION:4th Grade Boys Blue Division | Basketball\nMoody Family YMCA\n
URL;VALUE=URI:https://ygametime.com/branch/moody/sports/2021-winter-basketball/11742/?utm_medium=calendar&utm_source=team_cal&utm_content=league_url#game-272689
LOCATION:McCulloch East Gym
BEGIN:VALARM
TRIGGER:-P2H
ACTION:DISPLAY
DESCRIPTION:4B Boone-Eppler vs 4B CKS-Dieckhaus
END:VALARM
END:VEVENT
BEGIN:VEVENT
UID:moody-272687@ygametime.com
DTSTAMP:20220121T230000Z
DTSTART;TZID=America/Chicago:20220121T170000
DURATION:PT0H60M0S
SUMMARY:4B CKS-Dieckhaus vs 4B UP-Phillips
DESCRIPTION:4th Grade Boys Blue Division | Basketball\nMoody Family YMCA\n
URL;VALUE=URI:https://ygametime.com/branch/moody/sports/2021-winter-basketball/11742/?utm_medium=calendar&utm_source=team_cal&utm_content=league_url#game-272687
LOCATION:Moody North Gym
BEGIN:VALARM
TRIGGER:-P2H
ACTION:DISPLAY
DESCRIPTION:4B CKS-Dieckhaus vs 4B UP-Phillips
END:VALARM
END:VEVENT
BEGIN:VEVENT
UID:moody-272693@ygametime.com
DTSTAMP:20220122T190000Z
DTSTART;TZID=America/Chicago:20220122T130000
DURATION:PT0H60M0S
SUMMARY:4B CKS-Dieckhaus vs 4B Hyer-Bonfield
DESCRIPTION:4th Grade Boys Blue Division | Basketball\nMoody Family YMCA\n
URL;VALUE=URI:https://ygametime.com/branch/moody/sports/2021-winter-basketball/11742/?utm_medium=calendar&utm_source=team_cal&utm_content=league_url#game-272693
LOCATION:McCulloch East Gym
BEGIN:VALARM
TRIGGER:-P2H
ACTION:DISPLAY
DESCRIPTION:4B CKS-Dieckhaus vs 4B Hyer-Bonfield
END:VALARM
END:VEVENT
BEGIN:VEVENT
UID:moody-272694@ygametime.com
DTSTAMP:20220129T170000Z
DTSTART;TZID=America/Chicago:20220129T110000
DURATION:PT0H60M0S
SUMMARY:4B Arm-Silva vs 4B CKS-Dieckhaus
DESCRIPTION:4th Grade Boys Blue Division | Basketball\nMoody Family YMCA\n
URL;VALUE=URI:https://ygametime.com/branch/moody/sports/2021-winter-basketball/11742/?utm_medium=calendar&utm_source=team_cal&utm_content=league_url#game-272694
LOCATION:McCulloch East Gym
BEGIN:VALARM
TRIGGER:-P2H
ACTION:DISPLAY
DESCRIPTION:4B Arm-Silva vs 4B CKS-Dieckhaus
END:VALARM
END:VEVENT
END:VCALENDAR

