BEGIN:VCALENDAR
VERSION:2.0
PRODID:-//YGAMETIME.com//YGT iCal Creator//EN
METHOD:PUBLISH
X-PUBLISHED-TTL:PT6H
REFRESH-INTERVAL;VALUE=DURATION:PT6H
CALSCALE:GREGORIAN
X-WR-CALNAME:YGAMETIME CALENDAR
BEGIN:VTIMEZONE
TZID:America/Chicago
X-LIC-LOCATION:America/Chicago
BEGIN:DAYLIGHT
TZOFFSETFROM:-0600
TZOFFSETTO:-0500
TZNAME:CDT
DTSTART:19700308T020000
RRULE:FREQ=YEARLY;BYMONTH=3;BYDAY=2SU
END:DAYLIGHT
BEGIN:STANDARD
TZOFFSETFROM:-0500
TZOFFSETTO:-0600
TZNAME:CST
DTSTART:19701101T020000
RRULE:FREQ=YEARLY;BYMONTH=11;BYDAY=1SU
END:STANDARD
END:VTIMEZONE
BEGIN:VEVENT
UID:moody-272918@ygametime.com
DTSTAMP:20220108T170000Z
DTSTART;TZID=America/Chicago:20220108T110000
DURATION:PT0H60M0S
SUMMARY:Brad-Crump vs Arm-Katz
DESCRIPTION:3rd Grade Boys Blue Division | Basketball\nMoody Family YMCA\n
URL;VALUE=URI:https://ygametime.com/branch/moody/sports/2021-winter-basketball/11738/?utm_medium=calendar&utm_source=team_cal&utm_content=league_url#game-272918
LOCATION:Hyer Elementary
BEGIN:VALARM
TRIGGER:-P2H
ACTION:DISPLAY
DESCRIPTION:Brad-Crump vs Arm-Katz
END:VALARM
END:VEVENT
BEGIN:VEVENT
UID:moody-272924@ygametime.com
DTSTAMP:20220122T170000Z
DTSTART;TZID=America/Chicago:20220122T110000
DURATION:PT0H60M0S
SUMMARY:Brad-Crump vs Arm-Stapp
DESCRIPTION:3rd Grade Boys Blue Division | Basketball\nMoody Family YMCA\n
URL;VALUE=URI:https://ygametime.com/branch/moody/sports/2021-winter-basketball/11738/?utm_medium=calendar&utm_source=team_cal&utm_content=league_url#game-272924
LOCATION:Moody South Gym
BEGIN:VALARM
TRIGGER:-P2H
ACTION:DISPLAY
DESCRIPTION:Brad-Crump vs Arm-Stapp
END:VALARM
END:VEVENT
BEGIN:VEVENT
UID:moody-272921@ygametime.com
DTSTAMP:20220128T011500Z
DTSTART;TZID=America/Chicago:20220127T191500
DURATION:PT0H60M0S
SUMMARY:Hyer-Kosel vs Brad-Crump
DESCRIPTION:3rd Grade Boys Blue Division | Basketball\nMoody Family YMCA\n
URL;VALUE=URI:https://ygametime.com/branch/moody/sports/2021-winter-basketball/11738/?utm_medium=calendar&utm_source=team_cal&utm_content=league_url#game-272921
LOCATION:Bradfield Elementary
BEGIN:VALARM
TRIGGER:-P2H
ACTION:DISPLAY
DESCRIPTION:Hyer-Kosel vs Brad-Crump
END:VALARM
END:VEVENT
BEGIN:VEVENT
UID:moody-272929@ygametime.com
DTSTAMP:20220129T190000Z
DTSTART;TZID=America/Chicago:20220129T130000
DURATION:PT0H60M0S
SUMMARY:ESD-Moore vs Brad-Crump
DESCRIPTION:3rd Grade Boys Blue Division | Basketball\nMoody Family YMCA\n
URL;VALUE=URI:https://ygametime.com/branch/moody/sports/2021-winter-basketball/11738/?utm_medium=calendar&utm_source=team_cal&utm_content=league_url#game-272929
LOCATION:Moody South Gym
BEGIN:VALARM
TRIGGER:-P2H
ACTION:DISPLAY
DESCRIPTION:ESD-Moore vs Brad-Crump
END:VALARM
END:VEVENT
BEGIN:VEVENT
UID:moody-272930@ygametime.com
DTSTAMP:20220212T170000Z
DTSTART;TZID=America/Chicago:20220212T110000
DURATION:PT0H60M0S
SUMMARY:Brad-Crump vs Boone-Martin
DESCRIPTION:3rd Grade Boys Blue Division | Basketball\nMoody Family YMCA\n
URL;VALUE=URI:https://ygametime.com/branch/moody/sports/2021-winter-basketball/11738/?utm_medium=calendar&utm_source=team_cal&utm_content=league_url#game-272930
LOCATION:Hyer Elementary
BEGIN:VALARM
TRIGGER:-P2H
ACTION:DISPLAY
DESCRIPTION:Brad-Crump vs Boone-Martin
END:VALARM
END:VEVENT
END:VCALENDAR

