BEGIN:VCALENDAR
VERSION:2.0
PRODID:-//YGAMETIME.com//YGT iCal Creator//EN
METHOD:PUBLISH
X-PUBLISHED-TTL:PT6H
REFRESH-INTERVAL;VALUE=DURATION:PT6H
CALSCALE:GREGORIAN
X-WR-CALNAME:YGAMETIME CALENDAR
BEGIN:VTIMEZONE
TZID:America/Chicago
X-LIC-LOCATION:America/Chicago
BEGIN:DAYLIGHT
TZOFFSETFROM:-0600
TZOFFSETTO:-0500
TZNAME:CDT
DTSTART:19700308T020000
RRULE:FREQ=YEARLY;BYMONTH=3;BYDAY=2SU
END:DAYLIGHT
BEGIN:STANDARD
TZOFFSETFROM:-0500
TZOFFSETTO:-0600
TZNAME:CST
DTSTART:19701101T020000
RRULE:FREQ=YEARLY;BYMONTH=11;BYDAY=1SU
END:STANDARD
END:VTIMEZONE
BEGIN:VEVENT
UID:moody-272920@ygametime.com
DTSTAMP:20220108T190000Z
DTSTART;TZID=America/Chicago:20220108T130000
DURATION:PT0H60M0S
SUMMARY:Boone-Martin vs Hyer-Kosel
DESCRIPTION:3rd Grade Boys Blue Division | Basketball\nMoody Family YMCA\n
URL;VALUE=URI:https://ygametime.com/branch/moody/sports/2021-winter-basketball/11738/?utm_medium=calendar&utm_source=team_cal&utm_content=league_url#game-272920
LOCATION:Hyer Elementary
BEGIN:VALARM
TRIGGER:-P2H
ACTION:DISPLAY
DESCRIPTION:Boone-Martin vs Hyer-Kosel
END:VALARM
END:VEVENT
BEGIN:VEVENT
UID:moody-272925@ygametime.com
DTSTAMP:20220122T180000Z
DTSTART;TZID=America/Chicago:20220122T120000
DURATION:PT0H60M0S
SUMMARY:Hyer-Kosel vs Arm-Katz
DESCRIPTION:3rd Grade Boys Blue Division | Basketball\nMoody Family YMCA\n
URL;VALUE=URI:https://ygametime.com/branch/moody/sports/2021-winter-basketball/11738/?utm_medium=calendar&utm_source=team_cal&utm_content=league_url#game-272925
LOCATION:Moody South Gym
BEGIN:VALARM
TRIGGER:-P2H
ACTION:DISPLAY
DESCRIPTION:Hyer-Kosel vs Arm-Katz
END:VALARM
END:VEVENT
BEGIN:VEVENT
UID:moody-272921@ygametime.com
DTSTAMP:20220128T011500Z
DTSTART;TZID=America/Chicago:20220127T191500
DURATION:PT0H60M0S
SUMMARY:Hyer-Kosel vs Brad-Crump
DESCRIPTION:3rd Grade Boys Blue Division | Basketball\nMoody Family YMCA\n
URL;VALUE=URI:https://ygametime.com/branch/moody/sports/2021-winter-basketball/11738/?utm_medium=calendar&utm_source=team_cal&utm_content=league_url#game-272921
LOCATION:Bradfield Elementary
BEGIN:VALARM
TRIGGER:-P2H
ACTION:DISPLAY
DESCRIPTION:Hyer-Kosel vs Brad-Crump
END:VALARM
END:VEVENT
BEGIN:VEVENT
UID:moody-272928@ygametime.com
DTSTAMP:20220129T160000Z
DTSTART;TZID=America/Chicago:20220129T100000
DURATION:PT0H60M0S
SUMMARY:Arm-Stapp vs Hyer-Kosel
DESCRIPTION:3rd Grade Boys Blue Division | Basketball\nMoody Family YMCA\n
URL;VALUE=URI:https://ygametime.com/branch/moody/sports/2021-winter-basketball/11738/?utm_medium=calendar&utm_source=team_cal&utm_content=league_url#game-272928
LOCATION:Moody South Gym
BEGIN:VALARM
TRIGGER:-P2H
ACTION:DISPLAY
DESCRIPTION:Arm-Stapp vs Hyer-Kosel
END:VALARM
END:VEVENT
BEGIN:VEVENT
UID:moody-272931@ygametime.com
DTSTAMP:20220212T180000Z
DTSTART;TZID=America/Chicago:20220212T120000
DURATION:PT0H60M0S
SUMMARY:Hyer-Kosel vs ESD-Moore
DESCRIPTION:3rd Grade Boys Blue Division | Basketball\nMoody Family YMCA\n
URL;VALUE=URI:https://ygametime.com/branch/moody/sports/2021-winter-basketball/11738/?utm_medium=calendar&utm_source=team_cal&utm_content=league_url#game-272931
LOCATION:Hyer Elementary
BEGIN:VALARM
TRIGGER:-P2H
ACTION:DISPLAY
DESCRIPTION:Hyer-Kosel vs ESD-Moore
END:VALARM
END:VEVENT
END:VCALENDAR

