BEGIN:VCALENDAR
VERSION:2.0
PRODID:-//YGAMETIME.com//YGT iCal Creator//EN
METHOD:PUBLISH
X-PUBLISHED-TTL:PT6H
REFRESH-INTERVAL;VALUE=DURATION:PT6H
CALSCALE:GREGORIAN
X-WR-CALNAME:YGAMETIME CALENDAR
BEGIN:VTIMEZONE
TZID:America/Chicago
X-LIC-LOCATION:America/Chicago
BEGIN:DAYLIGHT
TZOFFSETFROM:-0600
TZOFFSETTO:-0500
TZNAME:CDT
DTSTART:19700308T020000
RRULE:FREQ=YEARLY;BYMONTH=3;BYDAY=2SU
END:DAYLIGHT
BEGIN:STANDARD
TZOFFSETFROM:-0500
TZOFFSETTO:-0600
TZNAME:CST
DTSTART:19701101T020000
RRULE:FREQ=YEARLY;BYMONTH=11;BYDAY=1SU
END:STANDARD
END:VTIMEZONE
BEGIN:VEVENT
UID:moody-272900@ygametime.com
DTSTAMP:20220108T160000Z
DTSTART;TZID=America/Chicago:20220108T100000
DURATION:PT0H60M0S
SUMMARY:ESD-Cohen vs UP-McHugh
DESCRIPTION:3rd Grade Boys Red Division | Basketball\nMoody Family YMCA\n
URL;VALUE=URI:https://ygametime.com/branch/moody/sports/2021-winter-basketball/11739/?utm_medium=calendar&utm_source=team_cal&utm_content=league_url#game-272900
LOCATION:Hyer Elementary
BEGIN:VALARM
TRIGGER:-P2H
ACTION:DISPLAY
DESCRIPTION:ESD-Cohen vs UP-McHugh
END:VALARM
END:VEVENT
BEGIN:VEVENT
UID:moody-272904@ygametime.com
DTSTAMP:20220115T160000Z
DTSTART;TZID=America/Chicago:20220115T100000
DURATION:PT0H60M0S
SUMMARY:Hyer-Schulte vs ESD-Cohen
DESCRIPTION:3rd Grade Boys Red Division | Basketball\nMoody Family YMCA\n
URL;VALUE=URI:https://ygametime.com/branch/moody/sports/2021-winter-basketball/11739/?utm_medium=calendar&utm_source=team_cal&utm_content=league_url#game-272904
LOCATION:Hyer Elementary
BEGIN:VALARM
TRIGGER:-P2H
ACTION:DISPLAY
DESCRIPTION:Hyer-Schulte vs ESD-Cohen
END:VALARM
END:VEVENT
BEGIN:VEVENT
UID:moody-272907@ygametime.com
DTSTAMP:20220122T150000Z
DTSTART;TZID=America/Chicago:20220122T090000
DURATION:PT0H60M0S
SUMMARY:ESD-Cohen vs CKS-Hood
DESCRIPTION:3rd Grade Boys Red Division | Basketball\nMoody Family YMCA\n
URL;VALUE=URI:https://ygametime.com/branch/moody/sports/2021-winter-basketball/11739/?utm_medium=calendar&utm_source=team_cal&utm_content=league_url#game-272907
LOCATION:Moody South Gym
BEGIN:VALARM
TRIGGER:-P2H
ACTION:DISPLAY
DESCRIPTION:ESD-Cohen vs CKS-Hood
END:VALARM
END:VEVENT
BEGIN:VEVENT
UID:moody-272913@ygametime.com
DTSTAMP:20220129T140000Z
DTSTART;TZID=America/Chicago:20220129T080000
DURATION:PT0H60M0S
SUMMARY:Prov-Zugaro vs ESD-Cohen
DESCRIPTION:3rd Grade Boys Red Division | Basketball\nMoody Family YMCA\n
URL;VALUE=URI:https://ygametime.com/branch/moody/sports/2021-winter-basketball/11739/?utm_medium=calendar&utm_source=team_cal&utm_content=league_url#game-272913
LOCATION:Moody South Gym
BEGIN:VALARM
TRIGGER:-P2H
ACTION:DISPLAY
DESCRIPTION:Prov-Zugaro vs ESD-Cohen
END:VALARM
END:VEVENT
BEGIN:VEVENT
UID:moody-272933@ygametime.com
DTSTAMP:20220131T230000Z
DTSTART;TZID=America/Chicago:20220131T170000
DURATION:PT0H60M0S
SUMMARY:Prov-Beasley vs ESD-Cohen
DESCRIPTION:3rd Grade Boys Red Division | Basketball\nMoody Family YMCA\n
URL;VALUE=URI:https://ygametime.com/branch/moody/sports/2021-winter-basketball/11739/?utm_medium=calendar&utm_source=team_cal&utm_content=league_url#game-272933
LOCATION:Moody North Gym
BEGIN:VALARM
TRIGGER:-P2H
ACTION:DISPLAY
DESCRIPTION:Prov-Beasley vs ESD-Cohen
END:VALARM
END:VEVENT
BEGIN:VEVENT
UID:moody-272915@ygametime.com
DTSTAMP:20220212T150000Z
DTSTART;TZID=America/Chicago:20220212T090000
DURATION:PT0H60M0S
SUMMARY:ESD-Cohen vs UP-Short
DESCRIPTION:3rd Grade Boys Red Division | Basketball\nMoody Family YMCA\n
URL;VALUE=URI:https://ygametime.com/branch/moody/sports/2021-winter-basketball/11739/?utm_medium=calendar&utm_source=team_cal&utm_content=league_url#game-272915
LOCATION:Hyer Elementary
BEGIN:VALARM
TRIGGER:-P2H
ACTION:DISPLAY
DESCRIPTION:ESD-Cohen vs UP-Short
END:VALARM
END:VEVENT
END:VCALENDAR

