BEGIN:VCALENDAR
VERSION:2.0
PRODID:-//YGAMETIME.com//YGT iCal Creator//EN
METHOD:PUBLISH
X-PUBLISHED-TTL:PT6H
REFRESH-INTERVAL;VALUE=DURATION:PT6H
CALSCALE:GREGORIAN
X-WR-CALNAME:YGAMETIME CALENDAR
BEGIN:VTIMEZONE
TZID:America/Chicago
X-LIC-LOCATION:America/Chicago
BEGIN:DAYLIGHT
TZOFFSETFROM:-0600
TZOFFSETTO:-0500
TZNAME:CDT
DTSTART:19700308T020000
RRULE:FREQ=YEARLY;BYMONTH=3;BYDAY=2SU
END:DAYLIGHT
BEGIN:STANDARD
TZOFFSETFROM:-0500
TZOFFSETTO:-0600
TZNAME:CST
DTSTART:19701101T020000
RRULE:FREQ=YEARLY;BYMONTH=11;BYDAY=1SU
END:STANDARD
END:VTIMEZONE
BEGIN:VEVENT
UID:moody-272898@ygametime.com
DTSTAMP:20220108T200000Z
DTSTART;TZID=America/Chicago:20220108T140000
DURATION:PT0H60M0S
SUMMARY:Prov-Beasley vs BYE WEEK
DESCRIPTION:3rd Grade Boys Red Division | Basketball\nMoody Family YMCA\n
URL;VALUE=URI:https://ygametime.com/branch/moody/sports/2021-winter-basketball/11739/?utm_medium=calendar&utm_source=team_cal&utm_content=league_url#game-272898
LOCATION:Hyer Elementary
BEGIN:VALARM
TRIGGER:-P2H
ACTION:DISPLAY
DESCRIPTION:Prov-Beasley vs BYE WEEK
END:VALARM
END:VEVENT
BEGIN:VEVENT
UID:moody-272902@ygametime.com
DTSTAMP:20220115T140000Z
DTSTART;TZID=America/Chicago:20220115T080000
DURATION:PT0H60M0S
SUMMARY:UP-McHugh vs Prov-Beasley
DESCRIPTION:3rd Grade Boys Red Division | Basketball\nMoody Family YMCA\n
URL;VALUE=URI:https://ygametime.com/branch/moody/sports/2021-winter-basketball/11739/?utm_medium=calendar&utm_source=team_cal&utm_content=league_url#game-272902
LOCATION:Hyer Elementary
BEGIN:VALARM
TRIGGER:-P2H
ACTION:DISPLAY
DESCRIPTION:UP-McHugh vs Prov-Beasley
END:VALARM
END:VEVENT
BEGIN:VEVENT
UID:moody-272906@ygametime.com
DTSTAMP:20220122T140000Z
DTSTART;TZID=America/Chicago:20220122T080000
DURATION:PT0H60M0S
SUMMARY:Prov-Beasley vs Hyer-Schulte
DESCRIPTION:3rd Grade Boys Red Division | Basketball\nMoody Family YMCA\n
URL;VALUE=URI:https://ygametime.com/branch/moody/sports/2021-winter-basketball/11739/?utm_medium=calendar&utm_source=team_cal&utm_content=league_url#game-272906
LOCATION:Moody South Gym
BEGIN:VALARM
TRIGGER:-P2H
ACTION:DISPLAY
DESCRIPTION:Prov-Beasley vs Hyer-Schulte
END:VALARM
END:VEVENT
BEGIN:VEVENT
UID:moody-272910@ygametime.com
DTSTAMP:20220129T180000Z
DTSTART;TZID=America/Chicago:20220129T120000
DURATION:PT0H60M0S
SUMMARY:CKS-Hood vs Prov-Beasley
DESCRIPTION:3rd Grade Boys Red Division | Basketball\nMoody Family YMCA\n
URL;VALUE=URI:https://ygametime.com/branch/moody/sports/2021-winter-basketball/11739/?utm_medium=calendar&utm_source=team_cal&utm_content=league_url#game-272910
LOCATION:Moody South Gym
BEGIN:VALARM
TRIGGER:-P2H
ACTION:DISPLAY
DESCRIPTION:CKS-Hood vs Prov-Beasley
END:VALARM
END:VEVENT
BEGIN:VEVENT
UID:moody-272933@ygametime.com
DTSTAMP:20220131T230000Z
DTSTART;TZID=America/Chicago:20220131T170000
DURATION:PT0H60M0S
SUMMARY:Prov-Beasley vs ESD-Cohen
DESCRIPTION:3rd Grade Boys Red Division | Basketball\nMoody Family YMCA\n
URL;VALUE=URI:https://ygametime.com/branch/moody/sports/2021-winter-basketball/11739/?utm_medium=calendar&utm_source=team_cal&utm_content=league_url#game-272933
LOCATION:Moody North Gym
BEGIN:VALARM
TRIGGER:-P2H
ACTION:DISPLAY
DESCRIPTION:Prov-Beasley vs ESD-Cohen
END:VALARM
END:VEVENT
BEGIN:VEVENT
UID:moody-272917@ygametime.com
DTSTAMP:20220212T160000Z
DTSTART;TZID=America/Chicago:20220212T100000
DURATION:PT0H60M0S
SUMMARY:Prov-Beasley vs Prov-Zugaro
DESCRIPTION:3rd Grade Boys Red Division | Basketball\nMoody Family YMCA\n
URL;VALUE=URI:https://ygametime.com/branch/moody/sports/2021-winter-basketball/11739/?utm_medium=calendar&utm_source=team_cal&utm_content=league_url#game-272917
LOCATION:Hyer Elementary
BEGIN:VALARM
TRIGGER:-P2H
ACTION:DISPLAY
DESCRIPTION:Prov-Beasley vs Prov-Zugaro
END:VALARM
END:VEVENT
END:VCALENDAR

