BEGIN:VCALENDAR
VERSION:2.0
PRODID:-//YGAMETIME.com//YGT iCal Creator//EN
METHOD:PUBLISH
X-PUBLISHED-TTL:PT6H
REFRESH-INTERVAL;VALUE=DURATION:PT6H
CALSCALE:GREGORIAN
X-WR-CALNAME:YGAMETIME CALENDAR
BEGIN:VTIMEZONE
TZID:America/Chicago
X-LIC-LOCATION:America/Chicago
BEGIN:DAYLIGHT
TZOFFSETFROM:-0600
TZOFFSETTO:-0500
TZNAME:CDT
DTSTART:19700308T020000
RRULE:FREQ=YEARLY;BYMONTH=3;BYDAY=2SU
END:DAYLIGHT
BEGIN:STANDARD
TZOFFSETFROM:-0500
TZOFFSETTO:-0600
TZNAME:CST
DTSTART:19701101T020000
RRULE:FREQ=YEARLY;BYMONTH=11;BYDAY=1SU
END:STANDARD
END:VTIMEZONE
BEGIN:VEVENT
UID:moody-272901@ygametime.com
DTSTAMP:20220108T140000Z
DTSTART;TZID=America/Chicago:20220108T080000
DURATION:PT0H60M0S
SUMMARY:UP-Short vs Hyer-Schulte
DESCRIPTION:3rd Grade Boys Red Division | Basketball\nMoody Family YMCA\n
URL;VALUE=URI:https://ygametime.com/branch/moody/sports/2021-winter-basketball/11739/?utm_medium=calendar&utm_source=team_cal&utm_content=league_url#game-272901
LOCATION:Hyer Elementary
BEGIN:VALARM
TRIGGER:-P2H
ACTION:DISPLAY
DESCRIPTION:UP-Short vs Hyer-Schulte
END:VALARM
END:VEVENT
BEGIN:VEVENT
UID:moody-272903@ygametime.com
DTSTAMP:20220115T190000Z
DTSTART;TZID=America/Chicago:20220115T130000
DURATION:PT0H60M0S
SUMMARY:CKS-Hood vs UP-Short
DESCRIPTION:3rd Grade Boys Red Division | Basketball\nMoody Family YMCA\n
URL;VALUE=URI:https://ygametime.com/branch/moody/sports/2021-winter-basketball/11739/?utm_medium=calendar&utm_source=team_cal&utm_content=league_url#game-272903
LOCATION:Hyer Elementary
BEGIN:VALARM
TRIGGER:-P2H
ACTION:DISPLAY
DESCRIPTION:CKS-Hood vs UP-Short
END:VALARM
END:VEVENT
BEGIN:VEVENT
UID:moody-272909@ygametime.com
DTSTAMP:20220122T160000Z
DTSTART;TZID=America/Chicago:20220122T100000
DURATION:PT0H60M0S
SUMMARY:UP-Short vs Prov-Zugaro
DESCRIPTION:3rd Grade Boys Red Division | Basketball\nMoody Family YMCA\n
URL;VALUE=URI:https://ygametime.com/branch/moody/sports/2021-winter-basketball/11739/?utm_medium=calendar&utm_source=team_cal&utm_content=league_url#game-272909
LOCATION:Moody South Gym
BEGIN:VALARM
TRIGGER:-P2H
ACTION:DISPLAY
DESCRIPTION:UP-Short vs Prov-Zugaro
END:VALARM
END:VEVENT
BEGIN:VEVENT
UID:moody-272911@ygametime.com
DTSTAMP:20220129T200000Z
DTSTART;TZID=America/Chicago:20220129T140000
DURATION:PT0H60M0S
SUMMARY:BYE WEEK vs UP-Short
DESCRIPTION:3rd Grade Boys Red Division | Basketball\nMoody Family YMCA\n
URL;VALUE=URI:https://ygametime.com/branch/moody/sports/2021-winter-basketball/11739/?utm_medium=calendar&utm_source=team_cal&utm_content=league_url#game-272911
LOCATION:Moody South Gym
BEGIN:VALARM
TRIGGER:-P2H
ACTION:DISPLAY
DESCRIPTION:BYE WEEK vs UP-Short
END:VALARM
END:VEVENT
BEGIN:VEVENT
UID:moody-272935@ygametime.com
DTSTAMP:20220201T010000Z
DTSTART;TZID=America/Chicago:20220131T190000
DURATION:PT0H60M0S
SUMMARY:UP-Short vs Hyer-Schulte
DESCRIPTION:3rd Grade Boys Red Division | Basketball\nMoody Family YMCA\n
URL;VALUE=URI:https://ygametime.com/branch/moody/sports/2021-winter-basketball/11739/?utm_medium=calendar&utm_source=team_cal&utm_content=league_url#game-272935
LOCATION:Moody North Gym
BEGIN:VALARM
TRIGGER:-P2H
ACTION:DISPLAY
DESCRIPTION:UP-Short vs Hyer-Schulte
END:VALARM
END:VEVENT
BEGIN:VEVENT
UID:moody-272915@ygametime.com
DTSTAMP:20220212T150000Z
DTSTART;TZID=America/Chicago:20220212T090000
DURATION:PT0H60M0S
SUMMARY:ESD-Cohen vs UP-Short
DESCRIPTION:3rd Grade Boys Red Division | Basketball\nMoody Family YMCA\n
URL;VALUE=URI:https://ygametime.com/branch/moody/sports/2021-winter-basketball/11739/?utm_medium=calendar&utm_source=team_cal&utm_content=league_url#game-272915
LOCATION:Hyer Elementary
BEGIN:VALARM
TRIGGER:-P2H
ACTION:DISPLAY
DESCRIPTION:ESD-Cohen vs UP-Short
END:VALARM
END:VEVENT
END:VCALENDAR

