BEGIN:VCALENDAR
VERSION:2.0
PRODID:-//YGAMETIME.com//YGT iCal Creator//EN
METHOD:PUBLISH
X-PUBLISHED-TTL:PT6H
REFRESH-INTERVAL;VALUE=DURATION:PT6H
CALSCALE:GREGORIAN
X-WR-CALNAME:YGAMETIME CALENDAR
BEGIN:VTIMEZONE
TZID:America/Chicago
X-LIC-LOCATION:America/Chicago
BEGIN:DAYLIGHT
TZOFFSETFROM:-0600
TZOFFSETTO:-0500
TZNAME:CDT
DTSTART:19700308T020000
RRULE:FREQ=YEARLY;BYMONTH=3;BYDAY=2SU
END:DAYLIGHT
BEGIN:STANDARD
TZOFFSETFROM:-0500
TZOFFSETTO:-0600
TZNAME:CST
DTSTART:19701101T020000
RRULE:FREQ=YEARLY;BYMONTH=11;BYDAY=1SU
END:STANDARD
END:VTIMEZONE
BEGIN:VEVENT
UID:moody-272939@ygametime.com
DTSTAMP:20220108T011500Z
DTSTART;TZID=America/Chicago:20220107T191500
DURATION:PT0H60M0S
SUMMARY:5B MIS-Doyle/Brooks II vs 5B MIS-Lockridge
DESCRIPTION:5th Grade Boys | Basketball\nMoody Family YMCA\n
URL;VALUE=URI:https://ygametime.com/branch/moody/sports/2021-winter-basketball/11377/?utm_medium=calendar&utm_source=team_cal&utm_content=league_url#game-272939
LOCATION:Boone Elementary
BEGIN:VALARM
TRIGGER:-P2H
ACTION:DISPLAY
DESCRIPTION:5B MIS-Doyle/Brooks II vs 5B MIS-Lockridge
END:VALARM
END:VEVENT
BEGIN:VEVENT
UID:moody-272936@ygametime.com
DTSTAMP:20220115T001500Z
DTSTART;TZID=America/Chicago:20220114T181500
DURATION:PT0H60M0S
SUMMARY:5B MIS-Doyle/Brooks II vs 5B MIS-Plohg/Singleton
DESCRIPTION:5th Grade Boys | Basketball\nMoody Family YMCA\n
URL;VALUE=URI:https://ygametime.com/branch/moody/sports/2021-winter-basketball/11377/?utm_medium=calendar&utm_source=team_cal&utm_content=league_url#game-272936
LOCATION:Boone Elementary
BEGIN:VALARM
TRIGGER:-P2H
ACTION:DISPLAY
DESCRIPTION:5B MIS-Doyle/Brooks II vs 5B MIS-Plohg/Singleton
END:VALARM
END:VEVENT
BEGIN:VEVENT
UID:moody-272937@ygametime.com
DTSTAMP:20220122T011500Z
DTSTART;TZID=America/Chicago:20220121T191500
DURATION:PT0H60M0S
SUMMARY:5B MIS-Doyle/Brooks II vs 5B ESD Red
DESCRIPTION:5th Grade Boys | Basketball\nMoody Family YMCA\n
URL;VALUE=URI:https://ygametime.com/branch/moody/sports/2021-winter-basketball/11377/?utm_medium=calendar&utm_source=team_cal&utm_content=league_url#game-272937
LOCATION:Bradfield Elementary
BEGIN:VALARM
TRIGGER:-P2H
ACTION:DISPLAY
DESCRIPTION:5B MIS-Doyle/Brooks II vs 5B ESD Red
END:VALARM
END:VEVENT
BEGIN:VEVENT
UID:moody-272938@ygametime.com
DTSTAMP:20220129T011500Z
DTSTART;TZID=America/Chicago:20220128T191500
DURATION:PT0H60M0S
SUMMARY:5B MIS-Doyle/Brooks II vs 5B Prov-Zugaro
DESCRIPTION:5th Grade Boys | Basketball\nMoody Family YMCA\n
URL;VALUE=URI:https://ygametime.com/branch/moody/sports/2021-winter-basketball/11377/?utm_medium=calendar&utm_source=team_cal&utm_content=league_url#game-272938
LOCATION:Bradfield Elementary
BEGIN:VALARM
TRIGGER:-P2H
ACTION:DISPLAY
DESCRIPTION:5B MIS-Doyle/Brooks II vs 5B Prov-Zugaro
END:VALARM
END:VEVENT
BEGIN:VEVENT
UID:moody-272940@ygametime.com
DTSTAMP:20220205T011500Z
DTSTART;TZID=America/Chicago:20220204T191500
DURATION:PT0H60M0S
SUMMARY:5B MIS-Doyle/Brooks II vs 5B ESD O'Neal BLUE
DESCRIPTION:5th Grade Boys | Basketball\nMoody Family YMCA\n
URL;VALUE=URI:https://ygametime.com/branch/moody/sports/2021-winter-basketball/11377/?utm_medium=calendar&utm_source=team_cal&utm_content=league_url#game-272940
LOCATION:Bradfield Elementary
BEGIN:VALARM
TRIGGER:-P2H
ACTION:DISPLAY
DESCRIPTION:5B MIS-Doyle/Brooks II vs 5B ESD O'Neal BLUE
END:VALARM
END:VEVENT
BEGIN:VEVENT
UID:moody-284077@ygametime.com
DTSTAMP:20220209T011500Z
DTSTART;TZID=America/Chicago:20220208T191500
DURATION:PT0H60M0S
SUMMARY:5B Prov-Zugaro vs 5B MIS-Doyle/Brooks II
DESCRIPTION:5th Grade Boys | Basketball\nMoody Family YMCA\n
URL;VALUE=URI:https://ygametime.com/branch/moody/sports/2021-winter-basketball/11377/?utm_medium=calendar&utm_source=team_cal&utm_content=league_url#game-284077
LOCATION:UP Elementary
BEGIN:VALARM
TRIGGER:-P2H
ACTION:DISPLAY
DESCRIPTION:5B Prov-Zugaro vs 5B MIS-Doyle/Brooks II
END:VALARM
END:VEVENT
END:VCALENDAR

