BEGIN:VCALENDAR
VERSION:2.0
PRODID:-//YGAMETIME.com//YGT iCal Creator//EN
METHOD:PUBLISH
X-PUBLISHED-TTL:PT6H
REFRESH-INTERVAL;VALUE=DURATION:PT6H
CALSCALE:GREGORIAN
X-WR-CALNAME:YGAMETIME CALENDAR
BEGIN:VTIMEZONE
TZID:America/New_York
X-LIC-LOCATION:America/New_York
BEGIN:DAYLIGHT
TZOFFSETFROM:-0500
TZOFFSETTO:-0400
TZNAME:EDT
DTSTART:19700308T020000
RRULE:FREQ=YEARLY;BYMONTH=3;BYDAY=2SU
END:DAYLIGHT
BEGIN:STANDARD
TZOFFSETFROM:-0400
TZOFFSETTO:-0500
TZNAME:EST
DTSTART:19701101T020000
RRULE:FREQ=YEARLY;BYMONTH=11;BYDAY=1SU
END:STANDARD
END:VTIMEZONE
BEGIN:VEVENT
UID:moultrie-562037@ygametime.com
DTSTAMP:20250929T223000Z
DTSTART;TZID=America/New_York:20250929T183000
DURATION:PT0H60M0S
SUMMARY:5 vs 2
DESCRIPTION:Ages 3 & 4 | Youth Soccer\nMoultrie YMCA\n
URL;VALUE=URI:https://ygametime.com/branch/moultrie/sports/2025-fall-youth-soccer/24446/?utm_medium=calendar&utm_source=team_cal&utm_content=league_url#game-562037
LOCATION:Youth Soccer Fields 2
BEGIN:VALARM
TRIGGER:-P2H
ACTION:DISPLAY
DESCRIPTION:5 vs 2
END:VALARM
END:VEVENT
BEGIN:VEVENT
UID:moultrie-562038@ygametime.com
DTSTAMP:20250930T213000Z
DTSTART;TZID=America/New_York:20250930T173000
DURATION:PT0H60M0S
SUMMARY:2 vs 3
DESCRIPTION:Ages 3 & 4 | Youth Soccer\nMoultrie YMCA\n
URL;VALUE=URI:https://ygametime.com/branch/moultrie/sports/2025-fall-youth-soccer/24446/?utm_medium=calendar&utm_source=team_cal&utm_content=league_url#game-562038
LOCATION:Youth Soccer Fields 2
BEGIN:VALARM
TRIGGER:-P2H
ACTION:DISPLAY
DESCRIPTION:2 vs 3
END:VALARM
END:VEVENT
BEGIN:VEVENT
UID:moultrie-562041@ygametime.com
DTSTAMP:20251006T223000Z
DTSTART;TZID=America/New_York:20251006T183000
DURATION:PT0H60M0S
SUMMARY:4 vs 2
DESCRIPTION:Ages 3 & 4 | Youth Soccer\nMoultrie YMCA\n
URL;VALUE=URI:https://ygametime.com/branch/moultrie/sports/2025-fall-youth-soccer/24446/?utm_medium=calendar&utm_source=team_cal&utm_content=league_url#game-562041
LOCATION:Youth Soccer Fields 2
BEGIN:VALARM
TRIGGER:-P2H
ACTION:DISPLAY
DESCRIPTION:4 vs 2
END:VALARM
END:VEVENT
BEGIN:VEVENT
UID:moultrie-562044@ygametime.com
DTSTAMP:20251013T213000Z
DTSTART;TZID=America/New_York:20251013T173000
DURATION:PT0H60M0S
SUMMARY:2 vs 1
DESCRIPTION:Ages 3 & 4 | Youth Soccer\nMoultrie YMCA\n
URL;VALUE=URI:https://ygametime.com/branch/moultrie/sports/2025-fall-youth-soccer/24446/?utm_medium=calendar&utm_source=team_cal&utm_content=league_url#game-562044
LOCATION:Youth Soccer Fields 2
BEGIN:VALARM
TRIGGER:-P2H
ACTION:DISPLAY
DESCRIPTION:2 vs 1
END:VALARM
END:VEVENT
BEGIN:VEVENT
UID:moultrie-562046@ygametime.com
DTSTAMP:20251014T213000Z
DTSTART;TZID=America/New_York:20251014T173000
DURATION:PT0H60M0S
SUMMARY:5 vs 2
DESCRIPTION:Ages 3 & 4 | Youth Soccer\nMoultrie YMCA\n
URL;VALUE=URI:https://ygametime.com/branch/moultrie/sports/2025-fall-youth-soccer/24446/?utm_medium=calendar&utm_source=team_cal&utm_content=league_url#game-562046
LOCATION:Youth Soccer Fields 2
BEGIN:VALARM
TRIGGER:-P2H
ACTION:DISPLAY
DESCRIPTION:5 vs 2
END:VALARM
END:VEVENT
BEGIN:VEVENT
UID:moultrie-562049@ygametime.com
DTSTAMP:20251020T223000Z
DTSTART;TZID=America/New_York:20251020T183000
DURATION:PT0H60M0S
SUMMARY:2 vs 3
DESCRIPTION:Ages 3 & 4 | Youth Soccer\nMoultrie YMCA\n
URL;VALUE=URI:https://ygametime.com/branch/moultrie/sports/2025-fall-youth-soccer/24446/?utm_medium=calendar&utm_source=team_cal&utm_content=league_url#game-562049
LOCATION:Youth Soccer Fields 2
BEGIN:VALARM
TRIGGER:-P2H
ACTION:DISPLAY
DESCRIPTION:2 vs 3
END:VALARM
END:VEVENT
BEGIN:VEVENT
UID:moultrie-562050@ygametime.com
DTSTAMP:20251021T213000Z
DTSTART;TZID=America/New_York:20251021T173000
DURATION:PT0H60M0S
SUMMARY:4 vs 2
DESCRIPTION:Ages 3 & 4 | Youth Soccer\nMoultrie YMCA\n
URL;VALUE=URI:https://ygametime.com/branch/moultrie/sports/2025-fall-youth-soccer/24446/?utm_medium=calendar&utm_source=team_cal&utm_content=league_url#game-562050
LOCATION:Youth Soccer Fields 2
BEGIN:VALARM
TRIGGER:-P2H
ACTION:DISPLAY
DESCRIPTION:4 vs 2
END:VALARM
END:VEVENT
BEGIN:VEVENT
UID:moultrie-562055@ygametime.com
DTSTAMP:20251028T223000Z
DTSTART;TZID=America/New_York:20251028T183000
DURATION:PT0H60M0S
SUMMARY:2 vs 1
DESCRIPTION:Ages 3 & 4 | Youth Soccer\nMoultrie YMCA\n
URL;VALUE=URI:https://ygametime.com/branch/moultrie/sports/2025-fall-youth-soccer/24446/?utm_medium=calendar&utm_source=team_cal&utm_content=league_url#game-562055
LOCATION:Youth Soccer Fields 2
BEGIN:VALARM
TRIGGER:-P2H
ACTION:DISPLAY
DESCRIPTION:2 vs 1
END:VALARM
END:VEVENT
END:VCALENDAR

