BEGIN:VCALENDAR
VERSION:2.0
PRODID:-//YGAMETIME.com//YGT iCal Creator//EN
METHOD:PUBLISH
X-PUBLISHED-TTL:PT6H
REFRESH-INTERVAL;VALUE=DURATION:PT6H
CALSCALE:GREGORIAN
X-WR-CALNAME:YGAMETIME CALENDAR
BEGIN:VTIMEZONE
TZID:America/New_York
X-LIC-LOCATION:America/New_York
BEGIN:DAYLIGHT
TZOFFSETFROM:-0500
TZOFFSETTO:-0400
TZNAME:EDT
DTSTART:19700308T020000
RRULE:FREQ=YEARLY;BYMONTH=3;BYDAY=2SU
END:DAYLIGHT
BEGIN:STANDARD
TZOFFSETFROM:-0400
TZOFFSETTO:-0500
TZNAME:EST
DTSTART:19701101T020000
RRULE:FREQ=YEARLY;BYMONTH=11;BYDAY=1SU
END:STANDARD
END:VTIMEZONE
BEGIN:VEVENT
UID:moultrie-562036@ygametime.com
DTSTAMP:20250929T213000Z
DTSTART;TZID=America/New_York:20250929T173000
DURATION:PT0H60M0S
SUMMARY:4 vs 1
DESCRIPTION:Ages 3 & 4 | Youth Soccer\nMoultrie YMCA\n
URL;VALUE=URI:https://ygametime.com/branch/moultrie/sports/2025-fall-youth-soccer/24446/?utm_medium=calendar&utm_source=team_cal&utm_content=league_url#game-562036
LOCATION:Youth Soccer Fields 2
BEGIN:VALARM
TRIGGER:-P2H
ACTION:DISPLAY
DESCRIPTION:4 vs 1
END:VALARM
END:VEVENT
BEGIN:VEVENT
UID:moultrie-562041@ygametime.com
DTSTAMP:20251006T223000Z
DTSTART;TZID=America/New_York:20251006T183000
DURATION:PT0H60M0S
SUMMARY:4 vs 2
DESCRIPTION:Ages 3 & 4 | Youth Soccer\nMoultrie YMCA\n
URL;VALUE=URI:https://ygametime.com/branch/moultrie/sports/2025-fall-youth-soccer/24446/?utm_medium=calendar&utm_source=team_cal&utm_content=league_url#game-562041
LOCATION:Youth Soccer Fields 2
BEGIN:VALARM
TRIGGER:-P2H
ACTION:DISPLAY
DESCRIPTION:4 vs 2
END:VALARM
END:VEVENT
BEGIN:VEVENT
UID:moultrie-562042@ygametime.com
DTSTAMP:20251007T213000Z
DTSTART;TZID=America/New_York:20251007T173000
DURATION:PT0H60M0S
SUMMARY:5 vs 4
DESCRIPTION:Ages 3 & 4 | Youth Soccer\nMoultrie YMCA\n
URL;VALUE=URI:https://ygametime.com/branch/moultrie/sports/2025-fall-youth-soccer/24446/?utm_medium=calendar&utm_source=team_cal&utm_content=league_url#game-562042
LOCATION:Youth Soccer Fields 2
BEGIN:VALARM
TRIGGER:-P2H
ACTION:DISPLAY
DESCRIPTION:5 vs 4
END:VALARM
END:VEVENT
BEGIN:VEVENT
UID:moultrie-562045@ygametime.com
DTSTAMP:20251013T223000Z
DTSTART;TZID=America/New_York:20251013T183000
DURATION:PT0H60M0S
SUMMARY:3 vs 4
DESCRIPTION:Ages 3 & 4 | Youth Soccer\nMoultrie YMCA\n
URL;VALUE=URI:https://ygametime.com/branch/moultrie/sports/2025-fall-youth-soccer/24446/?utm_medium=calendar&utm_source=team_cal&utm_content=league_url#game-562045
LOCATION:Youth Soccer Fields 2
BEGIN:VALARM
TRIGGER:-P2H
ACTION:DISPLAY
DESCRIPTION:3 vs 4
END:VALARM
END:VEVENT
BEGIN:VEVENT
UID:moultrie-562047@ygametime.com
DTSTAMP:20251014T223000Z
DTSTART;TZID=America/New_York:20251014T183000
DURATION:PT0H60M0S
SUMMARY:4 vs 1
DESCRIPTION:Ages 3 & 4 | Youth Soccer\nMoultrie YMCA\n
URL;VALUE=URI:https://ygametime.com/branch/moultrie/sports/2025-fall-youth-soccer/24446/?utm_medium=calendar&utm_source=team_cal&utm_content=league_url#game-562047
LOCATION:Youth Soccer Fields 2
BEGIN:VALARM
TRIGGER:-P2H
ACTION:DISPLAY
DESCRIPTION:4 vs 1
END:VALARM
END:VEVENT
BEGIN:VEVENT
UID:moultrie-562050@ygametime.com
DTSTAMP:20251021T213000Z
DTSTART;TZID=America/New_York:20251021T173000
DURATION:PT0H60M0S
SUMMARY:4 vs 2
DESCRIPTION:Ages 3 & 4 | Youth Soccer\nMoultrie YMCA\n
URL;VALUE=URI:https://ygametime.com/branch/moultrie/sports/2025-fall-youth-soccer/24446/?utm_medium=calendar&utm_source=team_cal&utm_content=league_url#game-562050
LOCATION:Youth Soccer Fields 2
BEGIN:VALARM
TRIGGER:-P2H
ACTION:DISPLAY
DESCRIPTION:4 vs 2
END:VALARM
END:VEVENT
BEGIN:VEVENT
UID:moultrie-562053@ygametime.com
DTSTAMP:20251027T223000Z
DTSTART;TZID=America/New_York:20251027T183000
DURATION:PT0H60M0S
SUMMARY:5 vs 4
DESCRIPTION:Ages 3 & 4 | Youth Soccer\nMoultrie YMCA\n
URL;VALUE=URI:https://ygametime.com/branch/moultrie/sports/2025-fall-youth-soccer/24446/?utm_medium=calendar&utm_source=team_cal&utm_content=league_url#game-562053
LOCATION:Youth Soccer Fields 2
BEGIN:VALARM
TRIGGER:-P2H
ACTION:DISPLAY
DESCRIPTION:5 vs 4
END:VALARM
END:VEVENT
BEGIN:VEVENT
UID:moultrie-562054@ygametime.com
DTSTAMP:20251028T213000Z
DTSTART;TZID=America/New_York:20251028T173000
DURATION:PT0H60M0S
SUMMARY:3 vs 4
DESCRIPTION:Ages 3 & 4 | Youth Soccer\nMoultrie YMCA\n
URL;VALUE=URI:https://ygametime.com/branch/moultrie/sports/2025-fall-youth-soccer/24446/?utm_medium=calendar&utm_source=team_cal&utm_content=league_url#game-562054
LOCATION:Youth Soccer Fields 2
BEGIN:VALARM
TRIGGER:-P2H
ACTION:DISPLAY
DESCRIPTION:3 vs 4
END:VALARM
END:VEVENT
END:VCALENDAR

