BEGIN:VCALENDAR
VERSION:2.0
PRODID:-//YGAMETIME.com//YGT iCal Creator//EN
METHOD:PUBLISH
X-PUBLISHED-TTL:PT6H
REFRESH-INTERVAL;VALUE=DURATION:PT6H
CALSCALE:GREGORIAN
X-WR-CALNAME:YGAMETIME CALENDAR
BEGIN:VTIMEZONE
TZID:America/New_York
X-LIC-LOCATION:America/New_York
BEGIN:DAYLIGHT
TZOFFSETFROM:-0500
TZOFFSETTO:-0400
TZNAME:EDT
DTSTART:19700308T020000
RRULE:FREQ=YEARLY;BYMONTH=3;BYDAY=2SU
END:DAYLIGHT
BEGIN:STANDARD
TZOFFSETFROM:-0400
TZOFFSETTO:-0500
TZNAME:EST
DTSTART:19701101T020000
RRULE:FREQ=YEARLY;BYMONTH=11;BYDAY=1SU
END:STANDARD
END:VTIMEZONE
BEGIN:VEVENT
UID:moultrie-562689@ygametime.com
DTSTAMP:20250929T223000Z
DTSTART;TZID=America/New_York:20250929T183000
DURATION:PT0H60M0S
SUMMARY:3 vs 1
DESCRIPTION:Ages 5 & 6 | Youth Soccer\nMoultrie YMCA\n
URL;VALUE=URI:https://ygametime.com/branch/moultrie/sports/2025-fall-youth-soccer/24447/?utm_medium=calendar&utm_source=team_cal&utm_content=league_url#game-562689
LOCATION:Youth Soccer Field 6
BEGIN:VALARM
TRIGGER:-P2H
ACTION:DISPLAY
DESCRIPTION:3 vs 1
END:VALARM
END:VEVENT
BEGIN:VEVENT
UID:moultrie-562691@ygametime.com
DTSTAMP:20250930T223000Z
DTSTART;TZID=America/New_York:20250930T183000
DURATION:PT0H60M0S
SUMMARY:2 vs 3
DESCRIPTION:Ages 5 & 6 | Youth Soccer\nMoultrie YMCA\n
URL;VALUE=URI:https://ygametime.com/branch/moultrie/sports/2025-fall-youth-soccer/24447/?utm_medium=calendar&utm_source=team_cal&utm_content=league_url#game-562691
LOCATION:Youth Soccer Field 6
BEGIN:VALARM
TRIGGER:-P2H
ACTION:DISPLAY
DESCRIPTION:2 vs 3
END:VALARM
END:VEVENT
BEGIN:VEVENT
UID:moultrie-562694@ygametime.com
DTSTAMP:20251006T233000Z
DTSTART;TZID=America/New_York:20251006T193000
DURATION:PT0H60M0S
SUMMARY:3 vs 4
DESCRIPTION:Ages 5 & 6 | Youth Soccer\nMoultrie YMCA\n
URL;VALUE=URI:https://ygametime.com/branch/moultrie/sports/2025-fall-youth-soccer/24447/?utm_medium=calendar&utm_source=team_cal&utm_content=league_url#game-562694
LOCATION:Youth Soccer Field 6
BEGIN:VALARM
TRIGGER:-P2H
ACTION:DISPLAY
DESCRIPTION:3 vs 4
END:VALARM
END:VEVENT
BEGIN:VEVENT
UID:moultrie-562696@ygametime.com
DTSTAMP:20251007T233000Z
DTSTART;TZID=America/New_York:20251007T193000
DURATION:PT0H60M0S
SUMMARY:3 vs 1
DESCRIPTION:Ages 5 & 6 | Youth Soccer\nMoultrie YMCA\n
URL;VALUE=URI:https://ygametime.com/branch/moultrie/sports/2025-fall-youth-soccer/24447/?utm_medium=calendar&utm_source=team_cal&utm_content=league_url#game-562696
LOCATION:Youth Soccer Field 6
BEGIN:VALARM
TRIGGER:-P2H
ACTION:DISPLAY
DESCRIPTION:3 vs 1
END:VALARM
END:VEVENT
BEGIN:VEVENT
UID:moultrie-562698@ygametime.com
DTSTAMP:20251013T233000Z
DTSTART;TZID=America/New_York:20251013T193000
DURATION:PT0H60M0S
SUMMARY:2 vs 3
DESCRIPTION:Ages 5 & 6 | Youth Soccer\nMoultrie YMCA\n
URL;VALUE=URI:https://ygametime.com/branch/moultrie/sports/2025-fall-youth-soccer/24447/?utm_medium=calendar&utm_source=team_cal&utm_content=league_url#game-562698
LOCATION:Youth Soccer Field 6
BEGIN:VALARM
TRIGGER:-P2H
ACTION:DISPLAY
DESCRIPTION:2 vs 3
END:VALARM
END:VEVENT
BEGIN:VEVENT
UID:moultrie-562699@ygametime.com
DTSTAMP:20251014T223000Z
DTSTART;TZID=America/New_York:20251014T183000
DURATION:PT0H60M0S
SUMMARY:3 vs 4
DESCRIPTION:Ages 5 & 6 | Youth Soccer\nMoultrie YMCA\n
URL;VALUE=URI:https://ygametime.com/branch/moultrie/sports/2025-fall-youth-soccer/24447/?utm_medium=calendar&utm_source=team_cal&utm_content=league_url#game-562699
LOCATION:Youth Soccer Field 6
BEGIN:VALARM
TRIGGER:-P2H
ACTION:DISPLAY
DESCRIPTION:3 vs 4
END:VALARM
END:VEVENT
BEGIN:VEVENT
UID:moultrie-562701@ygametime.com
DTSTAMP:20251020T223000Z
DTSTART;TZID=America/New_York:20251020T183000
DURATION:PT0H60M0S
SUMMARY:3 vs 1
DESCRIPTION:Ages 5 & 6 | Youth Soccer\nMoultrie YMCA\n
URL;VALUE=URI:https://ygametime.com/branch/moultrie/sports/2025-fall-youth-soccer/24447/?utm_medium=calendar&utm_source=team_cal&utm_content=league_url#game-562701
LOCATION:Youth Soccer Field 6
BEGIN:VALARM
TRIGGER:-P2H
ACTION:DISPLAY
DESCRIPTION:3 vs 1
END:VALARM
END:VEVENT
BEGIN:VEVENT
UID:moultrie-562703@ygametime.com
DTSTAMP:20251021T223000Z
DTSTART;TZID=America/New_York:20251021T183000
DURATION:PT0H60M0S
SUMMARY:2 vs 3
DESCRIPTION:Ages 5 & 6 | Youth Soccer\nMoultrie YMCA\n
URL;VALUE=URI:https://ygametime.com/branch/moultrie/sports/2025-fall-youth-soccer/24447/?utm_medium=calendar&utm_source=team_cal&utm_content=league_url#game-562703
LOCATION:Youth Soccer Field 6
BEGIN:VALARM
TRIGGER:-P2H
ACTION:DISPLAY
DESCRIPTION:2 vs 3
END:VALARM
END:VEVENT
END:VCALENDAR

