BEGIN:VCALENDAR
VERSION:2.0
PRODID:-//YGAMETIME.com//YGT iCal Creator//EN
METHOD:PUBLISH
X-PUBLISHED-TTL:PT6H
REFRESH-INTERVAL;VALUE=DURATION:PT6H
CALSCALE:GREGORIAN
X-WR-CALNAME:YGAMETIME CALENDAR
BEGIN:VTIMEZONE
TZID:America/New_York
X-LIC-LOCATION:America/New_York
BEGIN:DAYLIGHT
TZOFFSETFROM:-0500
TZOFFSETTO:-0400
TZNAME:EDT
DTSTART:19700308T020000
RRULE:FREQ=YEARLY;BYMONTH=3;BYDAY=2SU
END:DAYLIGHT
BEGIN:STANDARD
TZOFFSETFROM:-0400
TZOFFSETTO:-0500
TZNAME:EST
DTSTART:19701101T020000
RRULE:FREQ=YEARLY;BYMONTH=11;BYDAY=1SU
END:STANDARD
END:VTIMEZONE
BEGIN:VEVENT
UID:moultrie-562690@ygametime.com
DTSTAMP:20250929T233000Z
DTSTART;TZID=America/New_York:20250929T193000
DURATION:PT0H60M0S
SUMMARY:4 vs 2
DESCRIPTION:Ages 5 & 6 | Youth Soccer\nMoultrie YMCA\n
URL;VALUE=URI:https://ygametime.com/branch/moultrie/sports/2025-fall-youth-soccer/24447/?utm_medium=calendar&utm_source=team_cal&utm_content=league_url#game-562690
LOCATION:Youth Soccer Field 6
BEGIN:VALARM
TRIGGER:-P2H
ACTION:DISPLAY
DESCRIPTION:4 vs 2
END:VALARM
END:VEVENT
BEGIN:VEVENT
UID:moultrie-562692@ygametime.com
DTSTAMP:20250930T233000Z
DTSTART;TZID=America/New_York:20250930T193000
DURATION:PT0H60M0S
SUMMARY:1 vs 4
DESCRIPTION:Ages 5 & 6 | Youth Soccer\nMoultrie YMCA\n
URL;VALUE=URI:https://ygametime.com/branch/moultrie/sports/2025-fall-youth-soccer/24447/?utm_medium=calendar&utm_source=team_cal&utm_content=league_url#game-562692
LOCATION:Youth Soccer Field 6
BEGIN:VALARM
TRIGGER:-P2H
ACTION:DISPLAY
DESCRIPTION:1 vs 4
END:VALARM
END:VEVENT
BEGIN:VEVENT
UID:moultrie-562694@ygametime.com
DTSTAMP:20251006T233000Z
DTSTART;TZID=America/New_York:20251006T193000
DURATION:PT0H60M0S
SUMMARY:3 vs 4
DESCRIPTION:Ages 5 & 6 | Youth Soccer\nMoultrie YMCA\n
URL;VALUE=URI:https://ygametime.com/branch/moultrie/sports/2025-fall-youth-soccer/24447/?utm_medium=calendar&utm_source=team_cal&utm_content=league_url#game-562694
LOCATION:Youth Soccer Field 6
BEGIN:VALARM
TRIGGER:-P2H
ACTION:DISPLAY
DESCRIPTION:3 vs 4
END:VALARM
END:VEVENT
BEGIN:VEVENT
UID:moultrie-562695@ygametime.com
DTSTAMP:20251007T223000Z
DTSTART;TZID=America/New_York:20251007T183000
DURATION:PT0H60M0S
SUMMARY:4 vs 2
DESCRIPTION:Ages 5 & 6 | Youth Soccer\nMoultrie YMCA\n
URL;VALUE=URI:https://ygametime.com/branch/moultrie/sports/2025-fall-youth-soccer/24447/?utm_medium=calendar&utm_source=team_cal&utm_content=league_url#game-562695
LOCATION:Youth Soccer Field 6
BEGIN:VALARM
TRIGGER:-P2H
ACTION:DISPLAY
DESCRIPTION:4 vs 2
END:VALARM
END:VEVENT
BEGIN:VEVENT
UID:moultrie-562697@ygametime.com
DTSTAMP:20251013T223000Z
DTSTART;TZID=America/New_York:20251013T183000
DURATION:PT0H60M0S
SUMMARY:1 vs 4
DESCRIPTION:Ages 5 & 6 | Youth Soccer\nMoultrie YMCA\n
URL;VALUE=URI:https://ygametime.com/branch/moultrie/sports/2025-fall-youth-soccer/24447/?utm_medium=calendar&utm_source=team_cal&utm_content=league_url#game-562697
LOCATION:Youth Soccer Field 6
BEGIN:VALARM
TRIGGER:-P2H
ACTION:DISPLAY
DESCRIPTION:1 vs 4
END:VALARM
END:VEVENT
BEGIN:VEVENT
UID:moultrie-562699@ygametime.com
DTSTAMP:20251014T223000Z
DTSTART;TZID=America/New_York:20251014T183000
DURATION:PT0H60M0S
SUMMARY:3 vs 4
DESCRIPTION:Ages 5 & 6 | Youth Soccer\nMoultrie YMCA\n
URL;VALUE=URI:https://ygametime.com/branch/moultrie/sports/2025-fall-youth-soccer/24447/?utm_medium=calendar&utm_source=team_cal&utm_content=league_url#game-562699
LOCATION:Youth Soccer Field 6
BEGIN:VALARM
TRIGGER:-P2H
ACTION:DISPLAY
DESCRIPTION:3 vs 4
END:VALARM
END:VEVENT
BEGIN:VEVENT
UID:moultrie-562702@ygametime.com
DTSTAMP:20251020T233000Z
DTSTART;TZID=America/New_York:20251020T193000
DURATION:PT0H60M0S
SUMMARY:4 vs 2
DESCRIPTION:Ages 5 & 6 | Youth Soccer\nMoultrie YMCA\n
URL;VALUE=URI:https://ygametime.com/branch/moultrie/sports/2025-fall-youth-soccer/24447/?utm_medium=calendar&utm_source=team_cal&utm_content=league_url#game-562702
LOCATION:Youth Soccer Field 6
BEGIN:VALARM
TRIGGER:-P2H
ACTION:DISPLAY
DESCRIPTION:4 vs 2
END:VALARM
END:VEVENT
BEGIN:VEVENT
UID:moultrie-562704@ygametime.com
DTSTAMP:20251021T233000Z
DTSTART;TZID=America/New_York:20251021T193000
DURATION:PT0H60M0S
SUMMARY:1 vs 4
DESCRIPTION:Ages 5 & 6 | Youth Soccer\nMoultrie YMCA\n
URL;VALUE=URI:https://ygametime.com/branch/moultrie/sports/2025-fall-youth-soccer/24447/?utm_medium=calendar&utm_source=team_cal&utm_content=league_url#game-562704
LOCATION:Youth Soccer Field 6
BEGIN:VALARM
TRIGGER:-P2H
ACTION:DISPLAY
DESCRIPTION:1 vs 4
END:VALARM
END:VEVENT
END:VCALENDAR

