BEGIN:VCALENDAR
VERSION:2.0
PRODID:-//YGAMETIME.com//YGT iCal Creator//EN
METHOD:PUBLISH
X-PUBLISHED-TTL:PT6H
REFRESH-INTERVAL;VALUE=DURATION:PT6H
CALSCALE:GREGORIAN
X-WR-CALNAME:YGAMETIME CALENDAR
BEGIN:VTIMEZONE
TZID:America/New_York
X-LIC-LOCATION:America/New_York
BEGIN:DAYLIGHT
TZOFFSETFROM:-0500
TZOFFSETTO:-0400
TZNAME:EDT
DTSTART:19700308T020000
RRULE:FREQ=YEARLY;BYMONTH=3;BYDAY=2SU
END:DAYLIGHT
BEGIN:STANDARD
TZOFFSETFROM:-0400
TZOFFSETTO:-0500
TZNAME:EST
DTSTART:19701101T020000
RRULE:FREQ=YEARLY;BYMONTH=11;BYDAY=1SU
END:STANDARD
END:VTIMEZONE
BEGIN:VEVENT
UID:moultrie-562077@ygametime.com
DTSTAMP:20250930T223000Z
DTSTART;TZID=America/New_York:20250930T183000
DURATION:PT0H60M0S
SUMMARY:Zach vs Morgan
DESCRIPTION:Ages 7 & 8 | Youth Soccer\nMoultrie YMCA\n
URL;VALUE=URI:https://ygametime.com/branch/moultrie/sports/2025-fall-youth-soccer/24448/?utm_medium=calendar&utm_source=team_cal&utm_content=league_url#game-562077
LOCATION:Youth Soccer Fields 1
BEGIN:VALARM
TRIGGER:-P2H
ACTION:DISPLAY
DESCRIPTION:Zach vs Morgan
END:VALARM
END:VEVENT
BEGIN:VEVENT
UID:moultrie-562079@ygametime.com
DTSTAMP:20251002T223000Z
DTSTART;TZID=America/New_York:20251002T183000
DURATION:PT0H60M0S
SUMMARY:Morgan vs Ricky
DESCRIPTION:Ages 7 & 8 | Youth Soccer\nMoultrie YMCA\n
URL;VALUE=URI:https://ygametime.com/branch/moultrie/sports/2025-fall-youth-soccer/24448/?utm_medium=calendar&utm_source=team_cal&utm_content=league_url#game-562079
LOCATION:Youth Soccer Fields 1
BEGIN:VALARM
TRIGGER:-P2H
ACTION:DISPLAY
DESCRIPTION:Morgan vs Ricky
END:VALARM
END:VEVENT
BEGIN:VEVENT
UID:moultrie-562081@ygametime.com
DTSTAMP:20251007T223000Z
DTSTART;TZID=America/New_York:20251007T183000
DURATION:PT0H60M0S
SUMMARY:Brian vs Morgan
DESCRIPTION:Ages 7 & 8 | Youth Soccer\nMoultrie YMCA\n
URL;VALUE=URI:https://ygametime.com/branch/moultrie/sports/2025-fall-youth-soccer/24448/?utm_medium=calendar&utm_source=team_cal&utm_content=league_url#game-562081
LOCATION:Youth Soccer Fields 1
BEGIN:VALARM
TRIGGER:-P2H
ACTION:DISPLAY
DESCRIPTION:Brian vs Morgan
END:VALARM
END:VEVENT
BEGIN:VEVENT
UID:moultrie-562082@ygametime.com
DTSTAMP:20251009T213000Z
DTSTART;TZID=America/New_York:20251009T173000
DURATION:PT0H60M0S
SUMMARY:Zach vs Morgan
DESCRIPTION:Ages 7 & 8 | Youth Soccer\nMoultrie YMCA\n
URL;VALUE=URI:https://ygametime.com/branch/moultrie/sports/2025-fall-youth-soccer/24448/?utm_medium=calendar&utm_source=team_cal&utm_content=league_url#game-562082
LOCATION:Youth Soccer Fields 1
BEGIN:VALARM
TRIGGER:-P2H
ACTION:DISPLAY
DESCRIPTION:Zach vs Morgan
END:VALARM
END:VEVENT
BEGIN:VEVENT
UID:moultrie-562084@ygametime.com
DTSTAMP:20251014T213000Z
DTSTART;TZID=America/New_York:20251014T173000
DURATION:PT0H60M0S
SUMMARY:Morgan vs Ricky
DESCRIPTION:Ages 7 & 8 | Youth Soccer\nMoultrie YMCA\n
URL;VALUE=URI:https://ygametime.com/branch/moultrie/sports/2025-fall-youth-soccer/24448/?utm_medium=calendar&utm_source=team_cal&utm_content=league_url#game-562084
LOCATION:Youth Soccer Fields 1
BEGIN:VALARM
TRIGGER:-P2H
ACTION:DISPLAY
DESCRIPTION:Morgan vs Ricky
END:VALARM
END:VEVENT
BEGIN:VEVENT
UID:moultrie-562086@ygametime.com
DTSTAMP:20251021T213000Z
DTSTART;TZID=America/New_York:20251021T173000
DURATION:PT0H60M0S
SUMMARY:Brian vs Morgan
DESCRIPTION:Ages 7 & 8 | Youth Soccer\nMoultrie YMCA\n
URL;VALUE=URI:https://ygametime.com/branch/moultrie/sports/2025-fall-youth-soccer/24448/?utm_medium=calendar&utm_source=team_cal&utm_content=league_url#game-562086
LOCATION:Youth Soccer Fields 1
BEGIN:VALARM
TRIGGER:-P2H
ACTION:DISPLAY
DESCRIPTION:Brian vs Morgan
END:VALARM
END:VEVENT
BEGIN:VEVENT
UID:moultrie-562091@ygametime.com
DTSTAMP:20251028T223000Z
DTSTART;TZID=America/New_York:20251028T183000
DURATION:PT0H60M0S
SUMMARY:Morgan vs Ricky
DESCRIPTION:Ages 7 & 8 | Youth Soccer\nMoultrie YMCA\n
URL;VALUE=URI:https://ygametime.com/branch/moultrie/sports/2025-fall-youth-soccer/24448/?utm_medium=calendar&utm_source=team_cal&utm_content=league_url#game-562091
LOCATION:Youth Soccer Fields 1
BEGIN:VALARM
TRIGGER:-P2H
ACTION:DISPLAY
DESCRIPTION:Morgan vs Ricky
END:VALARM
END:VEVENT
BEGIN:VEVENT
UID:moultrie-562089@ygametime.com
DTSTAMP:20251030T223000Z
DTSTART;TZID=America/New_York:20251030T183000
DURATION:PT0H60M0S
SUMMARY:Zach vs Morgan
DESCRIPTION:Ages 7 & 8 | Youth Soccer\nMoultrie YMCA\n
URL;VALUE=URI:https://ygametime.com/branch/moultrie/sports/2025-fall-youth-soccer/24448/?utm_medium=calendar&utm_source=team_cal&utm_content=league_url#game-562089
LOCATION:Youth Soccer Fields 1
BEGIN:VALARM
TRIGGER:-P2H
ACTION:DISPLAY
DESCRIPTION:Zach vs Morgan
END:VALARM
END:VEVENT
END:VCALENDAR

