BEGIN:VCALENDAR
VERSION:2.0
PRODID:-//YGAMETIME.com//YGT iCal Creator//EN
METHOD:PUBLISH
X-PUBLISHED-TTL:PT6H
REFRESH-INTERVAL;VALUE=DURATION:PT6H
CALSCALE:GREGORIAN
X-WR-CALNAME:YGAMETIME CALENDAR
BEGIN:VTIMEZONE
TZID:America/New_York
X-LIC-LOCATION:America/New_York
BEGIN:DAYLIGHT
TZOFFSETFROM:-0500
TZOFFSETTO:-0400
TZNAME:EDT
DTSTART:19700308T020000
RRULE:FREQ=YEARLY;BYMONTH=3;BYDAY=2SU
END:DAYLIGHT
BEGIN:STANDARD
TZOFFSETFROM:-0400
TZOFFSETTO:-0500
TZNAME:EST
DTSTART:19701101T020000
RRULE:FREQ=YEARLY;BYMONTH=11;BYDAY=1SU
END:STANDARD
END:VTIMEZONE
BEGIN:VEVENT
UID:moultrie-562092@ygametime.com
DTSTAMP:20251002T223000Z
DTSTART;TZID=America/New_York:20251002T183000
DURATION:PT0H60M0S
SUMMARY:Kennedy vs Chaz
DESCRIPTION:Ages 9, 10, & 11 | Youth Soccer\nMoultrie YMCA\n
URL;VALUE=URI:https://ygametime.com/branch/moultrie/sports/2025-fall-youth-soccer/24449/?utm_medium=calendar&utm_source=team_cal&utm_content=league_url#game-562092
LOCATION:Youth Soccer Field 7
BEGIN:VALARM
TRIGGER:-P2H
ACTION:DISPLAY
DESCRIPTION:Kennedy vs Chaz
END:VALARM
END:VEVENT
BEGIN:VEVENT
UID:moultrie-562094@ygametime.com
DTSTAMP:20251004T130000Z
DTSTART;TZID=America/New_York:20251004T090000
DURATION:PT0H60M0S
SUMMARY:Sal vs Kennedy
DESCRIPTION:Ages 9, 10, & 11 | Youth Soccer\nMoultrie YMCA\n
URL;VALUE=URI:https://ygametime.com/branch/moultrie/sports/2025-fall-youth-soccer/24449/?utm_medium=calendar&utm_source=team_cal&utm_content=league_url#game-562094
LOCATION:Youth Soccer Field 7
BEGIN:VALARM
TRIGGER:-P2H
ACTION:DISPLAY
DESCRIPTION:Sal vs Kennedy
END:VALARM
END:VEVENT
BEGIN:VEVENT
UID:moultrie-562097@ygametime.com
DTSTAMP:20251009T233000Z
DTSTART;TZID=America/New_York:20251009T193000
DURATION:PT0H60M0S
SUMMARY:Kennedy vs Austin
DESCRIPTION:Ages 9, 10, & 11 | Youth Soccer\nMoultrie YMCA\n
URL;VALUE=URI:https://ygametime.com/branch/moultrie/sports/2025-fall-youth-soccer/24449/?utm_medium=calendar&utm_source=team_cal&utm_content=league_url#game-562097
LOCATION:Youth Soccer Field 7
BEGIN:VALARM
TRIGGER:-P2H
ACTION:DISPLAY
DESCRIPTION:Kennedy vs Austin
END:VALARM
END:VEVENT
BEGIN:VEVENT
UID:moultrie-562099@ygametime.com
DTSTAMP:20251011T151500Z
DTSTART;TZID=America/New_York:20251011T111500
DURATION:PT0H60M0S
SUMMARY:Kennedy vs Chaz
DESCRIPTION:Ages 9, 10, & 11 | Youth Soccer\nMoultrie YMCA\n
URL;VALUE=URI:https://ygametime.com/branch/moultrie/sports/2025-fall-youth-soccer/24449/?utm_medium=calendar&utm_source=team_cal&utm_content=league_url#game-562099
LOCATION:Youth Soccer Field 7
BEGIN:VALARM
TRIGGER:-P2H
ACTION:DISPLAY
DESCRIPTION:Kennedy vs Chaz
END:VALARM
END:VEVENT
BEGIN:VEVENT
UID:moultrie-568489@ygametime.com
DTSTAMP:20251021T142015Z
DTSTART;TZID=America/New_York:20251021T102015
DURATION:PT0H60M0S
SUMMARY:Sal vs Kennedy
DESCRIPTION:Ages 9, 10, & 11 | Youth Soccer\nMoultrie YMCA\n
URL;VALUE=URI:https://ygametime.com/branch/moultrie/sports/2025-fall-youth-soccer/24449/?utm_medium=calendar&utm_source=team_cal&utm_content=league_url#game-568489
LOCATION:Youth Soccer Field 7
BEGIN:VALARM
TRIGGER:-P2H
ACTION:DISPLAY
DESCRIPTION:Sal vs Kennedy
END:VALARM
END:VEVENT
BEGIN:VEVENT
UID:moultrie-562346@ygametime.com
DTSTAMP:20251025T223000Z
DTSTART;TZID=America/New_York:20251025T183000
DURATION:PT0H60M0S
SUMMARY:Kennedy vs Austin
DESCRIPTION:Ages 9, 10, & 11 | Youth Soccer\nMoultrie YMCA\n
URL;VALUE=URI:https://ygametime.com/branch/moultrie/sports/2025-fall-youth-soccer/24449/?utm_medium=calendar&utm_source=team_cal&utm_content=league_url#game-562346
LOCATION:Youth Soccer Field 7
BEGIN:VALARM
TRIGGER:-P2H
ACTION:DISPLAY
DESCRIPTION:Kennedy vs Austin
END:VALARM
END:VEVENT
BEGIN:VEVENT
UID:moultrie-562104@ygametime.com
DTSTAMP:20251030T130000Z
DTSTART;TZID=America/New_York:20251030T090000
DURATION:PT0H60M0S
SUMMARY:Kennedy vs Chaz
DESCRIPTION:Ages 9, 10, & 11 | Youth Soccer\nMoultrie YMCA\n
URL;VALUE=URI:https://ygametime.com/branch/moultrie/sports/2025-fall-youth-soccer/24449/?utm_medium=calendar&utm_source=team_cal&utm_content=league_url#game-562104
LOCATION:Youth Soccer Field 7
BEGIN:VALARM
TRIGGER:-P2H
ACTION:DISPLAY
DESCRIPTION:Kennedy vs Chaz
END:VALARM
END:VEVENT
BEGIN:VEVENT
UID:moultrie-562106@ygametime.com
DTSTAMP:20251101T223000Z
DTSTART;TZID=America/New_York:20251101T183000
DURATION:PT0H60M0S
SUMMARY:Sal vs Kennedy
DESCRIPTION:Ages 9, 10, & 11 | Youth Soccer\nMoultrie YMCA\n
URL;VALUE=URI:https://ygametime.com/branch/moultrie/sports/2025-fall-youth-soccer/24449/?utm_medium=calendar&utm_source=team_cal&utm_content=league_url#game-562106
LOCATION:Youth Soccer Field 7
BEGIN:VALARM
TRIGGER:-P2H
ACTION:DISPLAY
DESCRIPTION:Sal vs Kennedy
END:VALARM
END:VEVENT
END:VCALENDAR

