BEGIN:VCALENDAR
VERSION:2.0
PRODID:-//YGAMETIME.com//YGT iCal Creator//EN
METHOD:PUBLISH
X-PUBLISHED-TTL:PT6H
REFRESH-INTERVAL;VALUE=DURATION:PT6H
CALSCALE:GREGORIAN
X-WR-CALNAME:YGAMETIME CALENDAR
BEGIN:VTIMEZONE
TZID:America/New_York
X-LIC-LOCATION:America/New_York
BEGIN:DAYLIGHT
TZOFFSETFROM:-0500
TZOFFSETTO:-0400
TZNAME:EDT
DTSTART:19700308T020000
RRULE:FREQ=YEARLY;BYMONTH=3;BYDAY=2SU
END:DAYLIGHT
BEGIN:STANDARD
TZOFFSETFROM:-0400
TZOFFSETTO:-0500
TZNAME:EST
DTSTART:19701101T020000
RRULE:FREQ=YEARLY;BYMONTH=11;BYDAY=1SU
END:STANDARD
END:VTIMEZONE
BEGIN:VEVENT
UID:moultrie-562120@ygametime.com
DTSTAMP:20251004T151500Z
DTSTART;TZID=America/New_York:20251004T111500
DURATION:PT0H60M0S
SUMMARY:Andrew vs Mikayla
DESCRIPTION:Ages 12, 13, & 14 | Youth Soccer\nMoultrie YMCA\n
URL;VALUE=URI:https://ygametime.com/branch/moultrie/sports/2025-fall-youth-soccer/24450/?utm_medium=calendar&utm_source=team_cal&utm_content=league_url#game-562120
LOCATION:Youth Soccer Field 8
BEGIN:VALARM
TRIGGER:-P2H
ACTION:DISPLAY
DESCRIPTION:Andrew vs Mikayla
END:VALARM
END:VEVENT
BEGIN:VEVENT
UID:moultrie-562121@ygametime.com
DTSTAMP:20251006T213000Z
DTSTART;TZID=America/New_York:20251006T173000
DURATION:PT0H60M0S
SUMMARY:Mikayla vs Nick
DESCRIPTION:Ages 12, 13, & 14 | Youth Soccer\nMoultrie YMCA\n
URL;VALUE=URI:https://ygametime.com/branch/moultrie/sports/2025-fall-youth-soccer/24450/?utm_medium=calendar&utm_source=team_cal&utm_content=league_url#game-562121
LOCATION:Youth Soccer Field 8
BEGIN:VALARM
TRIGGER:-P2H
ACTION:DISPLAY
DESCRIPTION:Mikayla vs Nick
END:VALARM
END:VEVENT
BEGIN:VEVENT
UID:moultrie-562123@ygametime.com
DTSTAMP:20251013T213000Z
DTSTART;TZID=America/New_York:20251013T173000
DURATION:PT0H60M0S
SUMMARY:Andrew vs Mikayla
DESCRIPTION:Ages 12, 13, & 14 | Youth Soccer\nMoultrie YMCA\n
URL;VALUE=URI:https://ygametime.com/branch/moultrie/sports/2025-fall-youth-soccer/24450/?utm_medium=calendar&utm_source=team_cal&utm_content=league_url#game-562123
LOCATION:Youth Soccer Field 8
BEGIN:VALARM
TRIGGER:-P2H
ACTION:DISPLAY
DESCRIPTION:Andrew vs Mikayla
END:VALARM
END:VEVENT
BEGIN:VEVENT
UID:moultrie-562124@ygametime.com
DTSTAMP:20251025T213000Z
DTSTART;TZID=America/New_York:20251025T173000
DURATION:PT0H60M0S
SUMMARY:Mikayla vs Nick
DESCRIPTION:Ages 12, 13, & 14 | Youth Soccer\nMoultrie YMCA\n
URL;VALUE=URI:https://ygametime.com/branch/moultrie/sports/2025-fall-youth-soccer/24450/?utm_medium=calendar&utm_source=team_cal&utm_content=league_url#game-562124
LOCATION:Youth Soccer Field 8
BEGIN:VALARM
TRIGGER:-P2H
ACTION:DISPLAY
DESCRIPTION:Mikayla vs Nick
END:VALARM
END:VEVENT
BEGIN:VEVENT
UID:moultrie-562126@ygametime.com
DTSTAMP:20251101T213000Z
DTSTART;TZID=America/New_York:20251101T173000
DURATION:PT0H60M0S
SUMMARY:Andrew vs Mikayla
DESCRIPTION:Ages 12, 13, & 14 | Youth Soccer\nMoultrie YMCA\n
URL;VALUE=URI:https://ygametime.com/branch/moultrie/sports/2025-fall-youth-soccer/24450/?utm_medium=calendar&utm_source=team_cal&utm_content=league_url#game-562126
LOCATION:Youth Soccer Field 8
BEGIN:VALARM
TRIGGER:-P2H
ACTION:DISPLAY
DESCRIPTION:Andrew vs Mikayla
END:VALARM
END:VEVENT
BEGIN:VEVENT
UID:moultrie-562127@ygametime.com
DTSTAMP:20251103T140000Z
DTSTART;TZID=America/New_York:20251103T090000
DURATION:PT0H60M0S
SUMMARY:Mikayla vs Nick
DESCRIPTION:Ages 12, 13, & 14 | Youth Soccer\nMoultrie YMCA\n
URL;VALUE=URI:https://ygametime.com/branch/moultrie/sports/2025-fall-youth-soccer/24450/?utm_medium=calendar&utm_source=team_cal&utm_content=league_url#game-562127
LOCATION:Youth Soccer Field 8
BEGIN:VALARM
TRIGGER:-P2H
ACTION:DISPLAY
DESCRIPTION:Mikayla vs Nick
END:VALARM
END:VEVENT
END:VCALENDAR

