BEGIN:VCALENDAR
VERSION:2.0
PRODID:-//YGAMETIME.com//YGT iCal Creator//EN
METHOD:PUBLISH
X-PUBLISHED-TTL:PT6H
REFRESH-INTERVAL;VALUE=DURATION:PT6H
CALSCALE:GREGORIAN
X-WR-CALNAME:YGAMETIME CALENDAR
BEGIN:VTIMEZONE
TZID:America/New_York
X-LIC-LOCATION:America/New_York
BEGIN:DAYLIGHT
TZOFFSETFROM:-0500
TZOFFSETTO:-0400
TZNAME:EDT
DTSTART:19700308T020000
RRULE:FREQ=YEARLY;BYMONTH=3;BYDAY=2SU
END:DAYLIGHT
BEGIN:STANDARD
TZOFFSETFROM:-0400
TZOFFSETTO:-0500
TZNAME:EST
DTSTART:19701101T020000
RRULE:FREQ=YEARLY;BYMONTH=11;BYDAY=1SU
END:STANDARD
END:VTIMEZONE
BEGIN:VEVENT
UID:moultrie-589459@ygametime.com
DTSTAMP:20260205T223000Z
DTSTART;TZID=America/New_York:20260205T173000
DURATION:PT0H60M0S
SUMMARY:Jones vs Mobley
DESCRIPTION:Little Hoopers | Youth Basketball\nMoultrie YMCA\n
URL;VALUE=URI:https://ygametime.com/branch/moultrie/sports/2026-winter-youth-basketball/25429/?utm_medium=calendar&utm_source=team_cal&utm_content=league_url#game-589459
LOCATION:Pineland Basketball Court 1
BEGIN:VALARM
TRIGGER:-P2H
ACTION:DISPLAY
DESCRIPTION:Jones vs Mobley
END:VALARM
END:VEVENT
BEGIN:VEVENT
UID:moultrie-589460@ygametime.com
DTSTAMP:20260210T223000Z
DTSTART;TZID=America/New_York:20260210T173000
DURATION:PT0H60M0S
SUMMARY:Jones vs Mobley
DESCRIPTION:Little Hoopers | Youth Basketball\nMoultrie YMCA\n
URL;VALUE=URI:https://ygametime.com/branch/moultrie/sports/2026-winter-youth-basketball/25429/?utm_medium=calendar&utm_source=team_cal&utm_content=league_url#game-589460
LOCATION:Pineland Basketball Court 1
BEGIN:VALARM
TRIGGER:-P2H
ACTION:DISPLAY
DESCRIPTION:Jones vs Mobley
END:VALARM
END:VEVENT
BEGIN:VEVENT
UID:moultrie-589461@ygametime.com
DTSTAMP:20260212T223000Z
DTSTART;TZID=America/New_York:20260212T173000
DURATION:PT0H60M0S
SUMMARY:Jones vs Mobley
DESCRIPTION:Little Hoopers | Youth Basketball\nMoultrie YMCA\n
URL;VALUE=URI:https://ygametime.com/branch/moultrie/sports/2026-winter-youth-basketball/25429/?utm_medium=calendar&utm_source=team_cal&utm_content=league_url#game-589461
LOCATION:Pineland Basketball Court 1
BEGIN:VALARM
TRIGGER:-P2H
ACTION:DISPLAY
DESCRIPTION:Jones vs Mobley
END:VALARM
END:VEVENT
BEGIN:VEVENT
UID:moultrie-589462@ygametime.com
DTSTAMP:20260217T223000Z
DTSTART;TZID=America/New_York:20260217T173000
DURATION:PT0H60M0S
SUMMARY:Jones vs Mobley
DESCRIPTION:Little Hoopers | Youth Basketball\nMoultrie YMCA\n
URL;VALUE=URI:https://ygametime.com/branch/moultrie/sports/2026-winter-youth-basketball/25429/?utm_medium=calendar&utm_source=team_cal&utm_content=league_url#game-589462
LOCATION:Pineland Basketball Court 1
BEGIN:VALARM
TRIGGER:-P2H
ACTION:DISPLAY
DESCRIPTION:Jones vs Mobley
END:VALARM
END:VEVENT
BEGIN:VEVENT
UID:moultrie-589463@ygametime.com
DTSTAMP:20260219T223000Z
DTSTART;TZID=America/New_York:20260219T173000
DURATION:PT0H60M0S
SUMMARY:Jones vs Mobley
DESCRIPTION:Little Hoopers | Youth Basketball\nMoultrie YMCA\n
URL;VALUE=URI:https://ygametime.com/branch/moultrie/sports/2026-winter-youth-basketball/25429/?utm_medium=calendar&utm_source=team_cal&utm_content=league_url#game-589463
LOCATION:Pineland Basketball Court 1
BEGIN:VALARM
TRIGGER:-P2H
ACTION:DISPLAY
DESCRIPTION:Jones vs Mobley
END:VALARM
END:VEVENT
BEGIN:VEVENT
UID:moultrie-589464@ygametime.com
DTSTAMP:20260224T223000Z
DTSTART;TZID=America/New_York:20260224T173000
DURATION:PT0H60M0S
SUMMARY:Jones vs Mobley
DESCRIPTION:Little Hoopers | Youth Basketball\nMoultrie YMCA\n
URL;VALUE=URI:https://ygametime.com/branch/moultrie/sports/2026-winter-youth-basketball/25429/?utm_medium=calendar&utm_source=team_cal&utm_content=league_url#game-589464
LOCATION:Pineland Basketball Court 1
BEGIN:VALARM
TRIGGER:-P2H
ACTION:DISPLAY
DESCRIPTION:Jones vs Mobley
END:VALARM
END:VEVENT
END:VCALENDAR

