BEGIN:VCALENDAR
VERSION:2.0
PRODID:-//YGAMETIME.com//YGT iCal Creator//EN
METHOD:PUBLISH
X-PUBLISHED-TTL:PT6H
REFRESH-INTERVAL;VALUE=DURATION:PT6H
CALSCALE:GREGORIAN
X-WR-CALNAME:YGAMETIME CALENDAR
BEGIN:VTIMEZONE
TZID:America/New_York
X-LIC-LOCATION:America/New_York
BEGIN:DAYLIGHT
TZOFFSETFROM:-0500
TZOFFSETTO:-0400
TZNAME:EDT
DTSTART:19700308T020000
RRULE:FREQ=YEARLY;BYMONTH=3;BYDAY=2SU
END:DAYLIGHT
BEGIN:STANDARD
TZOFFSETFROM:-0400
TZOFFSETTO:-0500
TZNAME:EST
DTSTART:19701101T020000
RRULE:FREQ=YEARLY;BYMONTH=11;BYDAY=1SU
END:STANDARD
END:VTIMEZONE
BEGIN:VEVENT
UID:moultrie-589465@ygametime.com
DTSTAMP:20260205T223000Z
DTSTART;TZID=America/New_York:20260205T173000
DURATION:PT0H60M0S
SUMMARY:Green vs Bautista
DESCRIPTION:K-1st | Youth Basketball\nMoultrie YMCA\n
URL;VALUE=URI:https://ygametime.com/branch/moultrie/sports/2026-winter-youth-basketball/25430/?utm_medium=calendar&utm_source=team_cal&utm_content=league_url#game-589465
LOCATION:Pineland Basketball Court 2
BEGIN:VALARM
TRIGGER:-P2H
ACTION:DISPLAY
DESCRIPTION:Green vs Bautista
END:VALARM
END:VEVENT
BEGIN:VEVENT
UID:moultrie-589468@ygametime.com
DTSTAMP:20260210T233000Z
DTSTART;TZID=America/New_York:20260210T183000
DURATION:PT0H60M0S
SUMMARY:Bautista vs Williams
DESCRIPTION:K-1st | Youth Basketball\nMoultrie YMCA\n
URL;VALUE=URI:https://ygametime.com/branch/moultrie/sports/2026-winter-youth-basketball/25430/?utm_medium=calendar&utm_source=team_cal&utm_content=league_url#game-589468
LOCATION:Pineland Basketball Court 1
BEGIN:VALARM
TRIGGER:-P2H
ACTION:DISPLAY
DESCRIPTION:Bautista vs Williams
END:VALARM
END:VEVENT
BEGIN:VEVENT
UID:moultrie-589469@ygametime.com
DTSTAMP:20260212T223000Z
DTSTART;TZID=America/New_York:20260212T173000
DURATION:PT0H60M0S
SUMMARY:Pinkins vs Bautista
DESCRIPTION:K-1st | Youth Basketball\nMoultrie YMCA\n
URL;VALUE=URI:https://ygametime.com/branch/moultrie/sports/2026-winter-youth-basketball/25430/?utm_medium=calendar&utm_source=team_cal&utm_content=league_url#game-589469
LOCATION:Pineland Basketball Court 2
BEGIN:VALARM
TRIGGER:-P2H
ACTION:DISPLAY
DESCRIPTION:Pinkins vs Bautista
END:VALARM
END:VEVENT
BEGIN:VEVENT
UID:moultrie-589472@ygametime.com
DTSTAMP:20260217T233000Z
DTSTART;TZID=America/New_York:20260217T183000
DURATION:PT0H60M0S
SUMMARY:Green vs Bautista
DESCRIPTION:K-1st | Youth Basketball\nMoultrie YMCA\n
URL;VALUE=URI:https://ygametime.com/branch/moultrie/sports/2026-winter-youth-basketball/25430/?utm_medium=calendar&utm_source=team_cal&utm_content=league_url#game-589472
LOCATION:Pineland Basketball Court 1
BEGIN:VALARM
TRIGGER:-P2H
ACTION:DISPLAY
DESCRIPTION:Green vs Bautista
END:VALARM
END:VEVENT
BEGIN:VEVENT
UID:moultrie-589473@ygametime.com
DTSTAMP:20260219T223000Z
DTSTART;TZID=America/New_York:20260219T173000
DURATION:PT0H60M0S
SUMMARY:Bautista vs Williams
DESCRIPTION:K-1st | Youth Basketball\nMoultrie YMCA\n
URL;VALUE=URI:https://ygametime.com/branch/moultrie/sports/2026-winter-youth-basketball/25430/?utm_medium=calendar&utm_source=team_cal&utm_content=league_url#game-589473
LOCATION:Pineland Basketball Court 2
BEGIN:VALARM
TRIGGER:-P2H
ACTION:DISPLAY
DESCRIPTION:Bautista vs Williams
END:VALARM
END:VEVENT
BEGIN:VEVENT
UID:moultrie-589476@ygametime.com
DTSTAMP:20260224T233000Z
DTSTART;TZID=America/New_York:20260224T183000
DURATION:PT0H60M0S
SUMMARY:Pinkins vs Bautista
DESCRIPTION:K-1st | Youth Basketball\nMoultrie YMCA\n
URL;VALUE=URI:https://ygametime.com/branch/moultrie/sports/2026-winter-youth-basketball/25430/?utm_medium=calendar&utm_source=team_cal&utm_content=league_url#game-589476
LOCATION:Pineland Basketball Court 1
BEGIN:VALARM
TRIGGER:-P2H
ACTION:DISPLAY
DESCRIPTION:Pinkins vs Bautista
END:VALARM
END:VEVENT
END:VCALENDAR

