BEGIN:VCALENDAR
VERSION:2.0
PRODID:-//YGAMETIME.com//YGT iCal Creator//EN
METHOD:PUBLISH
X-PUBLISHED-TTL:PT6H
REFRESH-INTERVAL;VALUE=DURATION:PT6H
CALSCALE:GREGORIAN
X-WR-CALNAME:YGAMETIME CALENDAR
BEGIN:VTIMEZONE
TZID:America/New_York
X-LIC-LOCATION:America/New_York
BEGIN:DAYLIGHT
TZOFFSETFROM:-0500
TZOFFSETTO:-0400
TZNAME:EDT
DTSTART:19700308T020000
RRULE:FREQ=YEARLY;BYMONTH=3;BYDAY=2SU
END:DAYLIGHT
BEGIN:STANDARD
TZOFFSETFROM:-0400
TZOFFSETTO:-0500
TZNAME:EST
DTSTART:19701101T020000
RRULE:FREQ=YEARLY;BYMONTH=11;BYDAY=1SU
END:STANDARD
END:VTIMEZONE
BEGIN:VEVENT
UID:moultrie-589676@ygametime.com
DTSTAMP:20260205T233000Z
DTSTART;TZID=America/New_York:20260205T183000
DURATION:PT0H60M0S
SUMMARY:Cannon vs Young
DESCRIPTION:2nd-3rd | Youth Basketball\nMoultrie YMCA\n
URL;VALUE=URI:https://ygametime.com/branch/moultrie/sports/2026-winter-youth-basketball/25431/?utm_medium=calendar&utm_source=team_cal&utm_content=league_url#game-589676
LOCATION:Pineland Basketball Court 2
BEGIN:VALARM
TRIGGER:-P2H
ACTION:DISPLAY
DESCRIPTION:Cannon vs Young
END:VALARM
END:VEVENT
BEGIN:VEVENT
UID:moultrie-589692@ygametime.com
DTSTAMP:20260211T003000Z
DTSTART;TZID=America/New_York:20260210T193000
DURATION:PT0H60M0S
SUMMARY:Cannon vs Mobley
DESCRIPTION:2nd-3rd | Youth Basketball\nMoultrie YMCA\n
URL;VALUE=URI:https://ygametime.com/branch/moultrie/sports/2026-winter-youth-basketball/25431/?utm_medium=calendar&utm_source=team_cal&utm_content=league_url#game-589692
LOCATION:Pineland Basketball Court 2
BEGIN:VALARM
TRIGGER:-P2H
ACTION:DISPLAY
DESCRIPTION:Cannon vs Mobley
END:VALARM
END:VEVENT
BEGIN:VEVENT
UID:moultrie-589681@ygametime.com
DTSTAMP:20260213T003000Z
DTSTART;TZID=America/New_York:20260212T193000
DURATION:PT0H60M0S
SUMMARY:Cannon vs Key
DESCRIPTION:2nd-3rd | Youth Basketball\nMoultrie YMCA\n
URL;VALUE=URI:https://ygametime.com/branch/moultrie/sports/2026-winter-youth-basketball/25431/?utm_medium=calendar&utm_source=team_cal&utm_content=league_url#game-589681
LOCATION:Pineland Basketball Court 1
BEGIN:VALARM
TRIGGER:-P2H
ACTION:DISPLAY
DESCRIPTION:Cannon vs Key
END:VALARM
END:VEVENT
BEGIN:VEVENT
UID:moultrie-589683@ygametime.com
DTSTAMP:20260218T003000Z
DTSTART;TZID=America/New_York:20260217T193000
DURATION:PT0H60M0S
SUMMARY:Cohran vs Cannon
DESCRIPTION:2nd-3rd | Youth Basketball\nMoultrie YMCA\n
URL;VALUE=URI:https://ygametime.com/branch/moultrie/sports/2026-winter-youth-basketball/25431/?utm_medium=calendar&utm_source=team_cal&utm_content=league_url#game-589683
LOCATION:Pineland Basketball Court 1
BEGIN:VALARM
TRIGGER:-P2H
ACTION:DISPLAY
DESCRIPTION:Cohran vs Cannon
END:VALARM
END:VEVENT
BEGIN:VEVENT
UID:moultrie-589685@ygametime.com
DTSTAMP:20260220T003000Z
DTSTART;TZID=America/New_York:20260219T193000
DURATION:PT0H60M0S
SUMMARY:Young vs Cannon
DESCRIPTION:2nd-3rd | Youth Basketball\nMoultrie YMCA\n
URL;VALUE=URI:https://ygametime.com/branch/moultrie/sports/2026-winter-youth-basketball/25431/?utm_medium=calendar&utm_source=team_cal&utm_content=league_url#game-589685
LOCATION:Pineland Basketball Court 1
BEGIN:VALARM
TRIGGER:-P2H
ACTION:DISPLAY
DESCRIPTION:Young vs Cannon
END:VALARM
END:VEVENT
BEGIN:VEVENT
UID:moultrie-589687@ygametime.com
DTSTAMP:20260225T003000Z
DTSTART;TZID=America/New_York:20260224T193000
DURATION:PT0H60M0S
SUMMARY:Cannon vs Mobley
DESCRIPTION:2nd-3rd | Youth Basketball\nMoultrie YMCA\n
URL;VALUE=URI:https://ygametime.com/branch/moultrie/sports/2026-winter-youth-basketball/25431/?utm_medium=calendar&utm_source=team_cal&utm_content=league_url#game-589687
LOCATION:Pineland Basketball Court 1
BEGIN:VALARM
TRIGGER:-P2H
ACTION:DISPLAY
DESCRIPTION:Cannon vs Mobley
END:VALARM
END:VEVENT
END:VCALENDAR

