BEGIN:VCALENDAR
VERSION:2.0
PRODID:-//YGAMETIME.com//YGT iCal Creator//EN
METHOD:PUBLISH
X-PUBLISHED-TTL:PT6H
REFRESH-INTERVAL;VALUE=DURATION:PT6H
CALSCALE:GREGORIAN
X-WR-CALNAME:YGAMETIME CALENDAR
BEGIN:VTIMEZONE
TZID:America/New_York
X-LIC-LOCATION:America/New_York
BEGIN:DAYLIGHT
TZOFFSETFROM:-0500
TZOFFSETTO:-0400
TZNAME:EDT
DTSTART:19700308T020000
RRULE:FREQ=YEARLY;BYMONTH=3;BYDAY=2SU
END:DAYLIGHT
BEGIN:STANDARD
TZOFFSETFROM:-0400
TZOFFSETTO:-0500
TZNAME:EST
DTSTART:19701101T020000
RRULE:FREQ=YEARLY;BYMONTH=11;BYDAY=1SU
END:STANDARD
END:VTIMEZONE
BEGIN:VEVENT
UID:moultrie-601033@ygametime.com
DTSTAMP:20260420T214500Z
DTSTART;TZID=America/New_York:20260420T174500
DURATION:PT0H60M0S
SUMMARY:Bautista vs Martinez
DESCRIPTION:3/4 year olds | Youth Soccer\nMoultrie YMCA\n
URL;VALUE=URI:https://ygametime.com/branch/moultrie/sports/2026-spring-youth-soccer/25901/?utm_medium=calendar&utm_source=team_cal&utm_content=league_url#game-601033
LOCATION:Pineland soccer 2
BEGIN:VALARM
TRIGGER:-P2H
ACTION:DISPLAY
DESCRIPTION:Bautista vs Martinez
END:VALARM
END:VEVENT
BEGIN:VEVENT
UID:moultrie-601035@ygametime.com
DTSTAMP:20260421T214500Z
DTSTART;TZID=America/New_York:20260421T174500
DURATION:PT0H60M0S
SUMMARY:Bailor vs Bautista
DESCRIPTION:3/4 year olds | Youth Soccer\nMoultrie YMCA\n
URL;VALUE=URI:https://ygametime.com/branch/moultrie/sports/2026-spring-youth-soccer/25901/?utm_medium=calendar&utm_source=team_cal&utm_content=league_url#game-601035
LOCATION:Pineland soccer 2
BEGIN:VALARM
TRIGGER:-P2H
ACTION:DISPLAY
DESCRIPTION:Bailor vs Bautista
END:VALARM
END:VEVENT
BEGIN:VEVENT
UID:moultrie-601037@ygametime.com
DTSTAMP:20260427T214500Z
DTSTART;TZID=America/New_York:20260427T174500
DURATION:PT0H60M0S
SUMMARY:Horne vs Bautista
DESCRIPTION:3/4 year olds | Youth Soccer\nMoultrie YMCA\n
URL;VALUE=URI:https://ygametime.com/branch/moultrie/sports/2026-spring-youth-soccer/25901/?utm_medium=calendar&utm_source=team_cal&utm_content=league_url#game-601037
LOCATION:Pineland soccer 2
BEGIN:VALARM
TRIGGER:-P2H
ACTION:DISPLAY
DESCRIPTION:Horne vs Bautista
END:VALARM
END:VEVENT
BEGIN:VEVENT
UID:moultrie-601038@ygametime.com
DTSTAMP:20260428T214500Z
DTSTART;TZID=America/New_York:20260428T174500
DURATION:PT0H60M0S
SUMMARY:Bautista vs Martinez
DESCRIPTION:3/4 year olds | Youth Soccer\nMoultrie YMCA\n
URL;VALUE=URI:https://ygametime.com/branch/moultrie/sports/2026-spring-youth-soccer/25901/?utm_medium=calendar&utm_source=team_cal&utm_content=league_url#game-601038
LOCATION:Pineland soccer 1
BEGIN:VALARM
TRIGGER:-P2H
ACTION:DISPLAY
DESCRIPTION:Bautista vs Martinez
END:VALARM
END:VEVENT
BEGIN:VEVENT
UID:moultrie-601040@ygametime.com
DTSTAMP:20260504T214500Z
DTSTART;TZID=America/New_York:20260504T174500
DURATION:PT0H60M0S
SUMMARY:Bailor vs Bautista
DESCRIPTION:3/4 year olds | Youth Soccer\nMoultrie YMCA\n
URL;VALUE=URI:https://ygametime.com/branch/moultrie/sports/2026-spring-youth-soccer/25901/?utm_medium=calendar&utm_source=team_cal&utm_content=league_url#game-601040
LOCATION:Pineland soccer 1
BEGIN:VALARM
TRIGGER:-P2H
ACTION:DISPLAY
DESCRIPTION:Bailor vs Bautista
END:VALARM
END:VEVENT
BEGIN:VEVENT
UID:moultrie-601042@ygametime.com
DTSTAMP:20260505T214500Z
DTSTART;TZID=America/New_York:20260505T174500
DURATION:PT0H60M0S
SUMMARY:Horne vs Bautista
DESCRIPTION:3/4 year olds | Youth Soccer\nMoultrie YMCA\n
URL;VALUE=URI:https://ygametime.com/branch/moultrie/sports/2026-spring-youth-soccer/25901/?utm_medium=calendar&utm_source=team_cal&utm_content=league_url#game-601042
LOCATION:Pineland soccer 1
BEGIN:VALARM
TRIGGER:-P2H
ACTION:DISPLAY
DESCRIPTION:Horne vs Bautista
END:VALARM
END:VEVENT
BEGIN:VEVENT
UID:moultrie-601045@ygametime.com
DTSTAMP:20260511T214500Z
DTSTART;TZID=America/New_York:20260511T174500
DURATION:PT0H60M0S
SUMMARY:Bautista vs Martinez
DESCRIPTION:3/4 year olds | Youth Soccer\nMoultrie YMCA\n
URL;VALUE=URI:https://ygametime.com/branch/moultrie/sports/2026-spring-youth-soccer/25901/?utm_medium=calendar&utm_source=team_cal&utm_content=league_url#game-601045
LOCATION:Pineland soccer 2
BEGIN:VALARM
TRIGGER:-P2H
ACTION:DISPLAY
DESCRIPTION:Bautista vs Martinez
END:VALARM
END:VEVENT
BEGIN:VEVENT
UID:moultrie-601047@ygametime.com
DTSTAMP:20260512T214500Z
DTSTART;TZID=America/New_York:20260512T174500
DURATION:PT0H60M0S
SUMMARY:Bailor vs Bautista
DESCRIPTION:3/4 year olds | Youth Soccer\nMoultrie YMCA\n
URL;VALUE=URI:https://ygametime.com/branch/moultrie/sports/2026-spring-youth-soccer/25901/?utm_medium=calendar&utm_source=team_cal&utm_content=league_url#game-601047
LOCATION:Pineland soccer 2
BEGIN:VALARM
TRIGGER:-P2H
ACTION:DISPLAY
DESCRIPTION:Bailor vs Bautista
END:VALARM
END:VEVENT
END:VCALENDAR

