BEGIN:VCALENDAR
VERSION:2.0
PRODID:-//YGAMETIME.com//YGT iCal Creator//EN
METHOD:PUBLISH
X-PUBLISHED-TTL:PT6H
REFRESH-INTERVAL;VALUE=DURATION:PT6H
CALSCALE:GREGORIAN
X-WR-CALNAME:YGAMETIME CALENDAR
BEGIN:VTIMEZONE
TZID:America/New_York
X-LIC-LOCATION:America/New_York
BEGIN:DAYLIGHT
TZOFFSETFROM:-0500
TZOFFSETTO:-0400
TZNAME:EDT
DTSTART:19700308T020000
RRULE:FREQ=YEARLY;BYMONTH=3;BYDAY=2SU
END:DAYLIGHT
BEGIN:STANDARD
TZOFFSETFROM:-0400
TZOFFSETTO:-0500
TZNAME:EST
DTSTART:19701101T020000
RRULE:FREQ=YEARLY;BYMONTH=11;BYDAY=1SU
END:STANDARD
END:VTIMEZONE
BEGIN:VEVENT
UID:moultrie-601049@ygametime.com
DTSTAMP:20260420T224500Z
DTSTART;TZID=America/New_York:20260420T184500
DURATION:PT0H60M0S
SUMMARY:Castellow vs Warnock
DESCRIPTION:5/6year olds | Youth Soccer\nMoultrie YMCA\n
URL;VALUE=URI:https://ygametime.com/branch/moultrie/sports/2026-spring-youth-soccer/25902/?utm_medium=calendar&utm_source=team_cal&utm_content=league_url#game-601049
LOCATION:Pineland Soccer 4
BEGIN:VALARM
TRIGGER:-P2H
ACTION:DISPLAY
DESCRIPTION:Castellow vs Warnock
END:VALARM
END:VEVENT
BEGIN:VEVENT
UID:moultrie-601050@ygametime.com
DTSTAMP:20260421T224500Z
DTSTART;TZID=America/New_York:20260421T184500
DURATION:PT0H60M0S
SUMMARY:Warnock vs Lopez
DESCRIPTION:5/6year olds | Youth Soccer\nMoultrie YMCA\n
URL;VALUE=URI:https://ygametime.com/branch/moultrie/sports/2026-spring-youth-soccer/25902/?utm_medium=calendar&utm_source=team_cal&utm_content=league_url#game-601050
LOCATION:Pineland Soccer 3
BEGIN:VALARM
TRIGGER:-P2H
ACTION:DISPLAY
DESCRIPTION:Warnock vs Lopez
END:VALARM
END:VEVENT
BEGIN:VEVENT
UID:moultrie-601052@ygametime.com
DTSTAMP:20260427T224500Z
DTSTART;TZID=America/New_York:20260427T184500
DURATION:PT0H60M0S
SUMMARY:Warnock vs Little
DESCRIPTION:5/6year olds | Youth Soccer\nMoultrie YMCA\n
URL;VALUE=URI:https://ygametime.com/branch/moultrie/sports/2026-spring-youth-soccer/25902/?utm_medium=calendar&utm_source=team_cal&utm_content=league_url#game-601052
LOCATION:Pineland Soccer 3
BEGIN:VALARM
TRIGGER:-P2H
ACTION:DISPLAY
DESCRIPTION:Warnock vs Little
END:VALARM
END:VEVENT
BEGIN:VEVENT
UID:moultrie-601054@ygametime.com
DTSTAMP:20260428T224500Z
DTSTART;TZID=America/New_York:20260428T184500
DURATION:PT0H60M0S
SUMMARY:Castellow vs Warnock
DESCRIPTION:5/6year olds | Youth Soccer\nMoultrie YMCA\n
URL;VALUE=URI:https://ygametime.com/branch/moultrie/sports/2026-spring-youth-soccer/25902/?utm_medium=calendar&utm_source=team_cal&utm_content=league_url#game-601054
LOCATION:Pineland Soccer 3
BEGIN:VALARM
TRIGGER:-P2H
ACTION:DISPLAY
DESCRIPTION:Castellow vs Warnock
END:VALARM
END:VEVENT
BEGIN:VEVENT
UID:moultrie-601057@ygametime.com
DTSTAMP:20260504T224500Z
DTSTART;TZID=America/New_York:20260504T184500
DURATION:PT0H60M0S
SUMMARY:Warnock vs Lopez
DESCRIPTION:5/6year olds | Youth Soccer\nMoultrie YMCA\n
URL;VALUE=URI:https://ygametime.com/branch/moultrie/sports/2026-spring-youth-soccer/25902/?utm_medium=calendar&utm_source=team_cal&utm_content=league_url#game-601057
LOCATION:Pineland Soccer 4
BEGIN:VALARM
TRIGGER:-P2H
ACTION:DISPLAY
DESCRIPTION:Warnock vs Lopez
END:VALARM
END:VEVENT
BEGIN:VEVENT
UID:moultrie-601059@ygametime.com
DTSTAMP:20260505T224500Z
DTSTART;TZID=America/New_York:20260505T184500
DURATION:PT0H60M0S
SUMMARY:Warnock vs Little
DESCRIPTION:5/6year olds | Youth Soccer\nMoultrie YMCA\n
URL;VALUE=URI:https://ygametime.com/branch/moultrie/sports/2026-spring-youth-soccer/25902/?utm_medium=calendar&utm_source=team_cal&utm_content=league_url#game-601059
LOCATION:Pineland Soccer 4
BEGIN:VALARM
TRIGGER:-P2H
ACTION:DISPLAY
DESCRIPTION:Warnock vs Little
END:VALARM
END:VEVENT
BEGIN:VEVENT
UID:moultrie-601061@ygametime.com
DTSTAMP:20260511T224500Z
DTSTART;TZID=America/New_York:20260511T184500
DURATION:PT0H60M0S
SUMMARY:Castellow vs Warnock
DESCRIPTION:5/6year olds | Youth Soccer\nMoultrie YMCA\n
URL;VALUE=URI:https://ygametime.com/branch/moultrie/sports/2026-spring-youth-soccer/25902/?utm_medium=calendar&utm_source=team_cal&utm_content=league_url#game-601061
LOCATION:Pineland Soccer 4
BEGIN:VALARM
TRIGGER:-P2H
ACTION:DISPLAY
DESCRIPTION:Castellow vs Warnock
END:VALARM
END:VEVENT
BEGIN:VEVENT
UID:moultrie-601062@ygametime.com
DTSTAMP:20260512T224500Z
DTSTART;TZID=America/New_York:20260512T184500
DURATION:PT0H60M0S
SUMMARY:Warnock vs Lopez
DESCRIPTION:5/6year olds | Youth Soccer\nMoultrie YMCA\n
URL;VALUE=URI:https://ygametime.com/branch/moultrie/sports/2026-spring-youth-soccer/25902/?utm_medium=calendar&utm_source=team_cal&utm_content=league_url#game-601062
LOCATION:Pineland Soccer 3
BEGIN:VALARM
TRIGGER:-P2H
ACTION:DISPLAY
DESCRIPTION:Warnock vs Lopez
END:VALARM
END:VEVENT
END:VCALENDAR

