BEGIN:VCALENDAR
VERSION:2.0
PRODID:-//YGAMETIME.com//YGT iCal Creator//EN
METHOD:PUBLISH
X-PUBLISHED-TTL:PT6H
REFRESH-INTERVAL;VALUE=DURATION:PT6H
CALSCALE:GREGORIAN
X-WR-CALNAME:YGAMETIME CALENDAR
BEGIN:VTIMEZONE
TZID:America/New_York
X-LIC-LOCATION:America/New_York
BEGIN:DAYLIGHT
TZOFFSETFROM:-0500
TZOFFSETTO:-0400
TZNAME:EDT
DTSTART:19700308T020000
RRULE:FREQ=YEARLY;BYMONTH=3;BYDAY=2SU
END:DAYLIGHT
BEGIN:STANDARD
TZOFFSETFROM:-0400
TZOFFSETTO:-0500
TZNAME:EST
DTSTART:19701101T020000
RRULE:FREQ=YEARLY;BYMONTH=11;BYDAY=1SU
END:STANDARD
END:VTIMEZONE
BEGIN:VEVENT
UID:moultrie-601137@ygametime.com
DTSTAMP:20260416T214500Z
DTSTART;TZID=America/New_York:20260416T174500
DURATION:PT0H75M0S
SUMMARY:Touchton vs Duque
DESCRIPTION:7/8 year olds | Youth Soccer\nMoultrie YMCA\n
URL;VALUE=URI:https://ygametime.com/branch/moultrie/sports/2026-spring-youth-soccer/25903/?utm_medium=calendar&utm_source=team_cal&utm_content=league_url#game-601137
LOCATION:Youth Soccer Field 7
BEGIN:VALARM
TRIGGER:-P2H
ACTION:DISPLAY
DESCRIPTION:Touchton vs Duque
END:VALARM
END:VEVENT
BEGIN:VEVENT
UID:moultrie-601138@ygametime.com
DTSTAMP:20260421T214500Z
DTSTART;TZID=America/New_York:20260421T174500
DURATION:PT0H75M0S
SUMMARY:Duque vs Berl
DESCRIPTION:7/8 year olds | Youth Soccer\nMoultrie YMCA\n
URL;VALUE=URI:https://ygametime.com/branch/moultrie/sports/2026-spring-youth-soccer/25903/?utm_medium=calendar&utm_source=team_cal&utm_content=league_url#game-601138
LOCATION:Youth Soccer Field 6
BEGIN:VALARM
TRIGGER:-P2H
ACTION:DISPLAY
DESCRIPTION:Duque vs Berl
END:VALARM
END:VEVENT
BEGIN:VEVENT
UID:moultrie-601141@ygametime.com
DTSTAMP:20260423T230000Z
DTSTART;TZID=America/New_York:20260423T190000
DURATION:PT0H75M0S
SUMMARY:Holden vs Duque
DESCRIPTION:7/8 year olds | Youth Soccer\nMoultrie YMCA\n
URL;VALUE=URI:https://ygametime.com/branch/moultrie/sports/2026-spring-youth-soccer/25903/?utm_medium=calendar&utm_source=team_cal&utm_content=league_url#game-601141
LOCATION:Youth Soccer Field 7
BEGIN:VALARM
TRIGGER:-P2H
ACTION:DISPLAY
DESCRIPTION:Holden vs Duque
END:VALARM
END:VEVENT
BEGIN:VEVENT
UID:moultrie-601144@ygametime.com
DTSTAMP:20260430T230000Z
DTSTART;TZID=America/New_York:20260430T190000
DURATION:PT0H75M0S
SUMMARY:Duque vs Abell
DESCRIPTION:7/8 year olds | Youth Soccer\nMoultrie YMCA\n
URL;VALUE=URI:https://ygametime.com/branch/moultrie/sports/2026-spring-youth-soccer/25903/?utm_medium=calendar&utm_source=team_cal&utm_content=league_url#game-601144
LOCATION:Youth Soccer Field 6
BEGIN:VALARM
TRIGGER:-P2H
ACTION:DISPLAY
DESCRIPTION:Duque vs Abell
END:VALARM
END:VEVENT
BEGIN:VEVENT
UID:moultrie-601146@ygametime.com
DTSTAMP:20260505T214500Z
DTSTART;TZID=America/New_York:20260505T174500
DURATION:PT0H75M0S
SUMMARY:Touchton vs Duque
DESCRIPTION:7/8 year olds | Youth Soccer\nMoultrie YMCA\n
URL;VALUE=URI:https://ygametime.com/branch/moultrie/sports/2026-spring-youth-soccer/25903/?utm_medium=calendar&utm_source=team_cal&utm_content=league_url#game-601146
LOCATION:Youth Soccer Field 6
BEGIN:VALARM
TRIGGER:-P2H
ACTION:DISPLAY
DESCRIPTION:Touchton vs Duque
END:VALARM
END:VEVENT
BEGIN:VEVENT
UID:moultrie-601149@ygametime.com
DTSTAMP:20260507T230000Z
DTSTART;TZID=America/New_York:20260507T190000
DURATION:PT0H75M0S
SUMMARY:Duque vs Berl
DESCRIPTION:7/8 year olds | Youth Soccer\nMoultrie YMCA\n
URL;VALUE=URI:https://ygametime.com/branch/moultrie/sports/2026-spring-youth-soccer/25903/?utm_medium=calendar&utm_source=team_cal&utm_content=league_url#game-601149
LOCATION:Youth Soccer Field 7
BEGIN:VALARM
TRIGGER:-P2H
ACTION:DISPLAY
DESCRIPTION:Duque vs Berl
END:VALARM
END:VEVENT
BEGIN:VEVENT
UID:moultrie-601150@ygametime.com
DTSTAMP:20260512T214500Z
DTSTART;TZID=America/New_York:20260512T174500
DURATION:PT0H75M0S
SUMMARY:Holden vs Duque
DESCRIPTION:7/8 year olds | Youth Soccer\nMoultrie YMCA\n
URL;VALUE=URI:https://ygametime.com/branch/moultrie/sports/2026-spring-youth-soccer/25903/?utm_medium=calendar&utm_source=team_cal&utm_content=league_url#game-601150
LOCATION:Youth Soccer Field 6
BEGIN:VALARM
TRIGGER:-P2H
ACTION:DISPLAY
DESCRIPTION:Holden vs Duque
END:VALARM
END:VEVENT
END:VCALENDAR

