BEGIN:VCALENDAR
VERSION:2.0
PRODID:-//YGAMETIME.com//YGT iCal Creator//EN
METHOD:PUBLISH
X-PUBLISHED-TTL:PT6H
REFRESH-INTERVAL;VALUE=DURATION:PT6H
CALSCALE:GREGORIAN
X-WR-CALNAME:YGAMETIME CALENDAR
BEGIN:VTIMEZONE
TZID:America/New_York
X-LIC-LOCATION:America/New_York
BEGIN:DAYLIGHT
TZOFFSETFROM:-0500
TZOFFSETTO:-0400
TZNAME:EDT
DTSTART:19700308T020000
RRULE:FREQ=YEARLY;BYMONTH=3;BYDAY=2SU
END:DAYLIGHT
BEGIN:STANDARD
TZOFFSETFROM:-0400
TZOFFSETTO:-0500
TZNAME:EST
DTSTART:19701101T020000
RRULE:FREQ=YEARLY;BYMONTH=11;BYDAY=1SU
END:STANDARD
END:VTIMEZONE
BEGIN:VEVENT
UID:moultrie-601137@ygametime.com
DTSTAMP:20260416T214500Z
DTSTART;TZID=America/New_York:20260416T174500
DURATION:PT0H75M0S
SUMMARY:Touchton vs Duque
DESCRIPTION:7/8 year olds | Youth Soccer\nMoultrie YMCA\n
URL;VALUE=URI:https://ygametime.com/branch/moultrie/sports/2026-spring-youth-soccer/25903/?utm_medium=calendar&utm_source=team_cal&utm_content=league_url#game-601137
LOCATION:Youth Soccer Field 7
BEGIN:VALARM
TRIGGER:-P2H
ACTION:DISPLAY
DESCRIPTION:Touchton vs Duque
END:VALARM
END:VEVENT
BEGIN:VEVENT
UID:moultrie-601139@ygametime.com
DTSTAMP:20260421T230000Z
DTSTART;TZID=America/New_York:20260421T190000
DURATION:PT0H75M0S
SUMMARY:Abell vs Touchton
DESCRIPTION:7/8 year olds | Youth Soccer\nMoultrie YMCA\n
URL;VALUE=URI:https://ygametime.com/branch/moultrie/sports/2026-spring-youth-soccer/25903/?utm_medium=calendar&utm_source=team_cal&utm_content=league_url#game-601139
LOCATION:Youth Soccer Field 7
BEGIN:VALARM
TRIGGER:-P2H
ACTION:DISPLAY
DESCRIPTION:Abell vs Touchton
END:VALARM
END:VEVENT
BEGIN:VEVENT
UID:moultrie-601140@ygametime.com
DTSTAMP:20260423T214500Z
DTSTART;TZID=America/New_York:20260423T174500
DURATION:PT0H75M0S
SUMMARY:Berl vs Touchton
DESCRIPTION:7/8 year olds | Youth Soccer\nMoultrie YMCA\n
URL;VALUE=URI:https://ygametime.com/branch/moultrie/sports/2026-spring-youth-soccer/25903/?utm_medium=calendar&utm_source=team_cal&utm_content=league_url#game-601140
LOCATION:Youth Soccer Field 6
BEGIN:VALARM
TRIGGER:-P2H
ACTION:DISPLAY
DESCRIPTION:Berl vs Touchton
END:VALARM
END:VEVENT
BEGIN:VEVENT
UID:moultrie-601142@ygametime.com
DTSTAMP:20260428T214500Z
DTSTART;TZID=America/New_York:20260428T174500
DURATION:PT0H75M0S
SUMMARY:Touchton vs Holden
DESCRIPTION:7/8 year olds | Youth Soccer\nMoultrie YMCA\n
URL;VALUE=URI:https://ygametime.com/branch/moultrie/sports/2026-spring-youth-soccer/25903/?utm_medium=calendar&utm_source=team_cal&utm_content=league_url#game-601142
LOCATION:Youth Soccer Field 6
BEGIN:VALARM
TRIGGER:-P2H
ACTION:DISPLAY
DESCRIPTION:Touchton vs Holden
END:VALARM
END:VEVENT
BEGIN:VEVENT
UID:moultrie-601146@ygametime.com
DTSTAMP:20260505T214500Z
DTSTART;TZID=America/New_York:20260505T174500
DURATION:PT0H75M0S
SUMMARY:Touchton vs Duque
DESCRIPTION:7/8 year olds | Youth Soccer\nMoultrie YMCA\n
URL;VALUE=URI:https://ygametime.com/branch/moultrie/sports/2026-spring-youth-soccer/25903/?utm_medium=calendar&utm_source=team_cal&utm_content=league_url#game-601146
LOCATION:Youth Soccer Field 6
BEGIN:VALARM
TRIGGER:-P2H
ACTION:DISPLAY
DESCRIPTION:Touchton vs Duque
END:VALARM
END:VEVENT
BEGIN:VEVENT
UID:moultrie-601148@ygametime.com
DTSTAMP:20260507T214500Z
DTSTART;TZID=America/New_York:20260507T174500
DURATION:PT0H75M0S
SUMMARY:Abell vs Touchton
DESCRIPTION:7/8 year olds | Youth Soccer\nMoultrie YMCA\n
URL;VALUE=URI:https://ygametime.com/branch/moultrie/sports/2026-spring-youth-soccer/25903/?utm_medium=calendar&utm_source=team_cal&utm_content=league_url#game-601148
LOCATION:Youth Soccer Field 6
BEGIN:VALARM
TRIGGER:-P2H
ACTION:DISPLAY
DESCRIPTION:Abell vs Touchton
END:VALARM
END:VEVENT
BEGIN:VEVENT
UID:moultrie-601151@ygametime.com
DTSTAMP:20260512T230000Z
DTSTART;TZID=America/New_York:20260512T190000
DURATION:PT0H75M0S
SUMMARY:Berl vs Touchton
DESCRIPTION:7/8 year olds | Youth Soccer\nMoultrie YMCA\n
URL;VALUE=URI:https://ygametime.com/branch/moultrie/sports/2026-spring-youth-soccer/25903/?utm_medium=calendar&utm_source=team_cal&utm_content=league_url#game-601151
LOCATION:Youth Soccer Field 7
BEGIN:VALARM
TRIGGER:-P2H
ACTION:DISPLAY
DESCRIPTION:Berl vs Touchton
END:VALARM
END:VEVENT
BEGIN:VEVENT
UID:moultrie-601153@ygametime.com
DTSTAMP:20260514T230000Z
DTSTART;TZID=America/New_York:20260514T190000
DURATION:PT0H75M0S
SUMMARY:Touchton vs Holden
DESCRIPTION:7/8 year olds | Youth Soccer\nMoultrie YMCA\n
URL;VALUE=URI:https://ygametime.com/branch/moultrie/sports/2026-spring-youth-soccer/25903/?utm_medium=calendar&utm_source=team_cal&utm_content=league_url#game-601153
LOCATION:Youth Soccer Field 7
BEGIN:VALARM
TRIGGER:-P2H
ACTION:DISPLAY
DESCRIPTION:Touchton vs Holden
END:VALARM
END:VEVENT
END:VCALENDAR

