BEGIN:VCALENDAR
VERSION:2.0
PRODID:-//YGAMETIME.com//YGT iCal Creator//EN
METHOD:PUBLISH
X-PUBLISHED-TTL:PT6H
REFRESH-INTERVAL;VALUE=DURATION:PT6H
CALSCALE:GREGORIAN
X-WR-CALNAME:YGAMETIME CALENDAR
BEGIN:VTIMEZONE
TZID:America/New_York
X-LIC-LOCATION:America/New_York
BEGIN:DAYLIGHT
TZOFFSETFROM:-0500
TZOFFSETTO:-0400
TZNAME:EDT
DTSTART:19700308T020000
RRULE:FREQ=YEARLY;BYMONTH=3;BYDAY=2SU
END:DAYLIGHT
BEGIN:STANDARD
TZOFFSETFROM:-0400
TZOFFSETTO:-0500
TZNAME:EST
DTSTART:19701101T020000
RRULE:FREQ=YEARLY;BYMONTH=11;BYDAY=1SU
END:STANDARD
END:VTIMEZONE
BEGIN:VEVENT
UID:moultrie-601109@ygametime.com
DTSTAMP:20260416T214500Z
DTSTART;TZID=America/New_York:20260416T174500
DURATION:PT0H75M0S
SUMMARY:Young vs Avery
DESCRIPTION:9/10/11 year olds | Youth Soccer\nMoultrie YMCA\n
URL;VALUE=URI:https://ygametime.com/branch/moultrie/sports/2026-spring-youth-soccer/25904/?utm_medium=calendar&utm_source=team_cal&utm_content=league_url#game-601109
LOCATION:Youth Soccer Fields 1
BEGIN:VALARM
TRIGGER:-P2H
ACTION:DISPLAY
DESCRIPTION:Young vs Avery
END:VALARM
END:VEVENT
BEGIN:VEVENT
UID:moultrie-601114@ygametime.com
DTSTAMP:20260418T153000Z
DTSTART;TZID=America/New_York:20260418T113000
DURATION:PT0H75M0S
SUMMARY:Avery vs Willoughby
DESCRIPTION:9/10/11 year olds | Youth Soccer\nMoultrie YMCA\n
URL;VALUE=URI:https://ygametime.com/branch/moultrie/sports/2026-spring-youth-soccer/25904/?utm_medium=calendar&utm_source=team_cal&utm_content=league_url#game-601114
LOCATION:Youth Soccer Fields 1
BEGIN:VALARM
TRIGGER:-P2H
ACTION:DISPLAY
DESCRIPTION:Avery vs Willoughby
END:VALARM
END:VEVENT
BEGIN:VEVENT
UID:moultrie-601116@ygametime.com
DTSTAMP:20260423T214500Z
DTSTART;TZID=America/New_York:20260423T174500
DURATION:PT0H75M0S
SUMMARY:Castaneda vs Avery
DESCRIPTION:9/10/11 year olds | Youth Soccer\nMoultrie YMCA\n
URL;VALUE=URI:https://ygametime.com/branch/moultrie/sports/2026-spring-youth-soccer/25904/?utm_medium=calendar&utm_source=team_cal&utm_content=league_url#game-601116
LOCATION:Youth Soccer Fields 2
BEGIN:VALARM
TRIGGER:-P2H
ACTION:DISPLAY
DESCRIPTION:Castaneda vs Avery
END:VALARM
END:VEVENT
BEGIN:VEVENT
UID:moultrie-601118@ygametime.com
DTSTAMP:20260425T130000Z
DTSTART;TZID=America/New_York:20260425T090000
DURATION:PT0H75M0S
SUMMARY:Avery vs Wilkerson
DESCRIPTION:9/10/11 year olds | Youth Soccer\nMoultrie YMCA\n
URL;VALUE=URI:https://ygametime.com/branch/moultrie/sports/2026-spring-youth-soccer/25904/?utm_medium=calendar&utm_source=team_cal&utm_content=league_url#game-601118
LOCATION:Youth Soccer Fields 1
BEGIN:VALARM
TRIGGER:-P2H
ACTION:DISPLAY
DESCRIPTION:Avery vs Wilkerson
END:VALARM
END:VEVENT
BEGIN:VEVENT
UID:moultrie-601123@ygametime.com
DTSTAMP:20260430T230000Z
DTSTART;TZID=America/New_York:20260430T190000
DURATION:PT0H75M0S
SUMMARY:Grijalva vs Avery
DESCRIPTION:9/10/11 year olds | Youth Soccer\nMoultrie YMCA\n
URL;VALUE=URI:https://ygametime.com/branch/moultrie/sports/2026-spring-youth-soccer/25904/?utm_medium=calendar&utm_source=team_cal&utm_content=league_url#game-601123
LOCATION:Youth Soccer Fields 1
BEGIN:VALARM
TRIGGER:-P2H
ACTION:DISPLAY
DESCRIPTION:Grijalva vs Avery
END:VALARM
END:VEVENT
BEGIN:VEVENT
UID:moultrie-601125@ygametime.com
DTSTAMP:20260502T141500Z
DTSTART;TZID=America/New_York:20260502T101500
DURATION:PT0H75M0S
SUMMARY:Young vs Avery
DESCRIPTION:9/10/11 year olds | Youth Soccer\nMoultrie YMCA\n
URL;VALUE=URI:https://ygametime.com/branch/moultrie/sports/2026-spring-youth-soccer/25904/?utm_medium=calendar&utm_source=team_cal&utm_content=league_url#game-601125
LOCATION:Youth Soccer Fields 2
BEGIN:VALARM
TRIGGER:-P2H
ACTION:DISPLAY
DESCRIPTION:Young vs Avery
END:VALARM
END:VEVENT
BEGIN:VEVENT
UID:moultrie-601127@ygametime.com
DTSTAMP:20260507T214500Z
DTSTART;TZID=America/New_York:20260507T174500
DURATION:PT0H75M0S
SUMMARY:Avery vs Willoughby
DESCRIPTION:9/10/11 year olds | Youth Soccer\nMoultrie YMCA\n
URL;VALUE=URI:https://ygametime.com/branch/moultrie/sports/2026-spring-youth-soccer/25904/?utm_medium=calendar&utm_source=team_cal&utm_content=league_url#game-601127
LOCATION:Youth Soccer Fields 1
BEGIN:VALARM
TRIGGER:-P2H
ACTION:DISPLAY
DESCRIPTION:Avery vs Willoughby
END:VALARM
END:VEVENT
BEGIN:VEVENT
UID:moultrie-601132@ygametime.com
DTSTAMP:20260509T153000Z
DTSTART;TZID=America/New_York:20260509T113000
DURATION:PT0H75M0S
SUMMARY:Castaneda vs Avery
DESCRIPTION:9/10/11 year olds | Youth Soccer\nMoultrie YMCA\n
URL;VALUE=URI:https://ygametime.com/branch/moultrie/sports/2026-spring-youth-soccer/25904/?utm_medium=calendar&utm_source=team_cal&utm_content=league_url#game-601132
LOCATION:Youth Soccer Fields 1
BEGIN:VALARM
TRIGGER:-P2H
ACTION:DISPLAY
DESCRIPTION:Castaneda vs Avery
END:VALARM
END:VEVENT
BEGIN:VEVENT
UID:moultrie-601134@ygametime.com
DTSTAMP:20260514T214500Z
DTSTART;TZID=America/New_York:20260514T174500
DURATION:PT0H75M0S
SUMMARY:Avery vs Wilkerson
DESCRIPTION:9/10/11 year olds | Youth Soccer\nMoultrie YMCA\n
URL;VALUE=URI:https://ygametime.com/branch/moultrie/sports/2026-spring-youth-soccer/25904/?utm_medium=calendar&utm_source=team_cal&utm_content=league_url#game-601134
LOCATION:Youth Soccer Fields 2
BEGIN:VALARM
TRIGGER:-P2H
ACTION:DISPLAY
DESCRIPTION:Avery vs Wilkerson
END:VALARM
END:VEVENT
END:VCALENDAR

