BEGIN:VCALENDAR
VERSION:2.0
PRODID:-//YGAMETIME.com//YGT iCal Creator//EN
METHOD:PUBLISH
X-PUBLISHED-TTL:PT6H
REFRESH-INTERVAL;VALUE=DURATION:PT6H
CALSCALE:GREGORIAN
X-WR-CALNAME:YGAMETIME CALENDAR
BEGIN:VTIMEZONE
TZID:America/New_York
X-LIC-LOCATION:America/New_York
BEGIN:DAYLIGHT
TZOFFSETFROM:-0500
TZOFFSETTO:-0400
TZNAME:EDT
DTSTART:19700308T020000
RRULE:FREQ=YEARLY;BYMONTH=3;BYDAY=2SU
END:DAYLIGHT
BEGIN:STANDARD
TZOFFSETFROM:-0400
TZOFFSETTO:-0500
TZNAME:EST
DTSTART:19701101T020000
RRULE:FREQ=YEARLY;BYMONTH=11;BYDAY=1SU
END:STANDARD
END:VTIMEZONE
BEGIN:VEVENT
UID:moultrie-601110@ygametime.com
DTSTAMP:20260416T214500Z
DTSTART;TZID=America/New_York:20260416T174500
DURATION:PT0H75M0S
SUMMARY:Willoughby vs Grijalva
DESCRIPTION:9/10/11 year olds | Youth Soccer\nMoultrie YMCA\n
URL;VALUE=URI:https://ygametime.com/branch/moultrie/sports/2026-spring-youth-soccer/25904/?utm_medium=calendar&utm_source=team_cal&utm_content=league_url#game-601110
LOCATION:Youth Soccer Fields 2
BEGIN:VALARM
TRIGGER:-P2H
ACTION:DISPLAY
DESCRIPTION:Willoughby vs Grijalva
END:VALARM
END:VEVENT
BEGIN:VEVENT
UID:moultrie-601113@ygametime.com
DTSTAMP:20260418T141500Z
DTSTART;TZID=America/New_York:20260418T101500
DURATION:PT0H75M0S
SUMMARY:Grijalva vs Wilkerson
DESCRIPTION:9/10/11 year olds | Youth Soccer\nMoultrie YMCA\n
URL;VALUE=URI:https://ygametime.com/branch/moultrie/sports/2026-spring-youth-soccer/25904/?utm_medium=calendar&utm_source=team_cal&utm_content=league_url#game-601113
LOCATION:Youth Soccer Fields 1
BEGIN:VALARM
TRIGGER:-P2H
ACTION:DISPLAY
DESCRIPTION:Grijalva vs Wilkerson
END:VALARM
END:VEVENT
BEGIN:VEVENT
UID:moultrie-601115@ygametime.com
DTSTAMP:20260423T214500Z
DTSTART;TZID=America/New_York:20260423T174500
DURATION:PT0H75M0S
SUMMARY:Young vs Grijalva
DESCRIPTION:9/10/11 year olds | Youth Soccer\nMoultrie YMCA\n
URL;VALUE=URI:https://ygametime.com/branch/moultrie/sports/2026-spring-youth-soccer/25904/?utm_medium=calendar&utm_source=team_cal&utm_content=league_url#game-601115
LOCATION:Youth Soccer Fields 1
BEGIN:VALARM
TRIGGER:-P2H
ACTION:DISPLAY
DESCRIPTION:Young vs Grijalva
END:VALARM
END:VEVENT
BEGIN:VEVENT
UID:moultrie-601119@ygametime.com
DTSTAMP:20260425T141500Z
DTSTART;TZID=America/New_York:20260425T101500
DURATION:PT0H75M0S
SUMMARY:Grijalva vs Castaneda
DESCRIPTION:9/10/11 year olds | Youth Soccer\nMoultrie YMCA\n
URL;VALUE=URI:https://ygametime.com/branch/moultrie/sports/2026-spring-youth-soccer/25904/?utm_medium=calendar&utm_source=team_cal&utm_content=league_url#game-601119
LOCATION:Youth Soccer Fields 2
BEGIN:VALARM
TRIGGER:-P2H
ACTION:DISPLAY
DESCRIPTION:Grijalva vs Castaneda
END:VALARM
END:VEVENT
BEGIN:VEVENT
UID:moultrie-601123@ygametime.com
DTSTAMP:20260430T230000Z
DTSTART;TZID=America/New_York:20260430T190000
DURATION:PT0H75M0S
SUMMARY:Grijalva vs Avery
DESCRIPTION:9/10/11 year olds | Youth Soccer\nMoultrie YMCA\n
URL;VALUE=URI:https://ygametime.com/branch/moultrie/sports/2026-spring-youth-soccer/25904/?utm_medium=calendar&utm_source=team_cal&utm_content=league_url#game-601123
LOCATION:Youth Soccer Fields 1
BEGIN:VALARM
TRIGGER:-P2H
ACTION:DISPLAY
DESCRIPTION:Grijalva vs Avery
END:VALARM
END:VEVENT
BEGIN:VEVENT
UID:moultrie-601126@ygametime.com
DTSTAMP:20260502T153000Z
DTSTART;TZID=America/New_York:20260502T113000
DURATION:PT0H75M0S
SUMMARY:Willoughby vs Grijalva
DESCRIPTION:9/10/11 year olds | Youth Soccer\nMoultrie YMCA\n
URL;VALUE=URI:https://ygametime.com/branch/moultrie/sports/2026-spring-youth-soccer/25904/?utm_medium=calendar&utm_source=team_cal&utm_content=league_url#game-601126
LOCATION:Youth Soccer Fields 1
BEGIN:VALARM
TRIGGER:-P2H
ACTION:DISPLAY
DESCRIPTION:Willoughby vs Grijalva
END:VALARM
END:VEVENT
BEGIN:VEVENT
UID:moultrie-601129@ygametime.com
DTSTAMP:20260507T230000Z
DTSTART;TZID=America/New_York:20260507T190000
DURATION:PT0H75M0S
SUMMARY:Grijalva vs Wilkerson
DESCRIPTION:9/10/11 year olds | Youth Soccer\nMoultrie YMCA\n
URL;VALUE=URI:https://ygametime.com/branch/moultrie/sports/2026-spring-youth-soccer/25904/?utm_medium=calendar&utm_source=team_cal&utm_content=league_url#game-601129
LOCATION:Youth Soccer Fields 1
BEGIN:VALARM
TRIGGER:-P2H
ACTION:DISPLAY
DESCRIPTION:Grijalva vs Wilkerson
END:VALARM
END:VEVENT
BEGIN:VEVENT
UID:moultrie-601131@ygametime.com
DTSTAMP:20260509T141500Z
DTSTART;TZID=America/New_York:20260509T101500
DURATION:PT0H75M0S
SUMMARY:Young vs Grijalva
DESCRIPTION:9/10/11 year olds | Youth Soccer\nMoultrie YMCA\n
URL;VALUE=URI:https://ygametime.com/branch/moultrie/sports/2026-spring-youth-soccer/25904/?utm_medium=calendar&utm_source=team_cal&utm_content=league_url#game-601131
LOCATION:Youth Soccer Fields 2
BEGIN:VALARM
TRIGGER:-P2H
ACTION:DISPLAY
DESCRIPTION:Young vs Grijalva
END:VALARM
END:VEVENT
BEGIN:VEVENT
UID:moultrie-601135@ygametime.com
DTSTAMP:20260514T230000Z
DTSTART;TZID=America/New_York:20260514T190000
DURATION:PT0H75M0S
SUMMARY:Grijalva vs Castaneda
DESCRIPTION:9/10/11 year olds | Youth Soccer\nMoultrie YMCA\n
URL;VALUE=URI:https://ygametime.com/branch/moultrie/sports/2026-spring-youth-soccer/25904/?utm_medium=calendar&utm_source=team_cal&utm_content=league_url#game-601135
LOCATION:Youth Soccer Fields 1
BEGIN:VALARM
TRIGGER:-P2H
ACTION:DISPLAY
DESCRIPTION:Grijalva vs Castaneda
END:VALARM
END:VEVENT
END:VCALENDAR

