BEGIN:VCALENDAR
VERSION:2.0
PRODID:-//YGAMETIME.com//YGT iCal Creator//EN
METHOD:PUBLISH
X-PUBLISHED-TTL:PT6H
REFRESH-INTERVAL;VALUE=DURATION:PT6H
CALSCALE:GREGORIAN
X-WR-CALNAME:YGAMETIME CALENDAR
BEGIN:VTIMEZONE
TZID:America/New_York
X-LIC-LOCATION:America/New_York
BEGIN:DAYLIGHT
TZOFFSETFROM:-0500
TZOFFSETTO:-0400
TZNAME:EDT
DTSTART:19700308T020000
RRULE:FREQ=YEARLY;BYMONTH=3;BYDAY=2SU
END:DAYLIGHT
BEGIN:STANDARD
TZOFFSETFROM:-0400
TZOFFSETTO:-0500
TZNAME:EST
DTSTART:19701101T020000
RRULE:FREQ=YEARLY;BYMONTH=11;BYDAY=1SU
END:STANDARD
END:VTIMEZONE
BEGIN:VEVENT
UID:moultrie-601110@ygametime.com
DTSTAMP:20260416T214500Z
DTSTART;TZID=America/New_York:20260416T174500
DURATION:PT0H75M0S
SUMMARY:Willoughby vs Grijalva
DESCRIPTION:9/10/11 year olds | Youth Soccer\nMoultrie YMCA\n
URL;VALUE=URI:https://ygametime.com/branch/moultrie/sports/2026-spring-youth-soccer/25904/?utm_medium=calendar&utm_source=team_cal&utm_content=league_url#game-601110
LOCATION:Youth Soccer Fields 2
BEGIN:VALARM
TRIGGER:-P2H
ACTION:DISPLAY
DESCRIPTION:Willoughby vs Grijalva
END:VALARM
END:VEVENT
BEGIN:VEVENT
UID:moultrie-601114@ygametime.com
DTSTAMP:20260418T153000Z
DTSTART;TZID=America/New_York:20260418T113000
DURATION:PT0H75M0S
SUMMARY:Avery vs Willoughby
DESCRIPTION:9/10/11 year olds | Youth Soccer\nMoultrie YMCA\n
URL;VALUE=URI:https://ygametime.com/branch/moultrie/sports/2026-spring-youth-soccer/25904/?utm_medium=calendar&utm_source=team_cal&utm_content=league_url#game-601114
LOCATION:Youth Soccer Fields 1
BEGIN:VALARM
TRIGGER:-P2H
ACTION:DISPLAY
DESCRIPTION:Avery vs Willoughby
END:VALARM
END:VEVENT
BEGIN:VEVENT
UID:moultrie-601117@ygametime.com
DTSTAMP:20260423T230000Z
DTSTART;TZID=America/New_York:20260423T190000
DURATION:PT0H75M0S
SUMMARY:Wilkerson vs Willoughby
DESCRIPTION:9/10/11 year olds | Youth Soccer\nMoultrie YMCA\n
URL;VALUE=URI:https://ygametime.com/branch/moultrie/sports/2026-spring-youth-soccer/25904/?utm_medium=calendar&utm_source=team_cal&utm_content=league_url#game-601117
LOCATION:Youth Soccer Fields 1
BEGIN:VALARM
TRIGGER:-P2H
ACTION:DISPLAY
DESCRIPTION:Wilkerson vs Willoughby
END:VALARM
END:VEVENT
BEGIN:VEVENT
UID:moultrie-601120@ygametime.com
DTSTAMP:20260425T153000Z
DTSTART;TZID=America/New_York:20260425T113000
DURATION:PT0H75M0S
SUMMARY:Willoughby vs Young
DESCRIPTION:9/10/11 year olds | Youth Soccer\nMoultrie YMCA\n
URL;VALUE=URI:https://ygametime.com/branch/moultrie/sports/2026-spring-youth-soccer/25904/?utm_medium=calendar&utm_source=team_cal&utm_content=league_url#game-601120
LOCATION:Youth Soccer Fields 1
BEGIN:VALARM
TRIGGER:-P2H
ACTION:DISPLAY
DESCRIPTION:Willoughby vs Young
END:VALARM
END:VEVENT
BEGIN:VEVENT
UID:moultrie-601122@ygametime.com
DTSTAMP:20260430T214500Z
DTSTART;TZID=America/New_York:20260430T174500
DURATION:PT0H75M0S
SUMMARY:Castaneda vs Willoughby
DESCRIPTION:9/10/11 year olds | Youth Soccer\nMoultrie YMCA\n
URL;VALUE=URI:https://ygametime.com/branch/moultrie/sports/2026-spring-youth-soccer/25904/?utm_medium=calendar&utm_source=team_cal&utm_content=league_url#game-601122
LOCATION:Youth Soccer Fields 2
BEGIN:VALARM
TRIGGER:-P2H
ACTION:DISPLAY
DESCRIPTION:Castaneda vs Willoughby
END:VALARM
END:VEVENT
BEGIN:VEVENT
UID:moultrie-601126@ygametime.com
DTSTAMP:20260502T153000Z
DTSTART;TZID=America/New_York:20260502T113000
DURATION:PT0H75M0S
SUMMARY:Willoughby vs Grijalva
DESCRIPTION:9/10/11 year olds | Youth Soccer\nMoultrie YMCA\n
URL;VALUE=URI:https://ygametime.com/branch/moultrie/sports/2026-spring-youth-soccer/25904/?utm_medium=calendar&utm_source=team_cal&utm_content=league_url#game-601126
LOCATION:Youth Soccer Fields 1
BEGIN:VALARM
TRIGGER:-P2H
ACTION:DISPLAY
DESCRIPTION:Willoughby vs Grijalva
END:VALARM
END:VEVENT
BEGIN:VEVENT
UID:moultrie-601127@ygametime.com
DTSTAMP:20260507T214500Z
DTSTART;TZID=America/New_York:20260507T174500
DURATION:PT0H75M0S
SUMMARY:Avery vs Willoughby
DESCRIPTION:9/10/11 year olds | Youth Soccer\nMoultrie YMCA\n
URL;VALUE=URI:https://ygametime.com/branch/moultrie/sports/2026-spring-youth-soccer/25904/?utm_medium=calendar&utm_source=team_cal&utm_content=league_url#game-601127
LOCATION:Youth Soccer Fields 1
BEGIN:VALARM
TRIGGER:-P2H
ACTION:DISPLAY
DESCRIPTION:Avery vs Willoughby
END:VALARM
END:VEVENT
BEGIN:VEVENT
UID:moultrie-601130@ygametime.com
DTSTAMP:20260509T130000Z
DTSTART;TZID=America/New_York:20260509T090000
DURATION:PT0H75M0S
SUMMARY:Wilkerson vs Willoughby
DESCRIPTION:9/10/11 year olds | Youth Soccer\nMoultrie YMCA\n
URL;VALUE=URI:https://ygametime.com/branch/moultrie/sports/2026-spring-youth-soccer/25904/?utm_medium=calendar&utm_source=team_cal&utm_content=league_url#game-601130
LOCATION:Youth Soccer Fields 1
BEGIN:VALARM
TRIGGER:-P2H
ACTION:DISPLAY
DESCRIPTION:Wilkerson vs Willoughby
END:VALARM
END:VEVENT
BEGIN:VEVENT
UID:moultrie-601133@ygametime.com
DTSTAMP:20260514T214500Z
DTSTART;TZID=America/New_York:20260514T174500
DURATION:PT0H75M0S
SUMMARY:Willoughby vs Young
DESCRIPTION:9/10/11 year olds | Youth Soccer\nMoultrie YMCA\n
URL;VALUE=URI:https://ygametime.com/branch/moultrie/sports/2026-spring-youth-soccer/25904/?utm_medium=calendar&utm_source=team_cal&utm_content=league_url#game-601133
LOCATION:Youth Soccer Fields 1
BEGIN:VALARM
TRIGGER:-P2H
ACTION:DISPLAY
DESCRIPTION:Willoughby vs Young
END:VALARM
END:VEVENT
END:VCALENDAR

