BEGIN:VCALENDAR
VERSION:2.0
PRODID:-//YGAMETIME.com//YGT iCal Creator//EN
METHOD:PUBLISH
X-PUBLISHED-TTL:PT6H
REFRESH-INTERVAL;VALUE=DURATION:PT6H
CALSCALE:GREGORIAN
X-WR-CALNAME:YGAMETIME CALENDAR
BEGIN:VTIMEZONE
TZID:America/New_York
X-LIC-LOCATION:America/New_York
BEGIN:DAYLIGHT
TZOFFSETFROM:-0500
TZOFFSETTO:-0400
TZNAME:EDT
DTSTART:19700308T020000
RRULE:FREQ=YEARLY;BYMONTH=3;BYDAY=2SU
END:DAYLIGHT
BEGIN:STANDARD
TZOFFSETFROM:-0400
TZOFFSETTO:-0500
TZNAME:EST
DTSTART:19701101T020000
RRULE:FREQ=YEARLY;BYMONTH=11;BYDAY=1SU
END:STANDARD
END:VTIMEZONE
BEGIN:VEVENT
UID:moultrie-601551@ygametime.com
DTSTAMP:20260421T214500Z
DTSTART;TZID=America/New_York:20260421T174500
DURATION:PT0H60M0S
SUMMARY:Mikayla vs Nick
DESCRIPTION:12/13/14 year olds | Youth Soccer\nMoultrie YMCA\n
URL;VALUE=URI:https://ygametime.com/branch/moultrie/sports/2026-spring-youth-soccer/25905/?utm_medium=calendar&utm_source=team_cal&utm_content=league_url#game-601551
LOCATION:Youth Soccer Fields 1
BEGIN:VALARM
TRIGGER:-P2H
ACTION:DISPLAY
DESCRIPTION:Mikayla vs Nick
END:VALARM
END:VEVENT
BEGIN:VEVENT
UID:moultrie-601552@ygametime.com
DTSTAMP:20260427T214500Z
DTSTART;TZID=America/New_York:20260427T174500
DURATION:PT0H60M0S
SUMMARY:Andrew vs Mikayla
DESCRIPTION:12/13/14 year olds | Youth Soccer\nMoultrie YMCA\n
URL;VALUE=URI:https://ygametime.com/branch/moultrie/sports/2026-spring-youth-soccer/25905/?utm_medium=calendar&utm_source=team_cal&utm_content=league_url#game-601552
LOCATION:Youth Soccer Fields 1
BEGIN:VALARM
TRIGGER:-P2H
ACTION:DISPLAY
DESCRIPTION:Andrew vs Mikayla
END:VALARM
END:VEVENT
BEGIN:VEVENT
UID:moultrie-601558@ygametime.com
DTSTAMP:20260430T230000Z
DTSTART;TZID=America/New_York:20260430T190000
DURATION:PT0H60M0S
SUMMARY:Andrew vs Mikayla
DESCRIPTION:12/13/14 year olds | Youth Soccer\nMoultrie YMCA\n
URL;VALUE=URI:https://ygametime.com/branch/moultrie/sports/2026-spring-youth-soccer/25905/?utm_medium=calendar&utm_source=team_cal&utm_content=league_url#game-601558
LOCATION:Youth Soccer Fields 2
BEGIN:VALARM
TRIGGER:-P2H
ACTION:DISPLAY
DESCRIPTION:Andrew vs Mikayla
END:VALARM
END:VEVENT
BEGIN:VEVENT
UID:moultrie-601554@ygametime.com
DTSTAMP:20260504T214500Z
DTSTART;TZID=America/New_York:20260504T174500
DURATION:PT0H60M0S
SUMMARY:Mikayla vs Nick
DESCRIPTION:12/13/14 year olds | Youth Soccer\nMoultrie YMCA\n
URL;VALUE=URI:https://ygametime.com/branch/moultrie/sports/2026-spring-youth-soccer/25905/?utm_medium=calendar&utm_source=team_cal&utm_content=league_url#game-601554
LOCATION:Youth Soccer Fields 1
BEGIN:VALARM
TRIGGER:-P2H
ACTION:DISPLAY
DESCRIPTION:Mikayla vs Nick
END:VALARM
END:VEVENT
BEGIN:VEVENT
UID:moultrie-601555@ygametime.com
DTSTAMP:20260505T214500Z
DTSTART;TZID=America/New_York:20260505T174500
DURATION:PT0H60M0S
SUMMARY:Andrew vs Mikayla
DESCRIPTION:12/13/14 year olds | Youth Soccer\nMoultrie YMCA\n
URL;VALUE=URI:https://ygametime.com/branch/moultrie/sports/2026-spring-youth-soccer/25905/?utm_medium=calendar&utm_source=team_cal&utm_content=league_url#game-601555
LOCATION:Youth Soccer Fields 1
BEGIN:VALARM
TRIGGER:-P2H
ACTION:DISPLAY
DESCRIPTION:Andrew vs Mikayla
END:VALARM
END:VEVENT
BEGIN:VEVENT
UID:moultrie-601557@ygametime.com
DTSTAMP:20260512T214500Z
DTSTART;TZID=America/New_York:20260512T174500
DURATION:PT0H60M0S
SUMMARY:Mikayla vs Nick
DESCRIPTION:12/13/14 year olds | Youth Soccer\nMoultrie YMCA\n
URL;VALUE=URI:https://ygametime.com/branch/moultrie/sports/2026-spring-youth-soccer/25905/?utm_medium=calendar&utm_source=team_cal&utm_content=league_url#game-601557
LOCATION:Youth Soccer Fields 1
BEGIN:VALARM
TRIGGER:-P2H
ACTION:DISPLAY
DESCRIPTION:Mikayla vs Nick
END:VALARM
END:VEVENT
END:VCALENDAR

