BEGIN:VCALENDAR
VERSION:2.0
PRODID:-//YGAMETIME.com//YGT iCal Creator//EN
METHOD:PUBLISH
X-PUBLISHED-TTL:PT6H
REFRESH-INTERVAL;VALUE=DURATION:PT6H
CALSCALE:GREGORIAN
X-WR-CALNAME:YGAMETIME CALENDAR
BEGIN:VEVENT
UID:mpy-561033@ygametime.com
DTSTAMP:Z
DTSTART;TZID=America/Los Angeles:20250913T100000
DURATION:PT0H60M0S
SUMMARY:Benje Orozco Jr. vs Zachary Brown-Silverstein
DESCRIPTION:1&2 Grade Co-ed | Fall Soccer\nWithnell Family YMCA\n
URL;VALUE=URI:https://ygametime.com/branch/mpy/sports/2025-fall-fall-soccer/23855/?utm_medium=calendar&utm_source=team_cal&utm_content=league_url#game-561033
LOCATION:Keizer Rapids Park: Soccer Field One
BEGIN:VALARM
TRIGGER:-P2H
ACTION:DISPLAY
DESCRIPTION:Benje Orozco Jr. vs Zachary Brown-Silverstein
END:VALARM
END:VEVENT
BEGIN:VEVENT
UID:mpy-561037@ygametime.com
DTSTAMP:Z
DTSTART;TZID=America/Los Angeles:20250920T090000
DURATION:PT0H60M0S
SUMMARY:Zachary Brown-Silverstein vs Krista & Ian Campbell
DESCRIPTION:1&2 Grade Co-ed | Fall Soccer\nWithnell Family YMCA\n
URL;VALUE=URI:https://ygametime.com/branch/mpy/sports/2025-fall-fall-soccer/23855/?utm_medium=calendar&utm_source=team_cal&utm_content=league_url#game-561037
LOCATION:Keizer Rapids Park: Soccer Field Two
BEGIN:VALARM
TRIGGER:-P2H
ACTION:DISPLAY
DESCRIPTION:Zachary Brown-Silverstein vs Krista & Ian Campbell
END:VALARM
END:VEVENT
BEGIN:VEVENT
UID:mpy-561041@ygametime.com
DTSTAMP:Z
DTSTART;TZID=America/Los Angeles:20250927T100000
DURATION:PT0H60M0S
SUMMARY:Krista & Ian Campbell vs Zachary Brown-Silverstein
DESCRIPTION:1&2 Grade Co-ed | Fall Soccer\nWithnell Family YMCA\n
URL;VALUE=URI:https://ygametime.com/branch/mpy/sports/2025-fall-fall-soccer/23855/?utm_medium=calendar&utm_source=team_cal&utm_content=league_url#game-561041
LOCATION:Keizer Rapids Park: Soccer Field One
BEGIN:VALARM
TRIGGER:-P2H
ACTION:DISPLAY
DESCRIPTION:Krista & Ian Campbell vs Zachary Brown-Silverstein
END:VALARM
END:VEVENT
BEGIN:VEVENT
UID:mpy-561047@ygametime.com
DTSTAMP:Z
DTSTART;TZID=America/Los Angeles:20251004T090000
DURATION:PT0H60M0S
SUMMARY:Dalia Monteon vs Zachary Brown-Silverstein
DESCRIPTION:1&2 Grade Co-ed | Fall Soccer\nWithnell Family YMCA\n
URL;VALUE=URI:https://ygametime.com/branch/mpy/sports/2025-fall-fall-soccer/23855/?utm_medium=calendar&utm_source=team_cal&utm_content=league_url#game-561047
LOCATION:Keizer Rapids Park: Soccer Field Two
BEGIN:VALARM
TRIGGER:-P2H
ACTION:DISPLAY
DESCRIPTION:Dalia Monteon vs Zachary Brown-Silverstein
END:VALARM
END:VEVENT
BEGIN:VEVENT
UID:mpy-561049@ygametime.com
DTSTAMP:Z
DTSTART;TZID=America/Los Angeles:20251011T090000
DURATION:PT0H60M0S
SUMMARY:MIY Rebecca & Jesse vs Zachary Brown-Silverstein
DESCRIPTION:1&2 Grade Co-ed | Fall Soccer\nWithnell Family YMCA\n
URL;VALUE=URI:https://ygametime.com/branch/mpy/sports/2025-fall-fall-soccer/23855/?utm_medium=calendar&utm_source=team_cal&utm_content=league_url#game-561049
LOCATION:Independence Sports Park - Field 3
BEGIN:VALARM
TRIGGER:-P2H
ACTION:DISPLAY
DESCRIPTION:MIY Rebecca & Jesse vs Zachary Brown-Silverstein
END:VALARM
END:VEVENT
BEGIN:VEVENT
UID:mpy-561053@ygametime.com
DTSTAMP:Z
DTSTART;TZID=America/Los Angeles:20251018T100000
DURATION:PT0H60M0S
SUMMARY:Dalia Monteon vs Zachary Brown-Silverstein
DESCRIPTION:1&2 Grade Co-ed | Fall Soccer\nWithnell Family YMCA\n
URL;VALUE=URI:https://ygametime.com/branch/mpy/sports/2025-fall-fall-soccer/23855/?utm_medium=calendar&utm_source=team_cal&utm_content=league_url#game-561053
LOCATION:Keizer Rapids Park: Soccer Field Two
BEGIN:VALARM
TRIGGER:-P2H
ACTION:DISPLAY
DESCRIPTION:Dalia Monteon vs Zachary Brown-Silverstein
END:VALARM
END:VEVENT
END:VCALENDAR

