BEGIN:VCALENDAR
VERSION:2.0
PRODID:-//YGAMETIME.com//YGT iCal Creator//EN
METHOD:PUBLISH
X-PUBLISHED-TTL:PT6H
REFRESH-INTERVAL;VALUE=DURATION:PT6H
CALSCALE:GREGORIAN
X-WR-CALNAME:YGAMETIME CALENDAR
BEGIN:VEVENT
UID:mpy-561012@ygametime.com
DTSTAMP:Z
DTSTART;TZID=America/Los Angeles:20250913T090000
DURATION:PT0H60M0S
SUMMARY:Anna Marquez vs Jessica Schultens
DESCRIPTION:Kindergarten | Fall Soccer\nWithnell Family YMCA\n
URL;VALUE=URI:https://ygametime.com/branch/mpy/sports/2025-fall-fall-soccer/23856/?utm_medium=calendar&utm_source=team_cal&utm_content=league_url#game-561012
LOCATION:Keizer Rapids Park: Soccer Field Four
BEGIN:VALARM
TRIGGER:-P2H
ACTION:DISPLAY
DESCRIPTION:Anna Marquez vs Jessica Schultens
END:VALARM
END:VEVENT
BEGIN:VEVENT
UID:mpy-561017@ygametime.com
DTSTAMP:Z
DTSTART;TZID=America/Los Angeles:20250920T090000
DURATION:PT0H60M0S
SUMMARY:Jessica Schultens vs MIY - Molly
DESCRIPTION:Kindergarten | Fall Soccer\nWithnell Family YMCA\n
URL;VALUE=URI:https://ygametime.com/branch/mpy/sports/2025-fall-fall-soccer/23856/?utm_medium=calendar&utm_source=team_cal&utm_content=league_url#game-561017
LOCATION:Keizer Rapids Park: Soccer Field Three
BEGIN:VALARM
TRIGGER:-P2H
ACTION:DISPLAY
DESCRIPTION:Jessica Schultens vs MIY - Molly
END:VALARM
END:VEVENT
BEGIN:VEVENT
UID:mpy-561019@ygametime.com
DTSTAMP:Z
DTSTART;TZID=America/Los Angeles:20250927T090000
DURATION:PT0H60M0S
SUMMARY:MIY - Eric vs Jessica Schultens
DESCRIPTION:Kindergarten | Fall Soccer\nWithnell Family YMCA\n
URL;VALUE=URI:https://ygametime.com/branch/mpy/sports/2025-fall-fall-soccer/23856/?utm_medium=calendar&utm_source=team_cal&utm_content=league_url#game-561019
LOCATION:Keizer Rapids Park: Soccer Field One
BEGIN:VALARM
TRIGGER:-P2H
ACTION:DISPLAY
DESCRIPTION:MIY - Eric vs Jessica Schultens
END:VALARM
END:VEVENT
BEGIN:VEVENT
UID:mpy-561021@ygametime.com
DTSTAMP:Z
DTSTART;TZID=America/Los Angeles:20251004T090000
DURATION:PT0H60M0S
SUMMARY:Jessica Schultens vs Shaila Reagor
DESCRIPTION:Kindergarten | Fall Soccer\nWithnell Family YMCA\n
URL;VALUE=URI:https://ygametime.com/branch/mpy/sports/2025-fall-fall-soccer/23856/?utm_medium=calendar&utm_source=team_cal&utm_content=league_url#game-561021
LOCATION:Keizer Rapids Park: Soccer Field Three
BEGIN:VALARM
TRIGGER:-P2H
ACTION:DISPLAY
DESCRIPTION:Jessica Schultens vs Shaila Reagor
END:VALARM
END:VEVENT
BEGIN:VEVENT
UID:mpy-561026@ygametime.com
DTSTAMP:Z
DTSTART;TZID=America/Los Angeles:20251011T090000
DURATION:PT0H60M0S
SUMMARY:Victor Caballero vs Jessica Schultens
DESCRIPTION:Kindergarten | Fall Soccer\nWithnell Family YMCA\n
URL;VALUE=URI:https://ygametime.com/branch/mpy/sports/2025-fall-fall-soccer/23856/?utm_medium=calendar&utm_source=team_cal&utm_content=league_url#game-561026
LOCATION:Keizer Rapids Park: Soccer Field Three
BEGIN:VALARM
TRIGGER:-P2H
ACTION:DISPLAY
DESCRIPTION:Victor Caballero vs Jessica Schultens
END:VALARM
END:VEVENT
BEGIN:VEVENT
UID:mpy-561028@ygametime.com
DTSTAMP:Z
DTSTART;TZID=America/Los Angeles:20251018T090000
DURATION:PT0H60M0S
SUMMARY:Anna Marquez vs Jessica Schultens
DESCRIPTION:Kindergarten | Fall Soccer\nWithnell Family YMCA\n
URL;VALUE=URI:https://ygametime.com/branch/mpy/sports/2025-fall-fall-soccer/23856/?utm_medium=calendar&utm_source=team_cal&utm_content=league_url#game-561028
LOCATION:Keizer Rapids Park: Soccer Field One
BEGIN:VALARM
TRIGGER:-P2H
ACTION:DISPLAY
DESCRIPTION:Anna Marquez vs Jessica Schultens
END:VALARM
END:VEVENT
END:VCALENDAR

