BEGIN:VCALENDAR
VERSION:2.0
PRODID:-//YGAMETIME.com//YGT iCal Creator//EN
METHOD:PUBLISH
X-PUBLISHED-TTL:PT6H
REFRESH-INTERVAL;VALUE=DURATION:PT6H
CALSCALE:GREGORIAN
X-WR-CALNAME:YGAMETIME CALENDAR
BEGIN:VEVENT
UID:mpy-561087@ygametime.com
DTSTAMP:Z
DTSTART;TZID=America/Los Angeles:20250913T110000
DURATION:PT0H60M0S
SUMMARY:MIY - Sergio vs  FC Humdinge
DESCRIPTION:5&6 Grade Co-Ed | Fall Soccer\nWithnell Family YMCA\n
URL;VALUE=URI:https://ygametime.com/branch/mpy/sports/2025-fall-fall-soccer/23853/?utm_medium=calendar&utm_source=team_cal&utm_content=league_url#game-561087
LOCATION:Keizer Rapids Park: Soccer Field Two
BEGIN:VALARM
TRIGGER:-P2H
ACTION:DISPLAY
DESCRIPTION:MIY - Sergio vs  FC Humdinge
END:VALARM
END:VEVENT
BEGIN:VEVENT
UID:mpy-561090@ygametime.com
DTSTAMP:Z
DTSTART;TZID=America/Los Angeles:20250920T110000
DURATION:PT0H60M0S
SUMMARY: FC Humdinge vs MIY - Becky
DESCRIPTION:5&6 Grade Co-Ed | Fall Soccer\nWithnell Family YMCA\n
URL;VALUE=URI:https://ygametime.com/branch/mpy/sports/2025-fall-fall-soccer/23853/?utm_medium=calendar&utm_source=team_cal&utm_content=league_url#game-561090
LOCATION:Keizer Rapids Park: Soccer Field One
BEGIN:VALARM
TRIGGER:-P2H
ACTION:DISPLAY
DESCRIPTION: FC Humdinge vs MIY - Becky
END:VALARM
END:VEVENT
BEGIN:VEVENT
UID:mpy-561091@ygametime.com
DTSTAMP:Z
DTSTART;TZID=America/Los Angeles:20250927T110000
DURATION:PT0H60M0S
SUMMARY:Cody Rogers vs  FC Humdinge
DESCRIPTION:5&6 Grade Co-Ed | Fall Soccer\nWithnell Family YMCA\n
URL;VALUE=URI:https://ygametime.com/branch/mpy/sports/2025-fall-fall-soccer/23853/?utm_medium=calendar&utm_source=team_cal&utm_content=league_url#game-561091
LOCATION:Keizer Rapids Park: Football Field Two
BEGIN:VALARM
TRIGGER:-P2H
ACTION:DISPLAY
DESCRIPTION:Cody Rogers vs  FC Humdinge
END:VALARM
END:VEVENT
BEGIN:VEVENT
UID:mpy-561094@ygametime.com
DTSTAMP:Z
DTSTART;TZID=America/Los Angeles:20251004T100000
DURATION:PT0H60M0S
SUMMARY:MIY - Sergio vs  FC Humdinge
DESCRIPTION:5&6 Grade Co-Ed | Fall Soccer\nWithnell Family YMCA\n
URL;VALUE=URI:https://ygametime.com/branch/mpy/sports/2025-fall-fall-soccer/23853/?utm_medium=calendar&utm_source=team_cal&utm_content=league_url#game-561094
LOCATION:Independence Sports Park- field 2
BEGIN:VALARM
TRIGGER:-P2H
ACTION:DISPLAY
DESCRIPTION:MIY - Sergio vs  FC Humdinge
END:VALARM
END:VEVENT
BEGIN:VEVENT
UID:mpy-561095@ygametime.com
DTSTAMP:Z
DTSTART;TZID=America/Los Angeles:20251011T100000
DURATION:PT0H60M0S
SUMMARY: FC Humdinge vs MIY - Becky
DESCRIPTION:5&6 Grade Co-Ed | Fall Soccer\nWithnell Family YMCA\n
URL;VALUE=URI:https://ygametime.com/branch/mpy/sports/2025-fall-fall-soccer/23853/?utm_medium=calendar&utm_source=team_cal&utm_content=league_url#game-561095
LOCATION:Independence Sports Park- field 2
BEGIN:VALARM
TRIGGER:-P2H
ACTION:DISPLAY
DESCRIPTION: FC Humdinge vs MIY - Becky
END:VALARM
END:VEVENT
BEGIN:VEVENT
UID:mpy-561098@ygametime.com
DTSTAMP:Z
DTSTART;TZID=America/Los Angeles:20251018T110000
DURATION:PT0H60M0S
SUMMARY:Cody Rogers vs  FC Humdinge
DESCRIPTION:5&6 Grade Co-Ed | Fall Soccer\nWithnell Family YMCA\n
URL;VALUE=URI:https://ygametime.com/branch/mpy/sports/2025-fall-fall-soccer/23853/?utm_medium=calendar&utm_source=team_cal&utm_content=league_url#game-561098
LOCATION:Keizer Rapids Park: Soccer Field Four
BEGIN:VALARM
TRIGGER:-P2H
ACTION:DISPLAY
DESCRIPTION:Cody Rogers vs  FC Humdinge
END:VALARM
END:VEVENT
END:VCALENDAR

