BEGIN:VCALENDAR
VERSION:2.0
PRODID:-//YGAMETIME.com//YGT iCal Creator//EN
METHOD:PUBLISH
X-PUBLISHED-TTL:PT6H
REFRESH-INTERVAL;VALUE=DURATION:PT6H
CALSCALE:GREGORIAN
X-WR-CALNAME:YGAMETIME CALENDAR
BEGIN:VEVENT
UID:mpy-561074@ygametime.com
DTSTAMP:Z
DTSTART;TZID=America/Los Angeles:20250913T110000
DURATION:PT0H60M0S
SUMMARY:Melanie Ferder vs Aaron Donahue
DESCRIPTION:3&4 Grade Co-Ed | Fall Soccer\nWithnell Family YMCA\n
URL;VALUE=URI:https://ygametime.com/branch/mpy/sports/2025-fall-fall-soccer/23851/?utm_medium=calendar&utm_source=team_cal&utm_content=league_url#game-561074
LOCATION:Keizer Rapids Park: Soccer Field One
BEGIN:VALARM
TRIGGER:-P2H
ACTION:DISPLAY
DESCRIPTION:Melanie Ferder vs Aaron Donahue
END:VALARM
END:VEVENT
BEGIN:VEVENT
UID:mpy-561077@ygametime.com
DTSTAMP:Z
DTSTART;TZID=America/Los Angeles:20250920T100000
DURATION:PT0H60M0S
SUMMARY:Aaron Donahue vs MIY 
DESCRIPTION:3&4 Grade Co-Ed | Fall Soccer\nWithnell Family YMCA\n
URL;VALUE=URI:https://ygametime.com/branch/mpy/sports/2025-fall-fall-soccer/23851/?utm_medium=calendar&utm_source=team_cal&utm_content=league_url#game-561077
LOCATION:Ash Creek Elementary
BEGIN:VALARM
TRIGGER:-P2H
ACTION:DISPLAY
DESCRIPTION:Aaron Donahue vs MIY 
END:VALARM
END:VEVENT
BEGIN:VEVENT
UID:mpy-561078@ygametime.com
DTSTAMP:Z
DTSTART;TZID=America/Los Angeles:20250927T110000
DURATION:PT0H60M0S
SUMMARY:Kat Peterson vs Aaron Donahue
DESCRIPTION:3&4 Grade Co-Ed | Fall Soccer\nWithnell Family YMCA\n
URL;VALUE=URI:https://ygametime.com/branch/mpy/sports/2025-fall-fall-soccer/23851/?utm_medium=calendar&utm_source=team_cal&utm_content=league_url#game-561078
LOCATION:Keizer Rapids Park: Soccer Field Four
BEGIN:VALARM
TRIGGER:-P2H
ACTION:DISPLAY
DESCRIPTION:Kat Peterson vs Aaron Donahue
END:VALARM
END:VEVENT
BEGIN:VEVENT
UID:mpy-561081@ygametime.com
DTSTAMP:Z
DTSTART;TZID=America/Los Angeles:20251004T110000
DURATION:PT0H60M0S
SUMMARY:Melanie Ferder vs Aaron Donahue
DESCRIPTION:3&4 Grade Co-Ed | Fall Soccer\nWithnell Family YMCA\n
URL;VALUE=URI:https://ygametime.com/branch/mpy/sports/2025-fall-fall-soccer/23851/?utm_medium=calendar&utm_source=team_cal&utm_content=league_url#game-561081
LOCATION:Keizer Rapids Park: Soccer Field Three
BEGIN:VALARM
TRIGGER:-P2H
ACTION:DISPLAY
DESCRIPTION:Melanie Ferder vs Aaron Donahue
END:VALARM
END:VEVENT
BEGIN:VEVENT
UID:mpy-561082@ygametime.com
DTSTAMP:Z
DTSTART;TZID=America/Los Angeles:20251011T100000
DURATION:PT0H60M0S
SUMMARY:Aaron Donahue vs MIY 
DESCRIPTION:3&4 Grade Co-Ed | Fall Soccer\nWithnell Family YMCA\n
URL;VALUE=URI:https://ygametime.com/branch/mpy/sports/2025-fall-fall-soccer/23851/?utm_medium=calendar&utm_source=team_cal&utm_content=league_url#game-561082
LOCATION:Independence Sports Park- field 1 
BEGIN:VALARM
TRIGGER:-P2H
ACTION:DISPLAY
DESCRIPTION:Aaron Donahue vs MIY 
END:VALARM
END:VEVENT
BEGIN:VEVENT
UID:mpy-561085@ygametime.com
DTSTAMP:Z
DTSTART;TZID=America/Los Angeles:20251018T110000
DURATION:PT0H60M0S
SUMMARY:Kat Peterson vs Aaron Donahue
DESCRIPTION:3&4 Grade Co-Ed | Fall Soccer\nWithnell Family YMCA\n
URL;VALUE=URI:https://ygametime.com/branch/mpy/sports/2025-fall-fall-soccer/23851/?utm_medium=calendar&utm_source=team_cal&utm_content=league_url#game-561085
LOCATION:Keizer Rapids Park: Soccer Field Three
BEGIN:VALARM
TRIGGER:-P2H
ACTION:DISPLAY
DESCRIPTION:Kat Peterson vs Aaron Donahue
END:VALARM
END:VEVENT
END:VCALENDAR

