BEGIN:VCALENDAR
VERSION:2.0
PRODID:-//YGAMETIME.com//YGT iCal Creator//EN
METHOD:PUBLISH
X-PUBLISHED-TTL:PT6H
REFRESH-INTERVAL;VALUE=DURATION:PT6H
CALSCALE:GREGORIAN
X-WR-CALNAME:YGAMETIME CALENDAR
BEGIN:VEVENT
UID:mpy-561152@ygametime.com
DTSTAMP:Z
DTSTART;TZID=America/Los Angeles:20250913T093000
DURATION:PT0H60M0S
SUMMARY:Chris McCoy & Darrel Catchings vs Tyler Clemens
DESCRIPTION:3&4 Grade Co-Ed | Fall Football\nWithnell Family YMCA\n
URL;VALUE=URI:https://ygametime.com/branch/mpy/sports/2025-fall-fall-football/23849/?utm_medium=calendar&utm_source=team_cal&utm_content=league_url#game-561152
LOCATION:Keizer Rapids Park: Football Field Two
BEGIN:VALARM
TRIGGER:-P2H
ACTION:DISPLAY
DESCRIPTION:Chris McCoy & Darrel Catchings vs Tyler Clemens
END:VALARM
END:VEVENT
BEGIN:VEVENT
UID:mpy-560975@ygametime.com
DTSTAMP:Z
DTSTART;TZID=America/Los Angeles:20250920T110000
DURATION:PT0H60M0S
SUMMARY:Chris McCoy & Darrel Catchings vs SF - Davis 1
DESCRIPTION:3&4 Grade Co-Ed | Fall Football\nWithnell Family YMCA\n
URL;VALUE=URI:https://ygametime.com/branch/mpy/sports/2025-fall-fall-football/23849/?utm_medium=calendar&utm_source=team_cal&utm_content=league_url#game-560975
LOCATION:Robert Frost Elementary
BEGIN:VALARM
TRIGGER:-P2H
ACTION:DISPLAY
DESCRIPTION:Chris McCoy & Darrel Catchings vs SF - Davis 1
END:VALARM
END:VEVENT
BEGIN:VEVENT
UID:mpy-561155@ygametime.com
DTSTAMP:Z
DTSTART;TZID=America/Los Angeles:20250927T103000
DURATION:PT0H60M0S
SUMMARY:Ty Prichard vs Chris McCoy & Darrel Catchings
DESCRIPTION:3&4 Grade Co-Ed | Fall Football\nWithnell Family YMCA\n
URL;VALUE=URI:https://ygametime.com/branch/mpy/sports/2025-fall-fall-football/23849/?utm_medium=calendar&utm_source=team_cal&utm_content=league_url#game-561155
LOCATION:Keizer Rapids Park: Football Field One
BEGIN:VALARM
TRIGGER:-P2H
ACTION:DISPLAY
DESCRIPTION:Ty Prichard vs Chris McCoy & Darrel Catchings
END:VALARM
END:VEVENT
BEGIN:VEVENT
UID:mpy-560979@ygametime.com
DTSTAMP:Z
DTSTART;TZID=America/Los Angeles:20251004T103000
DURATION:PT0H60M0S
SUMMARY:Chris McCoy & Darrel Catchings vs -
DESCRIPTION:3&4 Grade Co-Ed | Fall Football\nWithnell Family YMCA\n
URL;VALUE=URI:https://ygametime.com/branch/mpy/sports/2025-fall-fall-football/23849/?utm_medium=calendar&utm_source=team_cal&utm_content=league_url#game-560979
LOCATION:Keizer Rapids Park: Football Field One
BEGIN:VALARM
TRIGGER:-P2H
ACTION:DISPLAY
DESCRIPTION:Chris McCoy & Darrel Catchings vs -
END:VALARM
END:VEVENT
BEGIN:VEVENT
UID:mpy-561185@ygametime.com
DTSTAMP:Z
DTSTART;TZID=America/Los Angeles:20251011T103000
DURATION:PT0H60M0S
SUMMARY:Chris McCoy & Darrel Catchings vs Mount Angel - White
DESCRIPTION:3&4 Grade Co-Ed | Fall Football\nWithnell Family YMCA\n
URL;VALUE=URI:https://ygametime.com/branch/mpy/sports/2025-fall-fall-football/23849/?utm_medium=calendar&utm_source=team_cal&utm_content=league_url#game-561185
LOCATION:Keizer Rapids Park: Football Field Two
BEGIN:VALARM
TRIGGER:-P2H
ACTION:DISPLAY
DESCRIPTION:Chris McCoy & Darrel Catchings vs Mount Angel - White
END:VALARM
END:VEVENT
BEGIN:VEVENT
UID:mpy-560986@ygametime.com
DTSTAMP:Z
DTSTART;TZID=America/Los Angeles:20251018T083000
DURATION:PT0H60M0S
SUMMARY:Chris McCoy & Darrel Catchings vs -
DESCRIPTION:3&4 Grade Co-Ed | Fall Football\nWithnell Family YMCA\n
URL;VALUE=URI:https://ygametime.com/branch/mpy/sports/2025-fall-fall-football/23849/?utm_medium=calendar&utm_source=team_cal&utm_content=league_url#game-560986
LOCATION:Keizer Rapids Park: Football Field Three
BEGIN:VALARM
TRIGGER:-P2H
ACTION:DISPLAY
DESCRIPTION:Chris McCoy & Darrel Catchings vs -
END:VALARM
END:VEVENT
END:VCALENDAR

