BEGIN:VCALENDAR
VERSION:2.0
PRODID:-//YGAMETIME.com//YGT iCal Creator//EN
METHOD:PUBLISH
X-PUBLISHED-TTL:PT6H
REFRESH-INTERVAL;VALUE=DURATION:PT6H
CALSCALE:GREGORIAN
X-WR-CALNAME:YGAMETIME CALENDAR
BEGIN:VEVENT
UID:mpy-561146@ygametime.com
DTSTAMP:Z
DTSTART;TZID=America/Los Angeles:20250920T090000
DURATION:PT0H60M0S
SUMMARY:Heather Hawkins vs Adam Schrecengost
DESCRIPTION:3&4 Grade Co-Ed | Fall Volleyball\nWithnell Family YMCA\n
URL;VALUE=URI:https://ygametime.com/branch/mpy/sports/2025-fall-fall-volleyball/23860/?utm_medium=calendar&utm_source=team_cal&utm_content=league_url#game-561146
LOCATION:Withnell Family YMCA: Court 1
BEGIN:VALARM
TRIGGER:-P2H
ACTION:DISPLAY
DESCRIPTION:Heather Hawkins vs Adam Schrecengost
END:VALARM
END:VEVENT
BEGIN:VEVENT
UID:mpy-561147@ygametime.com
DTSTAMP:Z
DTSTART;TZID=America/Los Angeles:20250927T100000
DURATION:PT0H60M0S
SUMMARY:Adam Schrecengost vs Janelle Jewett
DESCRIPTION:3&4 Grade Co-Ed | Fall Volleyball\nWithnell Family YMCA\n
URL;VALUE=URI:https://ygametime.com/branch/mpy/sports/2025-fall-fall-volleyball/23860/?utm_medium=calendar&utm_source=team_cal&utm_content=league_url#game-561147
LOCATION:Withnell Family YMCA: Court 1
BEGIN:VALARM
TRIGGER:-P2H
ACTION:DISPLAY
DESCRIPTION:Adam Schrecengost vs Janelle Jewett
END:VALARM
END:VEVENT
BEGIN:VEVENT
UID:mpy-561131@ygametime.com
DTSTAMP:Z
DTSTART;TZID=America/Los Angeles:20251004T090000
DURATION:PT0H60M0S
SUMMARY:Megan Boline (Ace Angels) vs Adam Schrecengost
DESCRIPTION:3&4 Grade Co-Ed | Fall Volleyball\nWithnell Family YMCA\n
URL;VALUE=URI:https://ygametime.com/branch/mpy/sports/2025-fall-fall-volleyball/23860/?utm_medium=calendar&utm_source=team_cal&utm_content=league_url#game-561131
LOCATION:Withnell Family YMCA: Court 1
BEGIN:VALARM
TRIGGER:-P2H
ACTION:DISPLAY
DESCRIPTION:Megan Boline (Ace Angels) vs Adam Schrecengost
END:VALARM
END:VEVENT
BEGIN:VEVENT
UID:mpy-561136@ygametime.com
DTSTAMP:Z
DTSTART;TZID=America/Los Angeles:20251011T100000
DURATION:PT0H60M0S
SUMMARY:Adam Schrecengost vs Amy Branson-Jacobson & Robby Mabry
DESCRIPTION:3&4 Grade Co-Ed | Fall Volleyball\nWithnell Family YMCA\n
URL;VALUE=URI:https://ygametime.com/branch/mpy/sports/2025-fall-fall-volleyball/23860/?utm_medium=calendar&utm_source=team_cal&utm_content=league_url#game-561136
LOCATION:The Gate Youth Association 
BEGIN:VALARM
TRIGGER:-P2H
ACTION:DISPLAY
DESCRIPTION:Adam Schrecengost vs Amy Branson-Jacobson & Robby Mabry
END:VALARM
END:VEVENT
BEGIN:VEVENT
UID:mpy-561333@ygametime.com
DTSTAMP:Z
DTSTART;TZID=America/Los Angeles:20251018T090000
DURATION:PT0H60M0S
SUMMARY:Adam Schrecengost vs MIY - Kasi
DESCRIPTION:3&4 Grade Co-Ed | Fall Volleyball\nWithnell Family YMCA\n
URL;VALUE=URI:https://ygametime.com/branch/mpy/sports/2025-fall-fall-volleyball/23860/?utm_medium=calendar&utm_source=team_cal&utm_content=league_url#game-561333
LOCATION:The Gate Youth Association 
BEGIN:VALARM
TRIGGER:-P2H
ACTION:DISPLAY
DESCRIPTION:Adam Schrecengost vs MIY - Kasi
END:VALARM
END:VEVENT
BEGIN:VEVENT
UID:mpy-561331@ygametime.com
DTSTAMP:Z
DTSTART;TZID=America/Los Angeles:20251025T100000
DURATION:PT0H60M0S
SUMMARY:Adam Schrecengost vs MIY - Nole
DESCRIPTION:3&4 Grade Co-Ed | Fall Volleyball\nWithnell Family YMCA\n
URL;VALUE=URI:https://ygametime.com/branch/mpy/sports/2025-fall-fall-volleyball/23860/?utm_medium=calendar&utm_source=team_cal&utm_content=league_url#game-561331
LOCATION:The Gate Youth Association 
BEGIN:VALARM
TRIGGER:-P2H
ACTION:DISPLAY
DESCRIPTION:Adam Schrecengost vs MIY - Nole
END:VALARM
END:VEVENT
END:VCALENDAR

