BEGIN:VCALENDAR
VERSION:2.0
PRODID:-//YGAMETIME.com//YGT iCal Creator//EN
METHOD:PUBLISH
X-PUBLISHED-TTL:PT6H
REFRESH-INTERVAL;VALUE=DURATION:PT6H
CALSCALE:GREGORIAN
X-WR-CALNAME:YGAMETIME CALENDAR
BEGIN:VEVENT
UID:mpy-560972@ygametime.com
DTSTAMP:Z
DTSTART;TZID=America/Los Angeles:20250913T110000
DURATION:PT0H60M0S
SUMMARY:SF - Davis 2 vs Ty Prichard
DESCRIPTION:3&4 Grade Co-Ed | Fall Football\nWithnell Family YMCA\n
URL;VALUE=URI:https://ygametime.com/branch/mpy/sports/2025-fall-fall-football/23849/?utm_medium=calendar&utm_source=team_cal&utm_content=league_url#game-560972
LOCATION:Robert Frost Elementary
BEGIN:VALARM
TRIGGER:-P2H
ACTION:DISPLAY
DESCRIPTION:SF - Davis 2 vs Ty Prichard
END:VALARM
END:VEVENT
BEGIN:VEVENT
UID:mpy-560974@ygametime.com
DTSTAMP:Z
DTSTART;TZID=America/Los Angeles:20250920T233000
DURATION:PT0H60M0S
SUMMARY:Mount Angel - White vs Ty Prichard
DESCRIPTION:3&4 Grade Co-Ed | Fall Football\nWithnell Family YMCA\n
URL;VALUE=URI:https://ygametime.com/branch/mpy/sports/2025-fall-fall-football/23849/?utm_medium=calendar&utm_source=team_cal&utm_content=league_url#game-560974
LOCATION:Kennedy HS Football Field
BEGIN:VALARM
TRIGGER:-P2H
ACTION:DISPLAY
DESCRIPTION:Mount Angel - White vs Ty Prichard
END:VALARM
END:VEVENT
BEGIN:VEVENT
UID:mpy-561155@ygametime.com
DTSTAMP:Z
DTSTART;TZID=America/Los Angeles:20250927T103000
DURATION:PT0H60M0S
SUMMARY:Ty Prichard vs Chris McCoy & Darrel Catchings
DESCRIPTION:3&4 Grade Co-Ed | Fall Football\nWithnell Family YMCA\n
URL;VALUE=URI:https://ygametime.com/branch/mpy/sports/2025-fall-fall-football/23849/?utm_medium=calendar&utm_source=team_cal&utm_content=league_url#game-561155
LOCATION:Keizer Rapids Park: Football Field One
BEGIN:VALARM
TRIGGER:-P2H
ACTION:DISPLAY
DESCRIPTION:Ty Prichard vs Chris McCoy & Darrel Catchings
END:VALARM
END:VEVENT
BEGIN:VEVENT
UID:mpy-561157@ygametime.com
DTSTAMP:Z
DTSTART;TZID=America/Los Angeles:20251004T083000
DURATION:PT0H60M0S
SUMMARY:Ty Prichard vs -
DESCRIPTION:3&4 Grade Co-Ed | Fall Football\nWithnell Family YMCA\n
URL;VALUE=URI:https://ygametime.com/branch/mpy/sports/2025-fall-fall-football/23849/?utm_medium=calendar&utm_source=team_cal&utm_content=league_url#game-561157
LOCATION:Keizer Rapids Park: Football Field Four
BEGIN:VALARM
TRIGGER:-P2H
ACTION:DISPLAY
DESCRIPTION:Ty Prichard vs -
END:VALARM
END:VEVENT
BEGIN:VEVENT
UID:mpy-561186@ygametime.com
DTSTAMP:Z
DTSTART;TZID=America/Los Angeles:20251011T083000
DURATION:PT0H60M0S
SUMMARY:Ty Prichard vs -
DESCRIPTION:3&4 Grade Co-Ed | Fall Football\nWithnell Family YMCA\n
URL;VALUE=URI:https://ygametime.com/branch/mpy/sports/2025-fall-fall-football/23849/?utm_medium=calendar&utm_source=team_cal&utm_content=league_url#game-561186
LOCATION:Keizer Rapids Park: Football Field Three
BEGIN:VALARM
TRIGGER:-P2H
ACTION:DISPLAY
DESCRIPTION:Ty Prichard vs -
END:VALARM
END:VEVENT
BEGIN:VEVENT
UID:mpy-560987@ygametime.com
DTSTAMP:Z
DTSTART;TZID=America/Los Angeles:20251018T103000
DURATION:PT0H60M0S
SUMMARY:Ty Prichard vs -
DESCRIPTION:3&4 Grade Co-Ed | Fall Football\nWithnell Family YMCA\n
URL;VALUE=URI:https://ygametime.com/branch/mpy/sports/2025-fall-fall-football/23849/?utm_medium=calendar&utm_source=team_cal&utm_content=league_url#game-560987
LOCATION:Keizer Rapids Park: Football Field One
BEGIN:VALARM
TRIGGER:-P2H
ACTION:DISPLAY
DESCRIPTION:Ty Prichard vs -
END:VALARM
END:VEVENT
END:VCALENDAR

