BEGIN:VCALENDAR
VERSION:2.0
PRODID:-//YGAMETIME.com//YGT iCal Creator//EN
METHOD:PUBLISH
X-PUBLISHED-TTL:PT6H
REFRESH-INTERVAL;VALUE=DURATION:PT6H
CALSCALE:GREGORIAN
X-WR-CALNAME:YGAMETIME CALENDAR
BEGIN:VEVENT
UID:mpy-561165@ygametime.com
DTSTAMP:Z
DTSTART;TZID=America/Los Angeles:20250913T103000
DURATION:PT0H60M0S
SUMMARY:Bryce Williams vs Scott McLean & Tom Wells (Buccaneers)
DESCRIPTION:5&6 Grade Co-Ed | Fall Football\nWithnell Family YMCA\n
URL;VALUE=URI:https://ygametime.com/branch/mpy/sports/2025-fall-fall-football/23850/?utm_medium=calendar&utm_source=team_cal&utm_content=league_url#game-561165
LOCATION:Keizer Rapids Park: Football Field Three
BEGIN:VALARM
TRIGGER:-P2H
ACTION:DISPLAY
DESCRIPTION:Bryce Williams vs Scott McLean & Tom Wells (Buccaneers)
END:VALARM
END:VEVENT
BEGIN:VEVENT
UID:mpy-561166@ygametime.com
DTSTAMP:Z
DTSTART;TZID=America/Los Angeles:20250920T103000
DURATION:PT0H60M0S
SUMMARY:Scott McLean & Tom Wells (Buccaneers) vs Woodburn
DESCRIPTION:5&6 Grade Co-Ed | Fall Football\nWithnell Family YMCA\n
URL;VALUE=URI:https://ygametime.com/branch/mpy/sports/2025-fall-fall-football/23850/?utm_medium=calendar&utm_source=team_cal&utm_content=league_url#game-561166
LOCATION:Keizer Rapids Park: Football Field Three
BEGIN:VALARM
TRIGGER:-P2H
ACTION:DISPLAY
DESCRIPTION:Scott McLean & Tom Wells (Buccaneers) vs Woodburn
END:VALARM
END:VEVENT
BEGIN:VEVENT
UID:mpy-561171@ygametime.com
DTSTAMP:Z
DTSTART;TZID=America/Los Angeles:20250927T103000
DURATION:PT0H60M0S
SUMMARY:Anthony Valdez vs Scott McLean & Tom Wells (Buccaneers)
DESCRIPTION:5&6 Grade Co-Ed | Fall Football\nWithnell Family YMCA\n
URL;VALUE=URI:https://ygametime.com/branch/mpy/sports/2025-fall-fall-football/23850/?utm_medium=calendar&utm_source=team_cal&utm_content=league_url#game-561171
LOCATION:Keizer Rapids Park: Football Field Three
BEGIN:VALARM
TRIGGER:-P2H
ACTION:DISPLAY
DESCRIPTION:Anthony Valdez vs Scott McLean & Tom Wells (Buccaneers)
END:VALARM
END:VEVENT
BEGIN:VEVENT
UID:mpy-561174@ygametime.com
DTSTAMP:Z
DTSTART;TZID=America/Los Angeles:20251004T103000
DURATION:PT0H60M0S
SUMMARY:Scott McLean & Tom Wells (Buccaneers) vs Woodburn
DESCRIPTION:5&6 Grade Co-Ed | Fall Football\nWithnell Family YMCA\n
URL;VALUE=URI:https://ygametime.com/branch/mpy/sports/2025-fall-fall-football/23850/?utm_medium=calendar&utm_source=team_cal&utm_content=league_url#game-561174
LOCATION:Keizer Rapids Park: Football Field Two
BEGIN:VALARM
TRIGGER:-P2H
ACTION:DISPLAY
DESCRIPTION:Scott McLean & Tom Wells (Buccaneers) vs Woodburn
END:VALARM
END:VEVENT
BEGIN:VEVENT
UID:mpy-561177@ygametime.com
DTSTAMP:Z
DTSTART;TZID=America/Los Angeles:20251004T113000
DURATION:PT0H60M0S
SUMMARY:Bryce Williams vs Scott McLean & Tom Wells (Buccaneers)
DESCRIPTION:5&6 Grade Co-Ed | Fall Football\nWithnell Family YMCA\n
URL;VALUE=URI:https://ygametime.com/branch/mpy/sports/2025-fall-fall-football/23850/?utm_medium=calendar&utm_source=team_cal&utm_content=league_url#game-561177
LOCATION:Keizer Rapids Park: Football Field Four
BEGIN:VALARM
TRIGGER:-P2H
ACTION:DISPLAY
DESCRIPTION:Bryce Williams vs Scott McLean & Tom Wells (Buccaneers)
END:VALARM
END:VEVENT
BEGIN:VEVENT
UID:mpy-561179@ygametime.com
DTSTAMP:Z
DTSTART;TZID=America/Los Angeles:20251011T113000
DURATION:PT0H60M0S
SUMMARY:SF - Baldridge vs Scott McLean & Tom Wells (Buccaneers)
DESCRIPTION:5&6 Grade Co-Ed | Fall Football\nWithnell Family YMCA\n
URL;VALUE=URI:https://ygametime.com/branch/mpy/sports/2025-fall-fall-football/23850/?utm_medium=calendar&utm_source=team_cal&utm_content=league_url#game-561179
LOCATION:Keizer Rapids Park: Football Field One
BEGIN:VALARM
TRIGGER:-P2H
ACTION:DISPLAY
DESCRIPTION:SF - Baldridge vs Scott McLean & Tom Wells (Buccaneers)
END:VALARM
END:VEVENT
BEGIN:VEVENT
UID:mpy-561362@ygametime.com
DTSTAMP:Z
DTSTART;TZID=America/Los Angeles:20251018T103000
DURATION:PT0H60M0S
SUMMARY:MIY Dennis vs Scott McLean & Tom Wells (Buccaneers)
DESCRIPTION:5&6 Grade Co-Ed | Fall Football\nWithnell Family YMCA\n
URL;VALUE=URI:https://ygametime.com/branch/mpy/sports/2025-fall-fall-football/23850/?utm_medium=calendar&utm_source=team_cal&utm_content=league_url#game-561362
LOCATION:Independence Sports Park- field 1 
BEGIN:VALARM
TRIGGER:-P2H
ACTION:DISPLAY
DESCRIPTION:MIY Dennis vs Scott McLean & Tom Wells (Buccaneers)
END:VALARM
END:VEVENT
END:VCALENDAR

