BEGIN:VCALENDAR
VERSION:2.0
PRODID:-//YGAMETIME.com//YGT iCal Creator//EN
METHOD:PUBLISH
X-PUBLISHED-TTL:PT6H
REFRESH-INTERVAL;VALUE=DURATION:PT6H
CALSCALE:GREGORIAN
X-WR-CALNAME:YGAMETIME CALENDAR
BEGIN:VEVENT
UID:mpy-561159@ygametime.com
DTSTAMP:Z
DTSTART;TZID=America/Los Angeles:20250920T090000
DURATION:PT0H60M0S
SUMMARY:MIY - Kasi vs Megan Boline (Ace Angels)
DESCRIPTION:3&4 Grade Co-Ed | Fall Volleyball\nWithnell Family YMCA\n
URL;VALUE=URI:https://ygametime.com/branch/mpy/sports/2025-fall-fall-volleyball/23860/?utm_medium=calendar&utm_source=team_cal&utm_content=league_url#game-561159
LOCATION:The Gate Youth Association 
BEGIN:VALARM
TRIGGER:-P2H
ACTION:DISPLAY
DESCRIPTION:MIY - Kasi vs Megan Boline (Ace Angels)
END:VALARM
END:VEVENT
BEGIN:VEVENT
UID:mpy-561334@ygametime.com
DTSTAMP:Z
DTSTART;TZID=America/Los Angeles:20250920T100000
DURATION:PT0H60M0S
SUMMARY:MIY - Nole vs Megan Boline (Ace Angels)
DESCRIPTION:3&4 Grade Co-Ed | Fall Volleyball\nWithnell Family YMCA\n
URL;VALUE=URI:https://ygametime.com/branch/mpy/sports/2025-fall-fall-volleyball/23860/?utm_medium=calendar&utm_source=team_cal&utm_content=league_url#game-561334
LOCATION:The Gate Youth Association 
BEGIN:VALARM
TRIGGER:-P2H
ACTION:DISPLAY
DESCRIPTION:MIY - Nole vs Megan Boline (Ace Angels)
END:VALARM
END:VEVENT
BEGIN:VEVENT
UID:mpy-561129@ygametime.com
DTSTAMP:Z
DTSTART;TZID=America/Los Angeles:20250927T090000
DURATION:PT0H60M0S
SUMMARY:Heather Hawkins vs Megan Boline (Ace Angels)
DESCRIPTION:3&4 Grade Co-Ed | Fall Volleyball\nWithnell Family YMCA\n
URL;VALUE=URI:https://ygametime.com/branch/mpy/sports/2025-fall-fall-volleyball/23860/?utm_medium=calendar&utm_source=team_cal&utm_content=league_url#game-561129
LOCATION:Withnell Family YMCA: Court 1
BEGIN:VALARM
TRIGGER:-P2H
ACTION:DISPLAY
DESCRIPTION:Heather Hawkins vs Megan Boline (Ace Angels)
END:VALARM
END:VEVENT
BEGIN:VEVENT
UID:mpy-561131@ygametime.com
DTSTAMP:Z
DTSTART;TZID=America/Los Angeles:20251004T090000
DURATION:PT0H60M0S
SUMMARY:Megan Boline (Ace Angels) vs Adam Schrecengost
DESCRIPTION:3&4 Grade Co-Ed | Fall Volleyball\nWithnell Family YMCA\n
URL;VALUE=URI:https://ygametime.com/branch/mpy/sports/2025-fall-fall-volleyball/23860/?utm_medium=calendar&utm_source=team_cal&utm_content=league_url#game-561131
LOCATION:Withnell Family YMCA: Court 1
BEGIN:VALARM
TRIGGER:-P2H
ACTION:DISPLAY
DESCRIPTION:Megan Boline (Ace Angels) vs Adam Schrecengost
END:VALARM
END:VEVENT
BEGIN:VEVENT
UID:mpy-561150@ygametime.com
DTSTAMP:Z
DTSTART;TZID=America/Los Angeles:20251018T100000
DURATION:PT0H60M0S
SUMMARY:Megan Boline (Ace Angels) vs Amy Branson-Jacobson & Robby Mabry
DESCRIPTION:3&4 Grade Co-Ed | Fall Volleyball\nWithnell Family YMCA\n
URL;VALUE=URI:https://ygametime.com/branch/mpy/sports/2025-fall-fall-volleyball/23860/?utm_medium=calendar&utm_source=team_cal&utm_content=league_url#game-561150
LOCATION:Withnell Family YMCA: Court 1
BEGIN:VALARM
TRIGGER:-P2H
ACTION:DISPLAY
DESCRIPTION:Megan Boline (Ace Angels) vs Amy Branson-Jacobson & Robby Mabry
END:VALARM
END:VEVENT
BEGIN:VEVENT
UID:mpy-561141@ygametime.com
DTSTAMP:Z
DTSTART;TZID=America/Los Angeles:20251025T090000
DURATION:PT0H60M0S
SUMMARY:Janelle Jewett vs Megan Boline (Ace Angels)
DESCRIPTION:3&4 Grade Co-Ed | Fall Volleyball\nWithnell Family YMCA\n
URL;VALUE=URI:https://ygametime.com/branch/mpy/sports/2025-fall-fall-volleyball/23860/?utm_medium=calendar&utm_source=team_cal&utm_content=league_url#game-561141
LOCATION:Withnell Family YMCA: Court 1
BEGIN:VALARM
TRIGGER:-P2H
ACTION:DISPLAY
DESCRIPTION:Janelle Jewett vs Megan Boline (Ace Angels)
END:VALARM
END:VEVENT
END:VCALENDAR

