BEGIN:VCALENDAR
VERSION:2.0
PRODID:-//YGAMETIME.com//YGT iCal Creator//EN
METHOD:PUBLISH
X-PUBLISHED-TTL:PT6H
REFRESH-INTERVAL;VALUE=DURATION:PT6H
CALSCALE:GREGORIAN
X-WR-CALNAME:YGAMETIME CALENDAR
BEGIN:VEVENT
UID:mpy-560991@ygametime.com
DTSTAMP:Z
DTSTART;TZID=America/Los Angeles:20250913T093000
DURATION:PT0H60M0S
SUMMARY:Malik Keebler vs SF-Bowen/Plouse
DESCRIPTION:1&2 Grade Co-ed | Fall Football\nWithnell Family YMCA\n
URL;VALUE=URI:https://ygametime.com/branch/mpy/sports/2025-fall-fall-football/23848/?utm_medium=calendar&utm_source=team_cal&utm_content=league_url#game-560991
LOCATION:Keizer Rapids Park: Football Field Three
BEGIN:VALARM
TRIGGER:-P2H
ACTION:DISPLAY
DESCRIPTION:Malik Keebler vs SF-Bowen/Plouse
END:VALARM
END:VEVENT
BEGIN:VEVENT
UID:mpy-560993@ygametime.com
DTSTAMP:Z
DTSTART;TZID=America/Los Angeles:20250920T093000
DURATION:PT0H60M0S
SUMMARY:Malik Keebler vs MTA-White
DESCRIPTION:1&2 Grade Co-ed | Fall Football\nWithnell Family YMCA\n
URL;VALUE=URI:https://ygametime.com/branch/mpy/sports/2025-fall-fall-football/23848/?utm_medium=calendar&utm_source=team_cal&utm_content=league_url#game-560993
LOCATION:Kennedy HS Football Field
BEGIN:VALARM
TRIGGER:-P2H
ACTION:DISPLAY
DESCRIPTION:Malik Keebler vs MTA-White
END:VALARM
END:VEVENT
BEGIN:VEVENT
UID:mpy-560999@ygametime.com
DTSTAMP:Z
DTSTART;TZID=America/Los Angeles:20250927T100000
DURATION:PT0H60M0S
SUMMARY:Malik Keebler vs SF-Fairbank
DESCRIPTION:1&2 Grade Co-ed | Fall Football\nWithnell Family YMCA\n
URL;VALUE=URI:https://ygametime.com/branch/mpy/sports/2025-fall-fall-football/23848/?utm_medium=calendar&utm_source=team_cal&utm_content=league_url#game-560999
LOCATION:Robert Frost Elementary
BEGIN:VALARM
TRIGGER:-P2H
ACTION:DISPLAY
DESCRIPTION:Malik Keebler vs SF-Fairbank
END:VALARM
END:VEVENT
BEGIN:VEVENT
UID:mpy-561000@ygametime.com
DTSTAMP:Z
DTSTART;TZID=America/Los Angeles:20251004T083000
DURATION:PT0H60M0S
SUMMARY:Malik Keebler vs -
DESCRIPTION:1&2 Grade Co-ed | Fall Football\nWithnell Family YMCA\n
URL;VALUE=URI:https://ygametime.com/branch/mpy/sports/2025-fall-fall-football/23848/?utm_medium=calendar&utm_source=team_cal&utm_content=league_url#game-561000
LOCATION:Keizer Rapids Park: Football Field One
BEGIN:VALARM
TRIGGER:-P2H
ACTION:DISPLAY
DESCRIPTION:Malik Keebler vs -
END:VALARM
END:VEVENT
BEGIN:VEVENT
UID:mpy-561071@ygametime.com
DTSTAMP:Z
DTSTART;TZID=America/Los Angeles:20251011T103000
DURATION:PT0H60M0S
SUMMARY:Joseph Castillo vs Malik Keebler
DESCRIPTION:1&2 Grade Co-ed | Fall Football\nWithnell Family YMCA\n
URL;VALUE=URI:https://ygametime.com/branch/mpy/sports/2025-fall-fall-football/23848/?utm_medium=calendar&utm_source=team_cal&utm_content=league_url#game-561071
LOCATION:Keizer Rapids Park: Football Field Three
BEGIN:VALARM
TRIGGER:-P2H
ACTION:DISPLAY
DESCRIPTION:Joseph Castillo vs Malik Keebler
END:VALARM
END:VEVENT
BEGIN:VEVENT
UID:mpy-561008@ygametime.com
DTSTAMP:Z
DTSTART;TZID=America/Los Angeles:20251018T083000
DURATION:PT0H60M0S
SUMMARY:Malik Keebler vs -
DESCRIPTION:1&2 Grade Co-ed | Fall Football\nWithnell Family YMCA\n
URL;VALUE=URI:https://ygametime.com/branch/mpy/sports/2025-fall-fall-football/23848/?utm_medium=calendar&utm_source=team_cal&utm_content=league_url#game-561008
LOCATION:Keizer Rapids Park: Football Field One
BEGIN:VALARM
TRIGGER:-P2H
ACTION:DISPLAY
DESCRIPTION:Malik Keebler vs -
END:VALARM
END:VEVENT
END:VCALENDAR

