BEGIN:VCALENDAR
VERSION:2.0
PRODID:-//YGAMETIME.com//YGT iCal Creator//EN
METHOD:PUBLISH
X-PUBLISHED-TTL:PT6H
REFRESH-INTERVAL;VALUE=DURATION:PT6H
CALSCALE:GREGORIAN
X-WR-CALNAME:YGAMETIME CALENDAR
BEGIN:VEVENT
UID:mpy-560990@ygametime.com
DTSTAMP:Z
DTSTART;TZID=America/Los Angeles:20250913T083000
DURATION:PT0H60M0S
SUMMARY:Joseph Castillo vs SF-Sterngaen
DESCRIPTION:1&2 Grade Co-ed | Fall Football\nWithnell Family YMCA\n
URL;VALUE=URI:https://ygametime.com/branch/mpy/sports/2025-fall-fall-football/23848/?utm_medium=calendar&utm_source=team_cal&utm_content=league_url#game-560990
LOCATION:Keizer Rapids Park: Football Field Two
BEGIN:VALARM
TRIGGER:-P2H
ACTION:DISPLAY
DESCRIPTION:Joseph Castillo vs SF-Sterngaen
END:VALARM
END:VEVENT
BEGIN:VEVENT
UID:mpy-560992@ygametime.com
DTSTAMP:Z
DTSTART;TZID=America/Los Angeles:20250920T083000
DURATION:PT0H60M0S
SUMMARY:Joseph Castillo vs Mike Rylands
DESCRIPTION:1&2 Grade Co-ed | Fall Football\nWithnell Family YMCA\n
URL;VALUE=URI:https://ygametime.com/branch/mpy/sports/2025-fall-fall-football/23848/?utm_medium=calendar&utm_source=team_cal&utm_content=league_url#game-560992
LOCATION:Keizer Rapids Park: Football Field Four
BEGIN:VALARM
TRIGGER:-P2H
ACTION:DISPLAY
DESCRIPTION:Joseph Castillo vs Mike Rylands
END:VALARM
END:VEVENT
BEGIN:VEVENT
UID:mpy-560997@ygametime.com
DTSTAMP:Z
DTSTART;TZID=America/Los Angeles:20250927T083000
DURATION:PT0H60M0S
SUMMARY:Joseph Castillo vs SF-Bowen/Plouse
DESCRIPTION:1&2 Grade Co-ed | Fall Football\nWithnell Family YMCA\n
URL;VALUE=URI:https://ygametime.com/branch/mpy/sports/2025-fall-fall-football/23848/?utm_medium=calendar&utm_source=team_cal&utm_content=league_url#game-560997
LOCATION:Keizer Rapids Park: Football Field Three
BEGIN:VALARM
TRIGGER:-P2H
ACTION:DISPLAY
DESCRIPTION:Joseph Castillo vs SF-Bowen/Plouse
END:VALARM
END:VEVENT
BEGIN:VEVENT
UID:mpy-561002@ygametime.com
DTSTAMP:Z
DTSTART;TZID=America/Los Angeles:20251004T093000
DURATION:PT0H60M0S
SUMMARY:Joseph Castillo vs -
DESCRIPTION:1&2 Grade Co-ed | Fall Football\nWithnell Family YMCA\n
URL;VALUE=URI:https://ygametime.com/branch/mpy/sports/2025-fall-fall-football/23848/?utm_medium=calendar&utm_source=team_cal&utm_content=league_url#game-561002
LOCATION:Keizer Rapids Park: Football Field Three
BEGIN:VALARM
TRIGGER:-P2H
ACTION:DISPLAY
DESCRIPTION:Joseph Castillo vs -
END:VALARM
END:VEVENT
BEGIN:VEVENT
UID:mpy-561071@ygametime.com
DTSTAMP:Z
DTSTART;TZID=America/Los Angeles:20251011T103000
DURATION:PT0H60M0S
SUMMARY:Joseph Castillo vs Malik Keebler
DESCRIPTION:1&2 Grade Co-ed | Fall Football\nWithnell Family YMCA\n
URL;VALUE=URI:https://ygametime.com/branch/mpy/sports/2025-fall-fall-football/23848/?utm_medium=calendar&utm_source=team_cal&utm_content=league_url#game-561071
LOCATION:Keizer Rapids Park: Football Field Three
BEGIN:VALARM
TRIGGER:-P2H
ACTION:DISPLAY
DESCRIPTION:Joseph Castillo vs Malik Keebler
END:VALARM
END:VEVENT
BEGIN:VEVENT
UID:mpy-561009@ygametime.com
DTSTAMP:Z
DTSTART;TZID=America/Los Angeles:20251018T093000
DURATION:PT0H60M0S
SUMMARY:Joseph Castillo vs -
DESCRIPTION:1&2 Grade Co-ed | Fall Football\nWithnell Family YMCA\n
URL;VALUE=URI:https://ygametime.com/branch/mpy/sports/2025-fall-fall-football/23848/?utm_medium=calendar&utm_source=team_cal&utm_content=league_url#game-561009
LOCATION:Keizer Rapids Park: Football Field Two
BEGIN:VALARM
TRIGGER:-P2H
ACTION:DISPLAY
DESCRIPTION:Joseph Castillo vs -
END:VALARM
END:VEVENT
END:VCALENDAR

