BEGIN:VCALENDAR
VERSION:2.0
PRODID:-//YGAMETIME.com//YGT iCal Creator//EN
METHOD:PUBLISH
X-PUBLISHED-TTL:PT6H
REFRESH-INTERVAL;VALUE=DURATION:PT6H
CALSCALE:GREGORIAN
X-WR-CALNAME:YGAMETIME CALENDAR
BEGIN:VEVENT
UID:mpy-561034@ygametime.com
DTSTAMP:Z
DTSTART;TZID=America/Los Angeles:20250913T090000
DURATION:PT0H60M0S
SUMMARY:Krista & Ian Campbell vs MIY Rebecca & Jesse
DESCRIPTION:1&2 Grade Co-ed | Fall Soccer\nWithnell Family YMCA\n
URL;VALUE=URI:https://ygametime.com/branch/mpy/sports/2025-fall-fall-soccer/23855/?utm_medium=calendar&utm_source=team_cal&utm_content=league_url#game-561034
LOCATION:Independence Sports Park - Field 3
BEGIN:VALARM
TRIGGER:-P2H
ACTION:DISPLAY
DESCRIPTION:Krista & Ian Campbell vs MIY Rebecca & Jesse
END:VALARM
END:VEVENT
BEGIN:VEVENT
UID:mpy-561037@ygametime.com
DTSTAMP:Z
DTSTART;TZID=America/Los Angeles:20250920T090000
DURATION:PT0H60M0S
SUMMARY:Zachary Brown-Silverstein vs Krista & Ian Campbell
DESCRIPTION:1&2 Grade Co-ed | Fall Soccer\nWithnell Family YMCA\n
URL;VALUE=URI:https://ygametime.com/branch/mpy/sports/2025-fall-fall-soccer/23855/?utm_medium=calendar&utm_source=team_cal&utm_content=league_url#game-561037
LOCATION:Keizer Rapids Park: Soccer Field Two
BEGIN:VALARM
TRIGGER:-P2H
ACTION:DISPLAY
DESCRIPTION:Zachary Brown-Silverstein vs Krista & Ian Campbell
END:VALARM
END:VEVENT
BEGIN:VEVENT
UID:mpy-561039@ygametime.com
DTSTAMP:Z
DTSTART;TZID=America/Los Angeles:20250920T100000
DURATION:PT0H60M0S
SUMMARY:Laura Zurita vs Krista & Ian Campbell
DESCRIPTION:1&2 Grade Co-ed | Fall Soccer\nWithnell Family YMCA\n
URL;VALUE=URI:https://ygametime.com/branch/mpy/sports/2025-fall-fall-soccer/23855/?utm_medium=calendar&utm_source=team_cal&utm_content=league_url#game-561039
LOCATION:Keizer Rapids Park: Soccer Field Two
BEGIN:VALARM
TRIGGER:-P2H
ACTION:DISPLAY
DESCRIPTION:Laura Zurita vs Krista & Ian Campbell
END:VALARM
END:VEVENT
BEGIN:VEVENT
UID:mpy-561041@ygametime.com
DTSTAMP:Z
DTSTART;TZID=America/Los Angeles:20250927T100000
DURATION:PT0H60M0S
SUMMARY:Krista & Ian Campbell vs Zachary Brown-Silverstein
DESCRIPTION:1&2 Grade Co-ed | Fall Soccer\nWithnell Family YMCA\n
URL;VALUE=URI:https://ygametime.com/branch/mpy/sports/2025-fall-fall-soccer/23855/?utm_medium=calendar&utm_source=team_cal&utm_content=league_url#game-561041
LOCATION:Keizer Rapids Park: Soccer Field One
BEGIN:VALARM
TRIGGER:-P2H
ACTION:DISPLAY
DESCRIPTION:Krista & Ian Campbell vs Zachary Brown-Silverstein
END:VALARM
END:VEVENT
BEGIN:VEVENT
UID:mpy-561044@ygametime.com
DTSTAMP:Z
DTSTART;TZID=America/Los Angeles:20251004T100000
DURATION:PT0H60M0S
SUMMARY:Krista & Ian Campbell vs David Bradley
DESCRIPTION:1&2 Grade Co-ed | Fall Soccer\nWithnell Family YMCA\n
URL;VALUE=URI:https://ygametime.com/branch/mpy/sports/2025-fall-fall-soccer/23855/?utm_medium=calendar&utm_source=team_cal&utm_content=league_url#game-561044
LOCATION:Keizer Rapids Park: Soccer Field Two
BEGIN:VALARM
TRIGGER:-P2H
ACTION:DISPLAY
DESCRIPTION:Krista & Ian Campbell vs David Bradley
END:VALARM
END:VEVENT
BEGIN:VEVENT
UID:mpy-561051@ygametime.com
DTSTAMP:Z
DTSTART;TZID=America/Los Angeles:20251011T090000
DURATION:PT0H60M0S
SUMMARY:Krista & Ian Campbell vs Laura Zurita
DESCRIPTION:1&2 Grade Co-ed | Fall Soccer\nWithnell Family YMCA\n
URL;VALUE=URI:https://ygametime.com/branch/mpy/sports/2025-fall-fall-soccer/23855/?utm_medium=calendar&utm_source=team_cal&utm_content=league_url#game-561051
LOCATION:Keizer Rapids Park: Soccer Field Two
BEGIN:VALARM
TRIGGER:-P2H
ACTION:DISPLAY
DESCRIPTION:Krista & Ian Campbell vs Laura Zurita
END:VALARM
END:VEVENT
BEGIN:VEVENT
UID:mpy-561046@ygametime.com
DTSTAMP:Z
DTSTART;TZID=America/Los Angeles:20251018T090000
DURATION:PT0H60M0S
SUMMARY:Benje Orozco Jr. vs Krista & Ian Campbell
DESCRIPTION:1&2 Grade Co-ed | Fall Soccer\nWithnell Family YMCA\n
URL;VALUE=URI:https://ygametime.com/branch/mpy/sports/2025-fall-fall-soccer/23855/?utm_medium=calendar&utm_source=team_cal&utm_content=league_url#game-561046
LOCATION:Keizer Rapids Park: Soccer Field Three
BEGIN:VALARM
TRIGGER:-P2H
ACTION:DISPLAY
DESCRIPTION:Benje Orozco Jr. vs Krista & Ian Campbell
END:VALARM
END:VEVENT
END:VCALENDAR

