BEGIN:VCALENDAR
VERSION:2.0
PRODID:-//YGAMETIME.com//YGT iCal Creator//EN
METHOD:PUBLISH
X-PUBLISHED-TTL:PT6H
REFRESH-INTERVAL;VALUE=DURATION:PT6H
CALSCALE:GREGORIAN
X-WR-CALNAME:YGAMETIME CALENDAR
BEGIN:VEVENT
UID:mpy-561035@ygametime.com
DTSTAMP:Z
DTSTART;TZID=America/Los Angeles:20250913T100000
DURATION:PT0H60M0S
SUMMARY:David Bradley vs Laura Zurita
DESCRIPTION:1&2 Grade Co-ed | Fall Soccer\nWithnell Family YMCA\n
URL;VALUE=URI:https://ygametime.com/branch/mpy/sports/2025-fall-fall-soccer/23855/?utm_medium=calendar&utm_source=team_cal&utm_content=league_url#game-561035
LOCATION:Keizer Rapids Park: Soccer Field Two
BEGIN:VALARM
TRIGGER:-P2H
ACTION:DISPLAY
DESCRIPTION:David Bradley vs Laura Zurita
END:VALARM
END:VEVENT
BEGIN:VEVENT
UID:mpy-561039@ygametime.com
DTSTAMP:Z
DTSTART;TZID=America/Los Angeles:20250920T100000
DURATION:PT0H60M0S
SUMMARY:Laura Zurita vs Krista & Ian Campbell
DESCRIPTION:1&2 Grade Co-ed | Fall Soccer\nWithnell Family YMCA\n
URL;VALUE=URI:https://ygametime.com/branch/mpy/sports/2025-fall-fall-soccer/23855/?utm_medium=calendar&utm_source=team_cal&utm_content=league_url#game-561039
LOCATION:Keizer Rapids Park: Soccer Field Two
BEGIN:VALARM
TRIGGER:-P2H
ACTION:DISPLAY
DESCRIPTION:Laura Zurita vs Krista & Ian Campbell
END:VALARM
END:VEVENT
BEGIN:VEVENT
UID:mpy-561040@ygametime.com
DTSTAMP:Z
DTSTART;TZID=America/Los Angeles:20250927T100000
DURATION:PT0H60M0S
SUMMARY:David Bradley vs Laura Zurita
DESCRIPTION:1&2 Grade Co-ed | Fall Soccer\nWithnell Family YMCA\n
URL;VALUE=URI:https://ygametime.com/branch/mpy/sports/2025-fall-fall-soccer/23855/?utm_medium=calendar&utm_source=team_cal&utm_content=league_url#game-561040
LOCATION:Keizer Rapids Park: Soccer Field Four
BEGIN:VALARM
TRIGGER:-P2H
ACTION:DISPLAY
DESCRIPTION:David Bradley vs Laura Zurita
END:VALARM
END:VEVENT
BEGIN:VEVENT
UID:mpy-561045@ygametime.com
DTSTAMP:Z
DTSTART;TZID=America/Los Angeles:20251004T090000
DURATION:PT0H60M0S
SUMMARY:Laura Zurita vs MIY Rebecca & Jesse
DESCRIPTION:1&2 Grade Co-ed | Fall Soccer\nWithnell Family YMCA\n
URL;VALUE=URI:https://ygametime.com/branch/mpy/sports/2025-fall-fall-soccer/23855/?utm_medium=calendar&utm_source=team_cal&utm_content=league_url#game-561045
LOCATION:Independence Sports Park - Field 3
BEGIN:VALARM
TRIGGER:-P2H
ACTION:DISPLAY
DESCRIPTION:Laura Zurita vs MIY Rebecca & Jesse
END:VALARM
END:VEVENT
BEGIN:VEVENT
UID:mpy-561051@ygametime.com
DTSTAMP:Z
DTSTART;TZID=America/Los Angeles:20251011T090000
DURATION:PT0H60M0S
SUMMARY:Krista & Ian Campbell vs Laura Zurita
DESCRIPTION:1&2 Grade Co-ed | Fall Soccer\nWithnell Family YMCA\n
URL;VALUE=URI:https://ygametime.com/branch/mpy/sports/2025-fall-fall-soccer/23855/?utm_medium=calendar&utm_source=team_cal&utm_content=league_url#game-561051
LOCATION:Keizer Rapids Park: Soccer Field Two
BEGIN:VALARM
TRIGGER:-P2H
ACTION:DISPLAY
DESCRIPTION:Krista & Ian Campbell vs Laura Zurita
END:VALARM
END:VEVENT
BEGIN:VEVENT
UID:mpy-561048@ygametime.com
DTSTAMP:Z
DTSTART;TZID=America/Los Angeles:20251011T100000
DURATION:PT0H60M0S
SUMMARY:Laura Zurita vs Dalia Monteon
DESCRIPTION:1&2 Grade Co-ed | Fall Soccer\nWithnell Family YMCA\n
URL;VALUE=URI:https://ygametime.com/branch/mpy/sports/2025-fall-fall-soccer/23855/?utm_medium=calendar&utm_source=team_cal&utm_content=league_url#game-561048
LOCATION:Keizer Rapids Park: Soccer Field Two
BEGIN:VALARM
TRIGGER:-P2H
ACTION:DISPLAY
DESCRIPTION:Laura Zurita vs Dalia Monteon
END:VALARM
END:VEVENT
END:VCALENDAR

