BEGIN:VCALENDAR
VERSION:2.0
PRODID:-//YGAMETIME.com//YGT iCal Creator//EN
METHOD:PUBLISH
X-PUBLISHED-TTL:PT6H
REFRESH-INTERVAL;VALUE=DURATION:PT6H
CALSCALE:GREGORIAN
X-WR-CALNAME:YGAMETIME CALENDAR
BEGIN:VEVENT
UID:mpy-561032@ygametime.com
DTSTAMP:Z
DTSTART;TZID=America/Los Angeles:20250913T090000
DURATION:PT0H60M0S
SUMMARY:David Bradley vs Dalia Monteon
DESCRIPTION:1&2 Grade Co-ed | Fall Soccer\nWithnell Family YMCA\n
URL;VALUE=URI:https://ygametime.com/branch/mpy/sports/2025-fall-fall-soccer/23855/?utm_medium=calendar&utm_source=team_cal&utm_content=league_url#game-561032
LOCATION:Keizer Rapids Park: Soccer Field Two
BEGIN:VALARM
TRIGGER:-P2H
ACTION:DISPLAY
DESCRIPTION:David Bradley vs Dalia Monteon
END:VALARM
END:VEVENT
BEGIN:VEVENT
UID:mpy-561035@ygametime.com
DTSTAMP:Z
DTSTART;TZID=America/Los Angeles:20250913T100000
DURATION:PT0H60M0S
SUMMARY:David Bradley vs Laura Zurita
DESCRIPTION:1&2 Grade Co-ed | Fall Soccer\nWithnell Family YMCA\n
URL;VALUE=URI:https://ygametime.com/branch/mpy/sports/2025-fall-fall-soccer/23855/?utm_medium=calendar&utm_source=team_cal&utm_content=league_url#game-561035
LOCATION:Keizer Rapids Park: Soccer Field Two
BEGIN:VALARM
TRIGGER:-P2H
ACTION:DISPLAY
DESCRIPTION:David Bradley vs Laura Zurita
END:VALARM
END:VEVENT
BEGIN:VEVENT
UID:mpy-561036@ygametime.com
DTSTAMP:Z
DTSTART;TZID=America/Los Angeles:20250920T090000
DURATION:PT0H60M0S
SUMMARY:MIY Rebecca & Jesse vs David Bradley
DESCRIPTION:1&2 Grade Co-ed | Fall Soccer\nWithnell Family YMCA\n
URL;VALUE=URI:https://ygametime.com/branch/mpy/sports/2025-fall-fall-soccer/23855/?utm_medium=calendar&utm_source=team_cal&utm_content=league_url#game-561036
LOCATION:Ash Creek Elementary
BEGIN:VALARM
TRIGGER:-P2H
ACTION:DISPLAY
DESCRIPTION:MIY Rebecca & Jesse vs David Bradley
END:VALARM
END:VEVENT
BEGIN:VEVENT
UID:mpy-561040@ygametime.com
DTSTAMP:Z
DTSTART;TZID=America/Los Angeles:20250927T100000
DURATION:PT0H60M0S
SUMMARY:David Bradley vs Laura Zurita
DESCRIPTION:1&2 Grade Co-ed | Fall Soccer\nWithnell Family YMCA\n
URL;VALUE=URI:https://ygametime.com/branch/mpy/sports/2025-fall-fall-soccer/23855/?utm_medium=calendar&utm_source=team_cal&utm_content=league_url#game-561040
LOCATION:Keizer Rapids Park: Soccer Field Four
BEGIN:VALARM
TRIGGER:-P2H
ACTION:DISPLAY
DESCRIPTION:David Bradley vs Laura Zurita
END:VALARM
END:VEVENT
BEGIN:VEVENT
UID:mpy-561044@ygametime.com
DTSTAMP:Z
DTSTART;TZID=America/Los Angeles:20251004T100000
DURATION:PT0H60M0S
SUMMARY:Krista & Ian Campbell vs David Bradley
DESCRIPTION:1&2 Grade Co-ed | Fall Soccer\nWithnell Family YMCA\n
URL;VALUE=URI:https://ygametime.com/branch/mpy/sports/2025-fall-fall-soccer/23855/?utm_medium=calendar&utm_source=team_cal&utm_content=league_url#game-561044
LOCATION:Keizer Rapids Park: Soccer Field Two
BEGIN:VALARM
TRIGGER:-P2H
ACTION:DISPLAY
DESCRIPTION:Krista & Ian Campbell vs David Bradley
END:VALARM
END:VEVENT
BEGIN:VEVENT
UID:mpy-561050@ygametime.com
DTSTAMP:Z
DTSTART;TZID=America/Los Angeles:20251011T100000
DURATION:PT0H60M0S
SUMMARY:David Bradley vs Benje Orozco Jr.
DESCRIPTION:1&2 Grade Co-ed | Fall Soccer\nWithnell Family YMCA\n
URL;VALUE=URI:https://ygametime.com/branch/mpy/sports/2025-fall-fall-soccer/23855/?utm_medium=calendar&utm_source=team_cal&utm_content=league_url#game-561050
LOCATION:Keizer Rapids Park: Soccer Field Three
BEGIN:VALARM
TRIGGER:-P2H
ACTION:DISPLAY
DESCRIPTION:David Bradley vs Benje Orozco Jr.
END:VALARM
END:VEVENT
BEGIN:VEVENT
UID:mpy-561052@ygametime.com
DTSTAMP:Z
DTSTART;TZID=America/Los Angeles:20251018T100000
DURATION:PT0H60M0S
SUMMARY:Benje Orozco Jr. vs David Bradley
DESCRIPTION:1&2 Grade Co-ed | Fall Soccer\nWithnell Family YMCA\n
URL;VALUE=URI:https://ygametime.com/branch/mpy/sports/2025-fall-fall-soccer/23855/?utm_medium=calendar&utm_source=team_cal&utm_content=league_url#game-561052
LOCATION:Keizer Rapids Park: Soccer Field One
BEGIN:VALARM
TRIGGER:-P2H
ACTION:DISPLAY
DESCRIPTION:Benje Orozco Jr. vs David Bradley
END:VALARM
END:VEVENT
END:VCALENDAR

