BEGIN:VCALENDAR
VERSION:2.0
PRODID:-//YGAMETIME.com//YGT iCal Creator//EN
METHOD:PUBLISH
X-PUBLISHED-TTL:PT6H
REFRESH-INTERVAL;VALUE=DURATION:PT6H
CALSCALE:GREGORIAN
X-WR-CALNAME:YGAMETIME CALENDAR
BEGIN:VEVENT
UID:mpy-561152@ygametime.com
DTSTAMP:Z
DTSTART;TZID=America/Los Angeles:20250913T093000
DURATION:PT0H60M0S
SUMMARY:Chris McCoy & Darrel Catchings vs Tyler Clemens
DESCRIPTION:3&4 Grade Co-Ed | Fall Football\nWithnell Family YMCA\n
URL;VALUE=URI:https://ygametime.com/branch/mpy/sports/2025-fall-fall-football/23849/?utm_medium=calendar&utm_source=team_cal&utm_content=league_url#game-561152
LOCATION:Keizer Rapids Park: Football Field Two
BEGIN:VALARM
TRIGGER:-P2H
ACTION:DISPLAY
DESCRIPTION:Chris McCoy & Darrel Catchings vs Tyler Clemens
END:VALARM
END:VEVENT
BEGIN:VEVENT
UID:mpy-561153@ygametime.com
DTSTAMP:Z
DTSTART;TZID=America/Los Angeles:20250920T103000
DURATION:PT0H60M0S
SUMMARY:Tyler Clemens vs Mount Angel - Blue
DESCRIPTION:3&4 Grade Co-Ed | Fall Football\nWithnell Family YMCA\n
URL;VALUE=URI:https://ygametime.com/branch/mpy/sports/2025-fall-fall-football/23849/?utm_medium=calendar&utm_source=team_cal&utm_content=league_url#game-561153
LOCATION:Kennedy HS Football Field
BEGIN:VALARM
TRIGGER:-P2H
ACTION:DISPLAY
DESCRIPTION:Tyler Clemens vs Mount Angel - Blue
END:VALARM
END:VEVENT
BEGIN:VEVENT
UID:mpy-560978@ygametime.com
DTSTAMP:Z
DTSTART;TZID=America/Los Angeles:20250927T110000
DURATION:PT0H60M0S
SUMMARY:Tyler Clemens vs SF - Davis 1
DESCRIPTION:3&4 Grade Co-Ed | Fall Football\nWithnell Family YMCA\n
URL;VALUE=URI:https://ygametime.com/branch/mpy/sports/2025-fall-fall-football/23849/?utm_medium=calendar&utm_source=team_cal&utm_content=league_url#game-560978
LOCATION:Robert Frost Elementary
BEGIN:VALARM
TRIGGER:-P2H
ACTION:DISPLAY
DESCRIPTION:Tyler Clemens vs SF - Davis 1
END:VALARM
END:VEVENT
BEGIN:VEVENT
UID:mpy-561160@ygametime.com
DTSTAMP:Z
DTSTART;TZID=America/Los Angeles:20251004T120000
DURATION:PT0H60M0S
SUMMARY:SF - Davis 2 vs Tyler Clemens
DESCRIPTION:3&4 Grade Co-Ed | Fall Football\nWithnell Family YMCA\n
URL;VALUE=URI:https://ygametime.com/branch/mpy/sports/2025-fall-fall-football/23849/?utm_medium=calendar&utm_source=team_cal&utm_content=league_url#game-561160
LOCATION:Robert Frost Elementary
BEGIN:VALARM
TRIGGER:-P2H
ACTION:DISPLAY
DESCRIPTION:SF - Davis 2 vs Tyler Clemens
END:VALARM
END:VEVENT
BEGIN:VEVENT
UID:mpy-560982@ygametime.com
DTSTAMP:Z
DTSTART;TZID=America/Los Angeles:20251011T083000
DURATION:PT0H60M0S
SUMMARY:Tyler Clemens vs -
DESCRIPTION:3&4 Grade Co-Ed | Fall Football\nWithnell Family YMCA\n
URL;VALUE=URI:https://ygametime.com/branch/mpy/sports/2025-fall-fall-football/23849/?utm_medium=calendar&utm_source=team_cal&utm_content=league_url#game-560982
LOCATION:Keizer Rapids Park: Football Field Two
BEGIN:VALARM
TRIGGER:-P2H
ACTION:DISPLAY
DESCRIPTION:Tyler Clemens vs -
END:VALARM
END:VEVENT
BEGIN:VEVENT
UID:mpy-561298@ygametime.com
DTSTAMP:Z
DTSTART;TZID=America/Los Angeles:20251018T083000
DURATION:PT0H60M0S
SUMMARY:Tyler Clemens vs -
DESCRIPTION:3&4 Grade Co-Ed | Fall Football\nWithnell Family YMCA\n
URL;VALUE=URI:https://ygametime.com/branch/mpy/sports/2025-fall-fall-football/23849/?utm_medium=calendar&utm_source=team_cal&utm_content=league_url#game-561298
LOCATION:Keizer Rapids Park: Football Field Two
BEGIN:VALARM
TRIGGER:-P2H
ACTION:DISPLAY
DESCRIPTION:Tyler Clemens vs -
END:VALARM
END:VEVENT
END:VCALENDAR

