BEGIN:VCALENDAR
VERSION:2.0
PRODID:-//YGAMETIME.com//YGT iCal Creator//EN
METHOD:PUBLISH
X-PUBLISHED-TTL:PT6H
REFRESH-INTERVAL;VALUE=DURATION:PT6H
CALSCALE:GREGORIAN
X-WR-CALNAME:YGAMETIME CALENDAR
BEGIN:VEVENT
UID:mpy-561164@ygametime.com
DTSTAMP:Z
DTSTART;TZID=America/Los Angeles:20250913T130000
DURATION:PT0H60M0S
SUMMARY:Anthony Valdez vs SF - Baldridge
DESCRIPTION:5&6 Grade Co-Ed | Fall Football\nWithnell Family YMCA\n
URL;VALUE=URI:https://ygametime.com/branch/mpy/sports/2025-fall-fall-football/23850/?utm_medium=calendar&utm_source=team_cal&utm_content=league_url#game-561164
LOCATION:Robert Frost Elementary
BEGIN:VALARM
TRIGGER:-P2H
ACTION:DISPLAY
DESCRIPTION:Anthony Valdez vs SF - Baldridge
END:VALARM
END:VEVENT
BEGIN:VEVENT
UID:mpy-561169@ygametime.com
DTSTAMP:Z
DTSTART;TZID=America/Los Angeles:20250920T103000
DURATION:PT0H60M0S
SUMMARY:MIY Dennis vs Anthony Valdez
DESCRIPTION:5&6 Grade Co-Ed | Fall Football\nWithnell Family YMCA\n
URL;VALUE=URI:https://ygametime.com/branch/mpy/sports/2025-fall-fall-football/23850/?utm_medium=calendar&utm_source=team_cal&utm_content=league_url#game-561169
LOCATION:Ash Creek Elementary
BEGIN:VALARM
TRIGGER:-P2H
ACTION:DISPLAY
DESCRIPTION:MIY Dennis vs Anthony Valdez
END:VALARM
END:VEVENT
BEGIN:VEVENT
UID:mpy-561171@ygametime.com
DTSTAMP:Z
DTSTART;TZID=America/Los Angeles:20250927T103000
DURATION:PT0H60M0S
SUMMARY:Anthony Valdez vs Scott McLean & Tom Wells (Buccaneers)
DESCRIPTION:5&6 Grade Co-Ed | Fall Football\nWithnell Family YMCA\n
URL;VALUE=URI:https://ygametime.com/branch/mpy/sports/2025-fall-fall-football/23850/?utm_medium=calendar&utm_source=team_cal&utm_content=league_url#game-561171
LOCATION:Keizer Rapids Park: Football Field Three
BEGIN:VALARM
TRIGGER:-P2H
ACTION:DISPLAY
DESCRIPTION:Anthony Valdez vs Scott McLean & Tom Wells (Buccaneers)
END:VALARM
END:VEVENT
BEGIN:VEVENT
UID:mpy-561176@ygametime.com
DTSTAMP:Z
DTSTART;TZID=America/Los Angeles:20251004T130000
DURATION:PT0H60M0S
SUMMARY:SF - Saturn vs Anthony Valdez
DESCRIPTION:5&6 Grade Co-Ed | Fall Football\nWithnell Family YMCA\n
URL;VALUE=URI:https://ygametime.com/branch/mpy/sports/2025-fall-fall-football/23850/?utm_medium=calendar&utm_source=team_cal&utm_content=league_url#game-561176
LOCATION:Robert Frost Elementary
BEGIN:VALARM
TRIGGER:-P2H
ACTION:DISPLAY
DESCRIPTION:SF - Saturn vs Anthony Valdez
END:VALARM
END:VEVENT
BEGIN:VEVENT
UID:mpy-561181@ygametime.com
DTSTAMP:Z
DTSTART;TZID=America/Los Angeles:20251011T103000
DURATION:PT0H60M0S
SUMMARY:Anthony Valdez vs MIY Dennis
DESCRIPTION:5&6 Grade Co-Ed | Fall Football\nWithnell Family YMCA\n
URL;VALUE=URI:https://ygametime.com/branch/mpy/sports/2025-fall-fall-football/23850/?utm_medium=calendar&utm_source=team_cal&utm_content=league_url#game-561181
LOCATION:Keizer Rapids Park: Football Field Four
BEGIN:VALARM
TRIGGER:-P2H
ACTION:DISPLAY
DESCRIPTION:Anthony Valdez vs MIY Dennis
END:VALARM
END:VEVENT
BEGIN:VEVENT
UID:mpy-561183@ygametime.com
DTSTAMP:Z
DTSTART;TZID=America/Los Angeles:20251018T103000
DURATION:PT0H60M0S
SUMMARY:Bryce Williams vs Anthony Valdez
DESCRIPTION:5&6 Grade Co-Ed | Fall Football\nWithnell Family YMCA\n
URL;VALUE=URI:https://ygametime.com/branch/mpy/sports/2025-fall-fall-football/23850/?utm_medium=calendar&utm_source=team_cal&utm_content=league_url#game-561183
LOCATION:Keizer Rapids Park: Football Field Four
BEGIN:VALARM
TRIGGER:-P2H
ACTION:DISPLAY
DESCRIPTION:Bryce Williams vs Anthony Valdez
END:VALARM
END:VEVENT
END:VCALENDAR

