BEGIN:VCALENDAR
VERSION:2.0
PRODID:-//YGAMETIME.com//YGT iCal Creator//EN
METHOD:PUBLISH
X-PUBLISHED-TTL:PT6H
REFRESH-INTERVAL;VALUE=DURATION:PT6H
CALSCALE:GREGORIAN
X-WR-CALNAME:YGAMETIME CALENDAR
BEGIN:VEVENT
UID:mpy-561162@ygametime.com
DTSTAMP:Z
DTSTART;TZID=America/Los Angeles:20250913T113000
DURATION:PT0H60M0S
SUMMARY:Woodburn vs Bryce Williams
DESCRIPTION:5&6 Grade Co-Ed | Fall Football\nWithnell Family YMCA\n
URL;VALUE=URI:https://ygametime.com/branch/mpy/sports/2025-fall-fall-football/23850/?utm_medium=calendar&utm_source=team_cal&utm_content=league_url#game-561162
LOCATION:Keizer Rapids Park: Football Field Four
BEGIN:VALARM
TRIGGER:-P2H
ACTION:DISPLAY
DESCRIPTION:Woodburn vs Bryce Williams
END:VALARM
END:VEVENT
BEGIN:VEVENT
UID:mpy-561166@ygametime.com
DTSTAMP:Z
DTSTART;TZID=America/Los Angeles:20250920T103000
DURATION:PT0H60M0S
SUMMARY:Scott McLean & Tom Wells (Buccaneers) vs Woodburn
DESCRIPTION:5&6 Grade Co-Ed | Fall Football\nWithnell Family YMCA\n
URL;VALUE=URI:https://ygametime.com/branch/mpy/sports/2025-fall-fall-football/23850/?utm_medium=calendar&utm_source=team_cal&utm_content=league_url#game-561166
LOCATION:Keizer Rapids Park: Football Field Three
BEGIN:VALARM
TRIGGER:-P2H
ACTION:DISPLAY
DESCRIPTION:Scott McLean & Tom Wells (Buccaneers) vs Woodburn
END:VALARM
END:VEVENT
BEGIN:VEVENT
UID:mpy-561170@ygametime.com
DTSTAMP:Z
DTSTART;TZID=America/Los Angeles:20250927T103000
DURATION:PT0H60M0S
SUMMARY:Woodburn vs MIY Dennis
DESCRIPTION:5&6 Grade Co-Ed | Fall Football\nWithnell Family YMCA\n
URL;VALUE=URI:https://ygametime.com/branch/mpy/sports/2025-fall-fall-football/23850/?utm_medium=calendar&utm_source=team_cal&utm_content=league_url#game-561170
LOCATION:Keizer Rapids Park: Football Field Four
BEGIN:VALARM
TRIGGER:-P2H
ACTION:DISPLAY
DESCRIPTION:Woodburn vs MIY Dennis
END:VALARM
END:VEVENT
BEGIN:VEVENT
UID:mpy-561174@ygametime.com
DTSTAMP:Z
DTSTART;TZID=America/Los Angeles:20251004T103000
DURATION:PT0H60M0S
SUMMARY:Scott McLean & Tom Wells (Buccaneers) vs Woodburn
DESCRIPTION:5&6 Grade Co-Ed | Fall Football\nWithnell Family YMCA\n
URL;VALUE=URI:https://ygametime.com/branch/mpy/sports/2025-fall-fall-football/23850/?utm_medium=calendar&utm_source=team_cal&utm_content=league_url#game-561174
LOCATION:Keizer Rapids Park: Football Field Two
BEGIN:VALARM
TRIGGER:-P2H
ACTION:DISPLAY
DESCRIPTION:Scott McLean & Tom Wells (Buccaneers) vs Woodburn
END:VALARM
END:VEVENT
BEGIN:VEVENT
UID:mpy-561180@ygametime.com
DTSTAMP:Z
DTSTART;TZID=America/Los Angeles:20251011T110000
DURATION:PT0H60M0S
SUMMARY:Woodburn vs SF - Saturn
DESCRIPTION:5&6 Grade Co-Ed | Fall Football\nWithnell Family YMCA\n
URL;VALUE=URI:https://ygametime.com/branch/mpy/sports/2025-fall-fall-football/23850/?utm_medium=calendar&utm_source=team_cal&utm_content=league_url#game-561180
LOCATION:Robert Frost Elementary
BEGIN:VALARM
TRIGGER:-P2H
ACTION:DISPLAY
DESCRIPTION:Woodburn vs SF - Saturn
END:VALARM
END:VEVENT
BEGIN:VEVENT
UID:mpy-561361@ygametime.com
DTSTAMP:Z
DTSTART;TZID=America/Los Angeles:20251018T140000
DURATION:PT0H60M0S
SUMMARY:SF - Saturn vs Woodburn
DESCRIPTION:5&6 Grade Co-Ed | Fall Football\nWithnell Family YMCA\n
URL;VALUE=URI:https://ygametime.com/branch/mpy/sports/2025-fall-fall-football/23850/?utm_medium=calendar&utm_source=team_cal&utm_content=league_url#game-561361
LOCATION:Robert Frost Elementary
BEGIN:VALARM
TRIGGER:-P2H
ACTION:DISPLAY
DESCRIPTION:SF - Saturn vs Woodburn
END:VALARM
END:VEVENT
END:VCALENDAR

