BEGIN:VCALENDAR
VERSION:2.0
PRODID:-//YGAMETIME.com//YGT iCal Creator//EN
METHOD:PUBLISH
X-PUBLISHED-TTL:PT6H
REFRESH-INTERVAL;VALUE=DURATION:PT6H
CALSCALE:GREGORIAN
X-WR-CALNAME:YGAMETIME CALENDAR
BEGIN:VEVENT
UID:mpy-561164@ygametime.com
DTSTAMP:Z
DTSTART;TZID=America/Los Angeles:20250913T130000
DURATION:PT0H60M0S
SUMMARY:Anthony Valdez vs SF - Baldridge
DESCRIPTION:5&6 Grade Co-Ed | Fall Football\nWithnell Family YMCA\n
URL;VALUE=URI:https://ygametime.com/branch/mpy/sports/2025-fall-fall-football/23850/?utm_medium=calendar&utm_source=team_cal&utm_content=league_url#game-561164
LOCATION:Robert Frost Elementary
BEGIN:VALARM
TRIGGER:-P2H
ACTION:DISPLAY
DESCRIPTION:Anthony Valdez vs SF - Baldridge
END:VALARM
END:VEVENT
BEGIN:VEVENT
UID:mpy-561168@ygametime.com
DTSTAMP:Z
DTSTART;TZID=America/Los Angeles:20250920T100000
DURATION:PT0H60M0S
SUMMARY:Bryce Williams vs SF - Baldridge
DESCRIPTION:5&6 Grade Co-Ed | Fall Football\nWithnell Family YMCA\n
URL;VALUE=URI:https://ygametime.com/branch/mpy/sports/2025-fall-fall-football/23850/?utm_medium=calendar&utm_source=team_cal&utm_content=league_url#game-561168
LOCATION:Robert Frost Elementary
BEGIN:VALARM
TRIGGER:-P2H
ACTION:DISPLAY
DESCRIPTION:Bryce Williams vs SF - Baldridge
END:VALARM
END:VEVENT
BEGIN:VEVENT
UID:mpy-561173@ygametime.com
DTSTAMP:Z
DTSTART;TZID=America/Los Angeles:20250927T130000
DURATION:PT0H60M0S
SUMMARY:SF - Baldridge vs SF - Saturn
DESCRIPTION:5&6 Grade Co-Ed | Fall Football\nWithnell Family YMCA\n
URL;VALUE=URI:https://ygametime.com/branch/mpy/sports/2025-fall-fall-football/23850/?utm_medium=calendar&utm_source=team_cal&utm_content=league_url#game-561173
LOCATION:Robert Frost Elementary
BEGIN:VALARM
TRIGGER:-P2H
ACTION:DISPLAY
DESCRIPTION:SF - Baldridge vs SF - Saturn
END:VALARM
END:VEVENT
BEGIN:VEVENT
UID:mpy-561172@ygametime.com
DTSTAMP:Z
DTSTART;TZID=America/Los Angeles:20250927T140000
DURATION:PT0H60M0S
SUMMARY:SF - Baldridge vs Bryce Williams
DESCRIPTION:5&6 Grade Co-Ed | Fall Football\nWithnell Family YMCA\n
URL;VALUE=URI:https://ygametime.com/branch/mpy/sports/2025-fall-fall-football/23850/?utm_medium=calendar&utm_source=team_cal&utm_content=league_url#game-561172
LOCATION:Robert Frost Elementary
BEGIN:VALARM
TRIGGER:-P2H
ACTION:DISPLAY
DESCRIPTION:SF - Baldridge vs Bryce Williams
END:VALARM
END:VEVENT
BEGIN:VEVENT
UID:mpy-561175@ygametime.com
DTSTAMP:Z
DTSTART;TZID=America/Los Angeles:20251004T103000
DURATION:PT0H60M0S
SUMMARY:MIY Dennis vs SF - Baldridge
DESCRIPTION:5&6 Grade Co-Ed | Fall Football\nWithnell Family YMCA\n
URL;VALUE=URI:https://ygametime.com/branch/mpy/sports/2025-fall-fall-football/23850/?utm_medium=calendar&utm_source=team_cal&utm_content=league_url#game-561175
LOCATION:Keizer Rapids Park: Football Field Three
BEGIN:VALARM
TRIGGER:-P2H
ACTION:DISPLAY
DESCRIPTION:MIY Dennis vs SF - Baldridge
END:VALARM
END:VEVENT
BEGIN:VEVENT
UID:mpy-561179@ygametime.com
DTSTAMP:Z
DTSTART;TZID=America/Los Angeles:20251011T113000
DURATION:PT0H60M0S
SUMMARY:SF - Baldridge vs Scott McLean & Tom Wells (Buccaneers)
DESCRIPTION:5&6 Grade Co-Ed | Fall Football\nWithnell Family YMCA\n
URL;VALUE=URI:https://ygametime.com/branch/mpy/sports/2025-fall-fall-football/23850/?utm_medium=calendar&utm_source=team_cal&utm_content=league_url#game-561179
LOCATION:Keizer Rapids Park: Football Field One
BEGIN:VALARM
TRIGGER:-P2H
ACTION:DISPLAY
DESCRIPTION:SF - Baldridge vs Scott McLean & Tom Wells (Buccaneers)
END:VALARM
END:VEVENT
BEGIN:VEVENT
UID:mpy-561182@ygametime.com
DTSTAMP:Z
DTSTART;TZID=America/Los Angeles:20251018T130000
DURATION:PT0H60M0S
SUMMARY:SF - Saturn vs SF - Baldridge
DESCRIPTION:5&6 Grade Co-Ed | Fall Football\nWithnell Family YMCA\n
URL;VALUE=URI:https://ygametime.com/branch/mpy/sports/2025-fall-fall-football/23850/?utm_medium=calendar&utm_source=team_cal&utm_content=league_url#game-561182
LOCATION:Robert Frost Elementary
BEGIN:VALARM
TRIGGER:-P2H
ACTION:DISPLAY
DESCRIPTION:SF - Saturn vs SF - Baldridge
END:VALARM
END:VEVENT
END:VCALENDAR

